BEGIN:VCALENDAR
VERSION:2.0
PRODID:-//Grunthal Evangelical Bible Church - ECPv6.15.20//NONSGML v1.0//EN
CALSCALE:GREGORIAN
METHOD:PUBLISH
X-ORIGINAL-URL:https://grunthalebc.ca
X-WR-CALDESC:Events for Grunthal Evangelical Bible Church
REFRESH-INTERVAL;VALUE=DURATION:PT1H
X-Robots-Tag:noindex
X-PUBLISHED-TTL:PT1H
BEGIN:VTIMEZONE
TZID:UTC
BEGIN:STANDARD
TZOFFSETFROM:+0000
TZOFFSETTO:+0000
TZNAME:UTC
DTSTART:20300101T000000
END:STANDARD
END:VTIMEZONE
BEGIN:VEVENT
DTSTART;TZID=UTC:20310303T203000
DTEND;TZID=UTC:20310303T223000
DTSTAMP:20260424T153115
CREATED:20250919T144433Z
LAST-MODIFIED:20251218T153448Z
UID:10007661-1930336200-1930343400@grunthalebc.ca
SUMMARY:Men's Bible Study
DESCRIPTION:All men are invited for a Bible study! It’s a great time to connect and dive deeper into God’s Word.
URL:https://grunthalebc.ca/event/mens-bible-study/2031-03-03/
LOCATION:Manitoba
END:VEVENT
BEGIN:VEVENT
DTSTART;TZID=UTC:20310305T100000
DTEND;TZID=UTC:20310305T113000
DTSTAMP:20260424T153115
CREATED:20250605T164059Z
LAST-MODIFIED:20251218T153852Z
UID:10007664-1930471200-1930476600@grunthalebc.ca
SUMMARY:55+ Coffee & Fellowship
DESCRIPTION:Join us at church if you’re 55+ for coffee and fellowship!
URL:https://grunthalebc.ca/event/55-coffee-fellowship/2031-03-05/
LOCATION:Grunthal EBC\, 84 Oak Ave\, Grunthal\, Manitoba\, Canada
END:VEVENT
BEGIN:VEVENT
DTSTART;TZID=UTC:20310306T190000
DTEND;TZID=UTC:20310306T204500
DTSTAMP:20260424T153115
CREATED:20260226T211142Z
LAST-MODIFIED:20260226T211518Z
UID:10007672-1930590000-1930596300@grunthalebc.ca
SUMMARY:Junior Youth
DESCRIPTION:Grade 7-9 youth night! Games\, a devotional and snacks. Pick up at 8:45pm.
URL:https://grunthalebc.ca/event/junior-youth-2/2031-03-06/
LOCATION:Grunthal EBC\, 84 Oak Ave\, Grunthal\, Manitoba\, Canada
END:VEVENT
BEGIN:VEVENT
DTSTART;TZID=UTC:20310307T093000
DTEND;TZID=UTC:20310307T110000
DTSTAMP:20260424T153115
CREATED:20260106T194428Z
LAST-MODIFIED:20260106T194429Z
UID:10007665-1930642200-1930647600@grunthalebc.ca
SUMMARY:Women's Bible Study
DESCRIPTION:Join Beth Fast as she takes us through God’s Word. Babysitting is available! \n 
URL:https://grunthalebc.ca/event/womens-bible-study-2/2031-03-07/
LOCATION:Grunthal EBC\, 84 Oak Ave\, Grunthal\, Manitoba\, Canada
END:VEVENT
BEGIN:VEVENT
DTSTART;TZID=UTC:20310307T193000
DTEND;TZID=UTC:20310307T220000
DTSTAMP:20260424T153115
CREATED:20260226T211214Z
LAST-MODIFIED:20260226T211214Z
UID:10007684-1930678200-1930687200@grunthalebc.ca
SUMMARY:Senior Youth
DESCRIPTION:Grade 10-12 youth night! Games\, a devotional and snack. Pick up at 10 pm.
URL:https://grunthalebc.ca/event/senior-youth-2/2031-03-07/
LOCATION:Grunthal EBC\, 84 Oak Ave\, Grunthal\, Manitoba\, Canada
END:VEVENT
BEGIN:VEVENT
DTSTART;TZID=UTC:20310310T203000
DTEND;TZID=UTC:20310310T223000
DTSTAMP:20260424T153115
CREATED:20250919T144433Z
LAST-MODIFIED:20251218T153448Z
UID:10007663-1930941000-1930948200@grunthalebc.ca
SUMMARY:Men's Bible Study
DESCRIPTION:All men are invited for a Bible study! It’s a great time to connect and dive deeper into God’s Word.
URL:https://grunthalebc.ca/event/mens-bible-study/2031-03-10/
LOCATION:Manitoba
END:VEVENT
BEGIN:VEVENT
DTSTART;TZID=UTC:20310312T100000
DTEND;TZID=UTC:20310312T113000
DTSTAMP:20260424T153115
CREATED:20250605T164059Z
LAST-MODIFIED:20251218T153852Z
UID:10007667-1931076000-1931081400@grunthalebc.ca
SUMMARY:55+ Coffee & Fellowship
DESCRIPTION:Join us at church if you’re 55+ for coffee and fellowship!
URL:https://grunthalebc.ca/event/55-coffee-fellowship/2031-03-12/
LOCATION:Grunthal EBC\, 84 Oak Ave\, Grunthal\, Manitoba\, Canada
END:VEVENT
BEGIN:VEVENT
DTSTART;TZID=UTC:20310313T190000
DTEND;TZID=UTC:20310313T204500
DTSTAMP:20260424T153115
CREATED:20260226T211142Z
LAST-MODIFIED:20260226T211518Z
UID:10007673-1931194800-1931201100@grunthalebc.ca
SUMMARY:Junior Youth
DESCRIPTION:Grade 7-9 youth night! Games\, a devotional and snacks. Pick up at 8:45pm.
URL:https://grunthalebc.ca/event/junior-youth-2/2031-03-13/
LOCATION:Grunthal EBC\, 84 Oak Ave\, Grunthal\, Manitoba\, Canada
END:VEVENT
BEGIN:VEVENT
DTSTART;TZID=UTC:20310313T190000
DTEND;TZID=UTC:20310313T210000
DTSTAMP:20260424T153115
CREATED:20250925T185237Z
LAST-MODIFIED:20251209T171314Z
UID:10007668-1931194800-1931202000@grunthalebc.ca
SUMMARY:College & Career
DESCRIPTION:All young adults are welcome to join us for a Bible Study and fellowship!
URL:https://grunthalebc.ca/event/college-career/2031-03-13/
LOCATION:Grunthal EBC\, 84 Oak Ave\, Grunthal\, Manitoba\, Canada
END:VEVENT
BEGIN:VEVENT
DTSTART;TZID=UTC:20310314T193000
DTEND;TZID=UTC:20310314T220000
DTSTAMP:20260424T153115
CREATED:20260226T211214Z
LAST-MODIFIED:20260226T211214Z
UID:10007685-1931283000-1931292000@grunthalebc.ca
SUMMARY:Senior Youth
DESCRIPTION:Grade 10-12 youth night! Games\, a devotional and snack. Pick up at 10 pm.
URL:https://grunthalebc.ca/event/senior-youth-2/2031-03-14/
LOCATION:Grunthal EBC\, 84 Oak Ave\, Grunthal\, Manitoba\, Canada
END:VEVENT
BEGIN:VEVENT
DTSTART;TZID=UTC:20310317T203000
DTEND;TZID=UTC:20310317T223000
DTSTAMP:20260424T153115
CREATED:20250919T144433Z
LAST-MODIFIED:20251218T153448Z
UID:10007666-1931545800-1931553000@grunthalebc.ca
SUMMARY:Men's Bible Study
DESCRIPTION:All men are invited for a Bible study! It’s a great time to connect and dive deeper into God’s Word.
URL:https://grunthalebc.ca/event/mens-bible-study/2031-03-17/
LOCATION:Manitoba
END:VEVENT
BEGIN:VEVENT
DTSTART;TZID=UTC:20310319T100000
DTEND;TZID=UTC:20310319T113000
DTSTAMP:20260424T153115
CREATED:20250605T164059Z
LAST-MODIFIED:20251218T153852Z
UID:10007670-1931680800-1931686200@grunthalebc.ca
SUMMARY:55+ Coffee & Fellowship
DESCRIPTION:Join us at church if you’re 55+ for coffee and fellowship!
URL:https://grunthalebc.ca/event/55-coffee-fellowship/2031-03-19/
LOCATION:Grunthal EBC\, 84 Oak Ave\, Grunthal\, Manitoba\, Canada
END:VEVENT
BEGIN:VEVENT
DTSTART;TZID=UTC:20310320T190000
DTEND;TZID=UTC:20310320T204500
DTSTAMP:20260424T153115
CREATED:20260226T211142Z
LAST-MODIFIED:20260226T211518Z
UID:10007674-1931799600-1931805900@grunthalebc.ca
SUMMARY:Junior Youth
DESCRIPTION:Grade 7-9 youth night! Games\, a devotional and snacks. Pick up at 8:45pm.
URL:https://grunthalebc.ca/event/junior-youth-2/2031-03-20/
LOCATION:Grunthal EBC\, 84 Oak Ave\, Grunthal\, Manitoba\, Canada
END:VEVENT
BEGIN:VEVENT
DTSTART;TZID=UTC:20310321T093000
DTEND;TZID=UTC:20310321T110000
DTSTAMP:20260424T153115
CREATED:20260106T194428Z
LAST-MODIFIED:20260106T194429Z
UID:10007676-1931851800-1931857200@grunthalebc.ca
SUMMARY:Women's Bible Study
DESCRIPTION:Join Beth Fast as she takes us through God’s Word. Babysitting is available! \n 
URL:https://grunthalebc.ca/event/womens-bible-study-2/2031-03-21/
LOCATION:Grunthal EBC\, 84 Oak Ave\, Grunthal\, Manitoba\, Canada
END:VEVENT
BEGIN:VEVENT
DTSTART;TZID=UTC:20310321T193000
DTEND;TZID=UTC:20310321T220000
DTSTAMP:20260424T153115
CREATED:20260226T211214Z
LAST-MODIFIED:20260226T211214Z
UID:10007686-1931887800-1931896800@grunthalebc.ca
SUMMARY:Senior Youth
DESCRIPTION:Grade 10-12 youth night! Games\, a devotional and snack. Pick up at 10 pm.
URL:https://grunthalebc.ca/event/senior-youth-2/2031-03-21/
LOCATION:Grunthal EBC\, 84 Oak Ave\, Grunthal\, Manitoba\, Canada
END:VEVENT
BEGIN:VEVENT
DTSTART;TZID=UTC:20310324T203000
DTEND;TZID=UTC:20310324T223000
DTSTAMP:20260424T153115
CREATED:20250919T144433Z
LAST-MODIFIED:20251218T153448Z
UID:10007669-1932150600-1932157800@grunthalebc.ca
SUMMARY:Men's Bible Study
DESCRIPTION:All men are invited for a Bible study! It’s a great time to connect and dive deeper into God’s Word.
URL:https://grunthalebc.ca/event/mens-bible-study/2031-03-24/
LOCATION:Manitoba
END:VEVENT
BEGIN:VEVENT
DTSTART;TZID=UTC:20310326T100000
DTEND;TZID=UTC:20310326T113000
DTSTAMP:20260424T153115
CREATED:20250605T164059Z
LAST-MODIFIED:20251218T153852Z
UID:10007679-1932285600-1932291000@grunthalebc.ca
SUMMARY:55+ Coffee & Fellowship
DESCRIPTION:Join us at church if you’re 55+ for coffee and fellowship!
URL:https://grunthalebc.ca/event/55-coffee-fellowship/2031-03-26/
LOCATION:Grunthal EBC\, 84 Oak Ave\, Grunthal\, Manitoba\, Canada
END:VEVENT
BEGIN:VEVENT
DTSTART;TZID=UTC:20310327T190000
DTEND;TZID=UTC:20310327T204500
DTSTAMP:20260424T153115
CREATED:20260226T211142Z
LAST-MODIFIED:20260226T211518Z
UID:10007675-1932404400-1932410700@grunthalebc.ca
SUMMARY:Junior Youth
DESCRIPTION:Grade 7-9 youth night! Games\, a devotional and snacks. Pick up at 8:45pm.
URL:https://grunthalebc.ca/event/junior-youth-2/2031-03-27/
LOCATION:Grunthal EBC\, 84 Oak Ave\, Grunthal\, Manitoba\, Canada
END:VEVENT
BEGIN:VEVENT
DTSTART;TZID=UTC:20310327T190000
DTEND;TZID=UTC:20310327T210000
DTSTAMP:20260424T153115
CREATED:20250925T185237Z
LAST-MODIFIED:20251209T171314Z
UID:10007682-1932404400-1932411600@grunthalebc.ca
SUMMARY:College & Career
DESCRIPTION:All young adults are welcome to join us for a Bible Study and fellowship!
URL:https://grunthalebc.ca/event/college-career/2031-03-27/
LOCATION:Grunthal EBC\, 84 Oak Ave\, Grunthal\, Manitoba\, Canada
END:VEVENT
BEGIN:VEVENT
DTSTART;TZID=UTC:20310328T193000
DTEND;TZID=UTC:20310328T220000
DTSTAMP:20260424T153115
CREATED:20260226T211214Z
LAST-MODIFIED:20260226T211214Z
UID:10007687-1932492600-1932501600@grunthalebc.ca
SUMMARY:Senior Youth
DESCRIPTION:Grade 10-12 youth night! Games\, a devotional and snack. Pick up at 10 pm.
URL:https://grunthalebc.ca/event/senior-youth-2/2031-03-28/
LOCATION:Grunthal EBC\, 84 Oak Ave\, Grunthal\, Manitoba\, Canada
END:VEVENT
BEGIN:VEVENT
DTSTART;TZID=UTC:20310331T203000
DTEND;TZID=UTC:20310331T223000
DTSTAMP:20260424T153115
CREATED:20250919T144433Z
LAST-MODIFIED:20251218T153448Z
UID:10007678-1932755400-1932762600@grunthalebc.ca
SUMMARY:Men's Bible Study
DESCRIPTION:All men are invited for a Bible study! It’s a great time to connect and dive deeper into God’s Word.
URL:https://grunthalebc.ca/event/mens-bible-study/2031-03-31/
LOCATION:Manitoba
END:VEVENT
END:VCALENDAR