BEGIN:VCALENDAR
VERSION:2.0
PRODID:-//Grunthal Evangelical Bible Church - ECPv6.15.20//NONSGML v1.0//EN
CALSCALE:GREGORIAN
METHOD:PUBLISH
X-ORIGINAL-URL:https://grunthalebc.ca
X-WR-CALDESC:Events for Grunthal Evangelical Bible Church
REFRESH-INTERVAL;VALUE=DURATION:PT1H
X-Robots-Tag:noindex
X-PUBLISHED-TTL:PT1H
BEGIN:VTIMEZONE
TZID:UTC
BEGIN:STANDARD
TZOFFSETFROM:+0000
TZOFFSETTO:+0000
TZNAME:UTC
DTSTART:20290101T000000
END:STANDARD
END:VTIMEZONE
BEGIN:VEVENT
DTSTART;TZID=UTC:20301101T093000
DTEND;TZID=UTC:20301101T110000
DTSTAMP:20260424T085932
CREATED:20260106T194428Z
LAST-MODIFIED:20260106T194429Z
UID:10007612-1919755800-1919761200@grunthalebc.ca
SUMMARY:Women's Bible Study
DESCRIPTION:Join Beth Fast as she takes us through God’s Word. Babysitting is available! \n 
URL:https://grunthalebc.ca/event/womens-bible-study-2/2030-11-01/
LOCATION:Grunthal EBC\, 84 Oak Ave\, Grunthal\, Manitoba\, Canada
END:VEVENT
BEGIN:VEVENT
DTSTART;TZID=UTC:20301101T193000
DTEND;TZID=UTC:20301101T220000
DTSTAMP:20260424T085932
CREATED:20260226T211214Z
LAST-MODIFIED:20260226T211214Z
UID:10007448-1919791800-1919800800@grunthalebc.ca
SUMMARY:Senior Youth
DESCRIPTION:Grade 10-12 youth night! Games\, a devotional and snack. Pick up at 10 pm.
URL:https://grunthalebc.ca/event/senior-youth-2/2030-11-01/
LOCATION:Grunthal EBC\, 84 Oak Ave\, Grunthal\, Manitoba\, Canada
END:VEVENT
BEGIN:VEVENT
DTSTART;TZID=UTC:20301104T203000
DTEND;TZID=UTC:20301104T223000
DTSTAMP:20260424T085932
CREATED:20250919T144433Z
LAST-MODIFIED:20251218T153448Z
UID:10007439-1920054600-1920061800@grunthalebc.ca
SUMMARY:Men's Bible Study
DESCRIPTION:All men are invited for a Bible study! It’s a great time to connect and dive deeper into God’s Word.
URL:https://grunthalebc.ca/event/mens-bible-study/2030-11-04/
LOCATION:Manitoba
END:VEVENT
BEGIN:VEVENT
DTSTART;TZID=UTC:20301106T100000
DTEND;TZID=UTC:20301106T113000
DTSTAMP:20260424T085932
CREATED:20250605T164059Z
LAST-MODIFIED:20251218T153852Z
UID:10007440-1920189600-1920195000@grunthalebc.ca
SUMMARY:55+ Coffee & Fellowship
DESCRIPTION:Join us at church if you’re 55+ for coffee and fellowship!
URL:https://grunthalebc.ca/event/55-coffee-fellowship/2030-11-06/
LOCATION:Grunthal EBC\, 84 Oak Ave\, Grunthal\, Manitoba\, Canada
END:VEVENT
BEGIN:VEVENT
DTSTART;TZID=UTC:20301107T190000
DTEND;TZID=UTC:20301107T204500
DTSTAMP:20260424T085932
CREATED:20260226T211142Z
LAST-MODIFIED:20260226T211518Z
UID:10007454-1920308400-1920314700@grunthalebc.ca
SUMMARY:Junior Youth
DESCRIPTION:Grade 7-9 youth night! Games\, a devotional and snacks. Pick up at 8:45pm.
URL:https://grunthalebc.ca/event/junior-youth-2/2030-11-07/
LOCATION:Grunthal EBC\, 84 Oak Ave\, Grunthal\, Manitoba\, Canada
END:VEVENT
BEGIN:VEVENT
DTSTART;TZID=UTC:20301107T190000
DTEND;TZID=UTC:20301107T210000
DTSTAMP:20260424T085932
CREATED:20250925T185237Z
LAST-MODIFIED:20251209T171314Z
UID:10007445-1920308400-1920315600@grunthalebc.ca
SUMMARY:College & Career
DESCRIPTION:All young adults are welcome to join us for a Bible Study and fellowship!
URL:https://grunthalebc.ca/event/college-career/2030-11-07/
LOCATION:Grunthal EBC\, 84 Oak Ave\, Grunthal\, Manitoba\, Canada
END:VEVENT
BEGIN:VEVENT
DTSTART;TZID=UTC:20301108T193000
DTEND;TZID=UTC:20301108T220000
DTSTAMP:20260424T085932
CREATED:20260226T211214Z
LAST-MODIFIED:20260226T211214Z
UID:10007449-1920396600-1920405600@grunthalebc.ca
SUMMARY:Senior Youth
DESCRIPTION:Grade 10-12 youth night! Games\, a devotional and snack. Pick up at 10 pm.
URL:https://grunthalebc.ca/event/senior-youth-2/2030-11-08/
LOCATION:Grunthal EBC\, 84 Oak Ave\, Grunthal\, Manitoba\, Canada
END:VEVENT
BEGIN:VEVENT
DTSTART;TZID=UTC:20301111T203000
DTEND;TZID=UTC:20301111T223000
DTSTAMP:20260424T085932
CREATED:20250919T144433Z
LAST-MODIFIED:20251218T153448Z
UID:10007441-1920659400-1920666600@grunthalebc.ca
SUMMARY:Men's Bible Study
DESCRIPTION:All men are invited for a Bible study! It’s a great time to connect and dive deeper into God’s Word.
URL:https://grunthalebc.ca/event/mens-bible-study/2030-11-11/
LOCATION:Manitoba
END:VEVENT
BEGIN:VEVENT
DTSTART;TZID=UTC:20301113T100000
DTEND;TZID=UTC:20301113T113000
DTSTAMP:20260424T085932
CREATED:20250605T164059Z
LAST-MODIFIED:20251218T153852Z
UID:10007443-1920794400-1920799800@grunthalebc.ca
SUMMARY:55+ Coffee & Fellowship
DESCRIPTION:Join us at church if you’re 55+ for coffee and fellowship!
URL:https://grunthalebc.ca/event/55-coffee-fellowship/2030-11-13/
LOCATION:Grunthal EBC\, 84 Oak Ave\, Grunthal\, Manitoba\, Canada
END:VEVENT
BEGIN:VEVENT
DTSTART;TZID=UTC:20301114T190000
DTEND;TZID=UTC:20301114T204500
DTSTAMP:20260424T085932
CREATED:20260226T211142Z
LAST-MODIFIED:20260226T211518Z
UID:10007455-1920913200-1920919500@grunthalebc.ca
SUMMARY:Junior Youth
DESCRIPTION:Grade 7-9 youth night! Games\, a devotional and snacks. Pick up at 8:45pm.
URL:https://grunthalebc.ca/event/junior-youth-2/2030-11-14/
LOCATION:Grunthal EBC\, 84 Oak Ave\, Grunthal\, Manitoba\, Canada
END:VEVENT
BEGIN:VEVENT
DTSTART;TZID=UTC:20301115T093000
DTEND;TZID=UTC:20301115T110000
DTSTAMP:20260424T085932
CREATED:20260106T194428Z
LAST-MODIFIED:20260106T194429Z
UID:10007613-1920965400-1920970800@grunthalebc.ca
SUMMARY:Women's Bible Study
DESCRIPTION:Join Beth Fast as she takes us through God’s Word. Babysitting is available! \n 
URL:https://grunthalebc.ca/event/womens-bible-study-2/2030-11-15/
LOCATION:Grunthal EBC\, 84 Oak Ave\, Grunthal\, Manitoba\, Canada
END:VEVENT
BEGIN:VEVENT
DTSTART;TZID=UTC:20301115T193000
DTEND;TZID=UTC:20301115T220000
DTSTAMP:20260424T085932
CREATED:20260226T211214Z
LAST-MODIFIED:20260226T211214Z
UID:10007450-1921001400-1921010400@grunthalebc.ca
SUMMARY:Senior Youth
DESCRIPTION:Grade 10-12 youth night! Games\, a devotional and snack. Pick up at 10 pm.
URL:https://grunthalebc.ca/event/senior-youth-2/2030-11-15/
LOCATION:Grunthal EBC\, 84 Oak Ave\, Grunthal\, Manitoba\, Canada
END:VEVENT
BEGIN:VEVENT
DTSTART;TZID=UTC:20301118T203000
DTEND;TZID=UTC:20301118T223000
DTSTAMP:20260424T085932
CREATED:20250919T144433Z
LAST-MODIFIED:20251218T153448Z
UID:10007442-1921264200-1921271400@grunthalebc.ca
SUMMARY:Men's Bible Study
DESCRIPTION:All men are invited for a Bible study! It’s a great time to connect and dive deeper into God’s Word.
URL:https://grunthalebc.ca/event/mens-bible-study/2030-11-18/
LOCATION:Manitoba
END:VEVENT
BEGIN:VEVENT
DTSTART;TZID=UTC:20301120T100000
DTEND;TZID=UTC:20301120T113000
DTSTAMP:20260424T085932
CREATED:20250605T164059Z
LAST-MODIFIED:20251218T153852Z
UID:10007444-1921399200-1921404600@grunthalebc.ca
SUMMARY:55+ Coffee & Fellowship
DESCRIPTION:Join us at church if you’re 55+ for coffee and fellowship!
URL:https://grunthalebc.ca/event/55-coffee-fellowship/2030-11-20/
LOCATION:Grunthal EBC\, 84 Oak Ave\, Grunthal\, Manitoba\, Canada
END:VEVENT
BEGIN:VEVENT
DTSTART;TZID=UTC:20301121T190000
DTEND;TZID=UTC:20301121T204500
DTSTAMP:20260424T085932
CREATED:20260226T211142Z
LAST-MODIFIED:20260226T211518Z
UID:10007456-1921518000-1921524300@grunthalebc.ca
SUMMARY:Junior Youth
DESCRIPTION:Grade 7-9 youth night! Games\, a devotional and snacks. Pick up at 8:45pm.
URL:https://grunthalebc.ca/event/junior-youth-2/2030-11-21/
LOCATION:Grunthal EBC\, 84 Oak Ave\, Grunthal\, Manitoba\, Canada
END:VEVENT
BEGIN:VEVENT
DTSTART;TZID=UTC:20301121T190000
DTEND;TZID=UTC:20301121T210000
DTSTAMP:20260424T085932
CREATED:20250925T185237Z
LAST-MODIFIED:20251209T171314Z
UID:10007461-1921518000-1921525200@grunthalebc.ca
SUMMARY:College & Career
DESCRIPTION:All young adults are welcome to join us for a Bible Study and fellowship!
URL:https://grunthalebc.ca/event/college-career/2030-11-21/
LOCATION:Grunthal EBC\, 84 Oak Ave\, Grunthal\, Manitoba\, Canada
END:VEVENT
BEGIN:VEVENT
DTSTART;TZID=UTC:20301122T193000
DTEND;TZID=UTC:20301122T220000
DTSTAMP:20260424T085932
CREATED:20260226T211214Z
LAST-MODIFIED:20260226T211214Z
UID:10007457-1921606200-1921615200@grunthalebc.ca
SUMMARY:Senior Youth
DESCRIPTION:Grade 10-12 youth night! Games\, a devotional and snack. Pick up at 10 pm.
URL:https://grunthalebc.ca/event/senior-youth-2/2030-11-22/
LOCATION:Grunthal EBC\, 84 Oak Ave\, Grunthal\, Manitoba\, Canada
END:VEVENT
BEGIN:VEVENT
DTSTART;TZID=UTC:20301125T203000
DTEND;TZID=UTC:20301125T223000
DTSTAMP:20260424T085932
CREATED:20250919T144433Z
LAST-MODIFIED:20251218T153448Z
UID:10007451-1921869000-1921876200@grunthalebc.ca
SUMMARY:Men's Bible Study
DESCRIPTION:All men are invited for a Bible study! It’s a great time to connect and dive deeper into God’s Word.
URL:https://grunthalebc.ca/event/mens-bible-study/2030-11-25/
LOCATION:Manitoba
END:VEVENT
BEGIN:VEVENT
DTSTART;TZID=UTC:20301127T100000
DTEND;TZID=UTC:20301127T113000
DTSTAMP:20260424T085932
CREATED:20250605T164059Z
LAST-MODIFIED:20251218T153852Z
UID:10007460-1922004000-1922009400@grunthalebc.ca
SUMMARY:55+ Coffee & Fellowship
DESCRIPTION:Join us at church if you’re 55+ for coffee and fellowship!
URL:https://grunthalebc.ca/event/55-coffee-fellowship/2030-11-27/
LOCATION:Grunthal EBC\, 84 Oak Ave\, Grunthal\, Manitoba\, Canada
END:VEVENT
BEGIN:VEVENT
DTSTART;TZID=UTC:20301128T190000
DTEND;TZID=UTC:20301128T204500
DTSTAMP:20260424T085932
CREATED:20260226T211142Z
LAST-MODIFIED:20260226T211518Z
UID:10007465-1922122800-1922129100@grunthalebc.ca
SUMMARY:Junior Youth
DESCRIPTION:Grade 7-9 youth night! Games\, a devotional and snacks. Pick up at 8:45pm.
URL:https://grunthalebc.ca/event/junior-youth-2/2030-11-28/
LOCATION:Grunthal EBC\, 84 Oak Ave\, Grunthal\, Manitoba\, Canada
END:VEVENT
BEGIN:VEVENT
DTSTART;TZID=UTC:20301129T093000
DTEND;TZID=UTC:20301129T110000
DTSTAMP:20260424T085932
CREATED:20260106T194428Z
LAST-MODIFIED:20260106T194429Z
UID:10007614-1922175000-1922180400@grunthalebc.ca
SUMMARY:Women's Bible Study
DESCRIPTION:Join Beth Fast as she takes us through God’s Word. Babysitting is available! \n 
URL:https://grunthalebc.ca/event/womens-bible-study-2/2030-11-29/
LOCATION:Grunthal EBC\, 84 Oak Ave\, Grunthal\, Manitoba\, Canada
END:VEVENT
BEGIN:VEVENT
DTSTART;TZID=UTC:20301129T193000
DTEND;TZID=UTC:20301129T220000
DTSTAMP:20260424T085932
CREATED:20260226T211214Z
LAST-MODIFIED:20260226T211214Z
UID:10007467-1922211000-1922220000@grunthalebc.ca
SUMMARY:Senior Youth
DESCRIPTION:Grade 10-12 youth night! Games\, a devotional and snack. Pick up at 10 pm.
URL:https://grunthalebc.ca/event/senior-youth-2/2030-11-29/
LOCATION:Grunthal EBC\, 84 Oak Ave\, Grunthal\, Manitoba\, Canada
END:VEVENT
END:VCALENDAR