BEGIN:VCALENDAR
VERSION:2.0
PRODID:-//Grunthal Evangelical Bible Church - ECPv6.15.20//NONSGML v1.0//EN
CALSCALE:GREGORIAN
METHOD:PUBLISH
X-ORIGINAL-URL:https://grunthalebc.ca
X-WR-CALDESC:Events for Grunthal Evangelical Bible Church
REFRESH-INTERVAL;VALUE=DURATION:PT1H
X-Robots-Tag:noindex
X-PUBLISHED-TTL:PT1H
BEGIN:VTIMEZONE
TZID:UTC
BEGIN:STANDARD
TZOFFSETFROM:+0000
TZOFFSETTO:+0000
TZNAME:UTC
DTSTART:20290101T000000
END:STANDARD
END:VTIMEZONE
BEGIN:VEVENT
DTSTART;TZID=UTC:20301002T100000
DTEND;TZID=UTC:20301002T113000
DTSTAMP:20260424T073643
CREATED:20250605T164059Z
LAST-MODIFIED:20251218T153852Z
UID:10007152-1917165600-1917171000@grunthalebc.ca
SUMMARY:55+ Coffee & Fellowship
DESCRIPTION:Join us at church if you’re 55+ for coffee and fellowship!
URL:https://grunthalebc.ca/event/55-coffee-fellowship/2030-10-02/
LOCATION:Grunthal EBC\, 84 Oak Ave\, Grunthal\, Manitoba\, Canada
END:VEVENT
BEGIN:VEVENT
DTSTART;TZID=UTC:20301003T190000
DTEND;TZID=UTC:20301003T204500
DTSTAMP:20260424T073643
CREATED:20260226T211142Z
LAST-MODIFIED:20260226T211518Z
UID:10007420-1917284400-1917290700@grunthalebc.ca
SUMMARY:Junior Youth
DESCRIPTION:Grade 7-9 youth night! Games\, a devotional and snacks. Pick up at 8:45pm.
URL:https://grunthalebc.ca/event/junior-youth-2/2030-10-03/
LOCATION:Grunthal EBC\, 84 Oak Ave\, Grunthal\, Manitoba\, Canada
END:VEVENT
BEGIN:VEVENT
DTSTART;TZID=UTC:20301004T093000
DTEND;TZID=UTC:20301004T110000
DTSTAMP:20260424T073643
CREATED:20260106T194428Z
LAST-MODIFIED:20260106T194429Z
UID:10007610-1917336600-1917342000@grunthalebc.ca
SUMMARY:Women's Bible Study
DESCRIPTION:Join Beth Fast as she takes us through God’s Word. Babysitting is available! \n 
URL:https://grunthalebc.ca/event/womens-bible-study-2/2030-10-04/
LOCATION:Grunthal EBC\, 84 Oak Ave\, Grunthal\, Manitoba\, Canada
END:VEVENT
BEGIN:VEVENT
DTSTART;TZID=UTC:20301004T193000
DTEND;TZID=UTC:20301004T220000
DTSTAMP:20260424T073643
CREATED:20260226T211214Z
LAST-MODIFIED:20260226T211214Z
UID:10007160-1917372600-1917381600@grunthalebc.ca
SUMMARY:Senior Youth
DESCRIPTION:Grade 10-12 youth night! Games\, a devotional and snack. Pick up at 10 pm.
URL:https://grunthalebc.ca/event/senior-youth-2/2030-10-04/
LOCATION:Grunthal EBC\, 84 Oak Ave\, Grunthal\, Manitoba\, Canada
END:VEVENT
BEGIN:VEVENT
DTSTART;TZID=UTC:20301007T203000
DTEND;TZID=UTC:20301007T223000
DTSTAMP:20260424T073643
CREATED:20250919T144433Z
LAST-MODIFIED:20251218T153448Z
UID:10007435-1917635400-1917642600@grunthalebc.ca
SUMMARY:Men's Bible Study
DESCRIPTION:All men are invited for a Bible study! It’s a great time to connect and dive deeper into God’s Word.
URL:https://grunthalebc.ca/event/mens-bible-study/2030-10-07/
LOCATION:Manitoba
END:VEVENT
BEGIN:VEVENT
DTSTART;TZID=UTC:20301009T100000
DTEND;TZID=UTC:20301009T113000
DTSTAMP:20260424T073643
CREATED:20250605T164059Z
LAST-MODIFIED:20251218T153852Z
UID:10007155-1917770400-1917775800@grunthalebc.ca
SUMMARY:55+ Coffee & Fellowship
DESCRIPTION:Join us at church if you’re 55+ for coffee and fellowship!
URL:https://grunthalebc.ca/event/55-coffee-fellowship/2030-10-09/
LOCATION:Grunthal EBC\, 84 Oak Ave\, Grunthal\, Manitoba\, Canada
END:VEVENT
BEGIN:VEVENT
DTSTART;TZID=UTC:20301010T190000
DTEND;TZID=UTC:20301010T204500
DTSTAMP:20260424T073643
CREATED:20260226T211142Z
LAST-MODIFIED:20260226T211518Z
UID:10007421-1917889200-1917895500@grunthalebc.ca
SUMMARY:Junior Youth
DESCRIPTION:Grade 7-9 youth night! Games\, a devotional and snacks. Pick up at 8:45pm.
URL:https://grunthalebc.ca/event/junior-youth-2/2030-10-10/
LOCATION:Grunthal EBC\, 84 Oak Ave\, Grunthal\, Manitoba\, Canada
END:VEVENT
BEGIN:VEVENT
DTSTART;TZID=UTC:20301010T190000
DTEND;TZID=UTC:20301010T210000
DTSTAMP:20260424T073643
CREATED:20250925T185237Z
LAST-MODIFIED:20251209T171314Z
UID:10007428-1917889200-1917896400@grunthalebc.ca
SUMMARY:College & Career
DESCRIPTION:All young adults are welcome to join us for a Bible Study and fellowship!
URL:https://grunthalebc.ca/event/college-career/2030-10-10/
LOCATION:Grunthal EBC\, 84 Oak Ave\, Grunthal\, Manitoba\, Canada
END:VEVENT
BEGIN:VEVENT
DTSTART;TZID=UTC:20301011T193000
DTEND;TZID=UTC:20301011T220000
DTSTAMP:20260424T073643
CREATED:20260226T211214Z
LAST-MODIFIED:20260226T211214Z
UID:10007161-1917977400-1917986400@grunthalebc.ca
SUMMARY:Senior Youth
DESCRIPTION:Grade 10-12 youth night! Games\, a devotional and snack. Pick up at 10 pm.
URL:https://grunthalebc.ca/event/senior-youth-2/2030-10-11/
LOCATION:Grunthal EBC\, 84 Oak Ave\, Grunthal\, Manitoba\, Canada
END:VEVENT
BEGIN:VEVENT
DTSTART;TZID=UTC:20301014T203000
DTEND;TZID=UTC:20301014T223000
DTSTAMP:20260424T073643
CREATED:20250919T144433Z
LAST-MODIFIED:20251218T153448Z
UID:10007436-1918240200-1918247400@grunthalebc.ca
SUMMARY:Men's Bible Study
DESCRIPTION:All men are invited for a Bible study! It’s a great time to connect and dive deeper into God’s Word.
URL:https://grunthalebc.ca/event/mens-bible-study/2030-10-14/
LOCATION:Manitoba
END:VEVENT
BEGIN:VEVENT
DTSTART;TZID=UTC:20301016T100000
DTEND;TZID=UTC:20301016T113000
DTSTAMP:20260424T073643
CREATED:20250605T164059Z
LAST-MODIFIED:20251218T153852Z
UID:10007156-1918375200-1918380600@grunthalebc.ca
SUMMARY:55+ Coffee & Fellowship
DESCRIPTION:Join us at church if you’re 55+ for coffee and fellowship!
URL:https://grunthalebc.ca/event/55-coffee-fellowship/2030-10-16/
LOCATION:Grunthal EBC\, 84 Oak Ave\, Grunthal\, Manitoba\, Canada
END:VEVENT
BEGIN:VEVENT
DTSTART;TZID=UTC:20301017T190000
DTEND;TZID=UTC:20301017T204500
DTSTAMP:20260424T073643
CREATED:20260226T211142Z
LAST-MODIFIED:20260226T211518Z
UID:10007422-1918494000-1918500300@grunthalebc.ca
SUMMARY:Junior Youth
DESCRIPTION:Grade 7-9 youth night! Games\, a devotional and snacks. Pick up at 8:45pm.
URL:https://grunthalebc.ca/event/junior-youth-2/2030-10-17/
LOCATION:Grunthal EBC\, 84 Oak Ave\, Grunthal\, Manitoba\, Canada
END:VEVENT
BEGIN:VEVENT
DTSTART;TZID=UTC:20301018T093000
DTEND;TZID=UTC:20301018T110000
DTSTAMP:20260424T073643
CREATED:20260106T194428Z
LAST-MODIFIED:20260106T194429Z
UID:10007611-1918546200-1918551600@grunthalebc.ca
SUMMARY:Women's Bible Study
DESCRIPTION:Join Beth Fast as she takes us through God’s Word. Babysitting is available! \n 
URL:https://grunthalebc.ca/event/womens-bible-study-2/2030-10-18/
LOCATION:Grunthal EBC\, 84 Oak Ave\, Grunthal\, Manitoba\, Canada
END:VEVENT
BEGIN:VEVENT
DTSTART;TZID=UTC:20301018T193000
DTEND;TZID=UTC:20301018T220000
DTSTAMP:20260424T073643
CREATED:20260226T211214Z
LAST-MODIFIED:20260226T211214Z
UID:10007162-1918582200-1918591200@grunthalebc.ca
SUMMARY:Senior Youth
DESCRIPTION:Grade 10-12 youth night! Games\, a devotional and snack. Pick up at 10 pm.
URL:https://grunthalebc.ca/event/senior-youth-2/2030-10-18/
LOCATION:Grunthal EBC\, 84 Oak Ave\, Grunthal\, Manitoba\, Canada
END:VEVENT
BEGIN:VEVENT
DTSTART;TZID=UTC:20301021T203000
DTEND;TZID=UTC:20301021T223000
DTSTAMP:20260424T073643
CREATED:20250919T144433Z
LAST-MODIFIED:20251218T153448Z
UID:10007437-1918845000-1918852200@grunthalebc.ca
SUMMARY:Men's Bible Study
DESCRIPTION:All men are invited for a Bible study! It’s a great time to connect and dive deeper into God’s Word.
URL:https://grunthalebc.ca/event/mens-bible-study/2030-10-21/
LOCATION:Manitoba
END:VEVENT
BEGIN:VEVENT
DTSTART;TZID=UTC:20301023T100000
DTEND;TZID=UTC:20301023T113000
DTSTAMP:20260424T073643
CREATED:20250605T164059Z
LAST-MODIFIED:20251218T153852Z
UID:10007423-1918980000-1918985400@grunthalebc.ca
SUMMARY:55+ Coffee & Fellowship
DESCRIPTION:Join us at church if you’re 55+ for coffee and fellowship!
URL:https://grunthalebc.ca/event/55-coffee-fellowship/2030-10-23/
LOCATION:Grunthal EBC\, 84 Oak Ave\, Grunthal\, Manitoba\, Canada
END:VEVENT
BEGIN:VEVENT
DTSTART;TZID=UTC:20301024T190000
DTEND;TZID=UTC:20301024T204500
DTSTAMP:20260424T073643
CREATED:20260226T211142Z
LAST-MODIFIED:20260226T211518Z
UID:10007452-1919098800-1919105100@grunthalebc.ca
SUMMARY:Junior Youth
DESCRIPTION:Grade 7-9 youth night! Games\, a devotional and snacks. Pick up at 8:45pm.
URL:https://grunthalebc.ca/event/junior-youth-2/2030-10-24/
LOCATION:Grunthal EBC\, 84 Oak Ave\, Grunthal\, Manitoba\, Canada
END:VEVENT
BEGIN:VEVENT
DTSTART;TZID=UTC:20301024T190000
DTEND;TZID=UTC:20301024T210000
DTSTAMP:20260424T073643
CREATED:20250925T185237Z
LAST-MODIFIED:20251209T171314Z
UID:10007429-1919098800-1919106000@grunthalebc.ca
SUMMARY:College & Career
DESCRIPTION:All young adults are welcome to join us for a Bible Study and fellowship!
URL:https://grunthalebc.ca/event/college-career/2030-10-24/
LOCATION:Grunthal EBC\, 84 Oak Ave\, Grunthal\, Manitoba\, Canada
END:VEVENT
BEGIN:VEVENT
DTSTART;TZID=UTC:20301025T193000
DTEND;TZID=UTC:20301025T220000
DTSTAMP:20260424T073643
CREATED:20260226T211214Z
LAST-MODIFIED:20260226T211214Z
UID:10007447-1919187000-1919196000@grunthalebc.ca
SUMMARY:Senior Youth
DESCRIPTION:Grade 10-12 youth night! Games\, a devotional and snack. Pick up at 10 pm.
URL:https://grunthalebc.ca/event/senior-youth-2/2030-10-25/
LOCATION:Grunthal EBC\, 84 Oak Ave\, Grunthal\, Manitoba\, Canada
END:VEVENT
BEGIN:VEVENT
DTSTART;TZID=UTC:20301028T203000
DTEND;TZID=UTC:20301028T223000
DTSTAMP:20260424T073643
CREATED:20250919T144433Z
LAST-MODIFIED:20251218T153448Z
UID:10007438-1919449800-1919457000@grunthalebc.ca
SUMMARY:Men's Bible Study
DESCRIPTION:All men are invited for a Bible study! It’s a great time to connect and dive deeper into God’s Word.
URL:https://grunthalebc.ca/event/mens-bible-study/2030-10-28/
LOCATION:Manitoba
END:VEVENT
BEGIN:VEVENT
DTSTART;TZID=UTC:20301030T100000
DTEND;TZID=UTC:20301030T113000
DTSTAMP:20260424T073643
CREATED:20250605T164059Z
LAST-MODIFIED:20251218T153852Z
UID:10007426-1919584800-1919590200@grunthalebc.ca
SUMMARY:55+ Coffee & Fellowship
DESCRIPTION:Join us at church if you’re 55+ for coffee and fellowship!
URL:https://grunthalebc.ca/event/55-coffee-fellowship/2030-10-30/
LOCATION:Grunthal EBC\, 84 Oak Ave\, Grunthal\, Manitoba\, Canada
END:VEVENT
BEGIN:VEVENT
DTSTART;TZID=UTC:20301031T190000
DTEND;TZID=UTC:20301031T204500
DTSTAMP:20260424T073643
CREATED:20260226T211142Z
LAST-MODIFIED:20260226T211518Z
UID:10007453-1919703600-1919709900@grunthalebc.ca
SUMMARY:Junior Youth
DESCRIPTION:Grade 7-9 youth night! Games\, a devotional and snacks. Pick up at 8:45pm.
URL:https://grunthalebc.ca/event/junior-youth-2/2030-10-31/
LOCATION:Grunthal EBC\, 84 Oak Ave\, Grunthal\, Manitoba\, Canada
END:VEVENT
END:VCALENDAR