BEGIN:VCALENDAR
VERSION:2.0
PRODID:-//Grunthal Evangelical Bible Church - ECPv6.15.20//NONSGML v1.0//EN
CALSCALE:GREGORIAN
METHOD:PUBLISH
X-ORIGINAL-URL:https://grunthalebc.ca
X-WR-CALDESC:Events for Grunthal Evangelical Bible Church
REFRESH-INTERVAL;VALUE=DURATION:PT1H
X-Robots-Tag:noindex
X-PUBLISHED-TTL:PT1H
BEGIN:VTIMEZONE
TZID:UTC
BEGIN:STANDARD
TZOFFSETFROM:+0000
TZOFFSETTO:+0000
TZNAME:UTC
DTSTART:20290101T000000
END:STANDARD
END:VTIMEZONE
BEGIN:VEVENT
DTSTART;TZID=UTC:20300902T203000
DTEND;TZID=UTC:20300902T223000
DTSTAMP:20260424T055351
CREATED:20250919T144433Z
LAST-MODIFIED:20251218T153448Z
UID:10006752-1914611400-1914618600@grunthalebc.ca
SUMMARY:Men's Bible Study
DESCRIPTION:All men are invited for a Bible study! It’s a great time to connect and dive deeper into God’s Word.
URL:https://grunthalebc.ca/event/mens-bible-study/2030-09-02/
LOCATION:Manitoba
END:VEVENT
BEGIN:VEVENT
DTSTART;TZID=UTC:20300904T100000
DTEND;TZID=UTC:20300904T113000
DTSTAMP:20260424T055351
CREATED:20250605T164059Z
LAST-MODIFIED:20251218T153852Z
UID:10005975-1914746400-1914751800@grunthalebc.ca
SUMMARY:55+ Coffee & Fellowship
DESCRIPTION:Join us at church if you’re 55+ for coffee and fellowship!
URL:https://grunthalebc.ca/event/55-coffee-fellowship/2030-09-04/
LOCATION:Grunthal EBC\, 84 Oak Ave\, Grunthal\, Manitoba\, Canada
END:VEVENT
BEGIN:VEVENT
DTSTART;TZID=UTC:20300905T190000
DTEND;TZID=UTC:20300905T204500
DTSTAMP:20260424T055351
CREATED:20260226T211142Z
LAST-MODIFIED:20260226T211518Z
UID:10007416-1914865200-1914871500@grunthalebc.ca
SUMMARY:Junior Youth
DESCRIPTION:Grade 7-9 youth night! Games\, a devotional and snacks. Pick up at 8:45pm.
URL:https://grunthalebc.ca/event/junior-youth-2/2030-09-05/
LOCATION:Grunthal EBC\, 84 Oak Ave\, Grunthal\, Manitoba\, Canada
END:VEVENT
BEGIN:VEVENT
DTSTART;TZID=UTC:20300906T093000
DTEND;TZID=UTC:20300906T110000
DTSTAMP:20260424T055351
CREATED:20260106T194428Z
LAST-MODIFIED:20260106T194429Z
UID:10007608-1914917400-1914922800@grunthalebc.ca
SUMMARY:Women's Bible Study
DESCRIPTION:Join Beth Fast as she takes us through God’s Word. Babysitting is available! \n 
URL:https://grunthalebc.ca/event/womens-bible-study-2/2030-09-06/
LOCATION:Grunthal EBC\, 84 Oak Ave\, Grunthal\, Manitoba\, Canada
END:VEVENT
BEGIN:VEVENT
DTSTART;TZID=UTC:20300906T193000
DTEND;TZID=UTC:20300906T220000
DTSTAMP:20260424T055351
CREATED:20260226T211214Z
LAST-MODIFIED:20260226T211214Z
UID:10007147-1914953400-1914962400@grunthalebc.ca
SUMMARY:Senior Youth
DESCRIPTION:Grade 10-12 youth night! Games\, a devotional and snack. Pick up at 10 pm.
URL:https://grunthalebc.ca/event/senior-youth-2/2030-09-06/
LOCATION:Grunthal EBC\, 84 Oak Ave\, Grunthal\, Manitoba\, Canada
END:VEVENT
BEGIN:VEVENT
DTSTART;TZID=UTC:20300909T203000
DTEND;TZID=UTC:20300909T223000
DTSTAMP:20260424T055351
CREATED:20250919T144433Z
LAST-MODIFIED:20251218T153448Z
UID:10006753-1915216200-1915223400@grunthalebc.ca
SUMMARY:Men's Bible Study
DESCRIPTION:All men are invited for a Bible study! It’s a great time to connect and dive deeper into God’s Word.
URL:https://grunthalebc.ca/event/mens-bible-study/2030-09-09/
LOCATION:Manitoba
END:VEVENT
BEGIN:VEVENT
DTSTART;TZID=UTC:20300911T100000
DTEND;TZID=UTC:20300911T113000
DTSTAMP:20260424T055351
CREATED:20250605T164059Z
LAST-MODIFIED:20251218T153852Z
UID:10006494-1915351200-1915356600@grunthalebc.ca
SUMMARY:55+ Coffee & Fellowship
DESCRIPTION:Join us at church if you’re 55+ for coffee and fellowship!
URL:https://grunthalebc.ca/event/55-coffee-fellowship/2030-09-11/
LOCATION:Grunthal EBC\, 84 Oak Ave\, Grunthal\, Manitoba\, Canada
END:VEVENT
BEGIN:VEVENT
DTSTART;TZID=UTC:20300912T190000
DTEND;TZID=UTC:20300912T204500
DTSTAMP:20260424T055351
CREATED:20260226T211142Z
LAST-MODIFIED:20260226T211518Z
UID:10007417-1915470000-1915476300@grunthalebc.ca
SUMMARY:Junior Youth
DESCRIPTION:Grade 7-9 youth night! Games\, a devotional and snacks. Pick up at 8:45pm.
URL:https://grunthalebc.ca/event/junior-youth-2/2030-09-12/
LOCATION:Grunthal EBC\, 84 Oak Ave\, Grunthal\, Manitoba\, Canada
END:VEVENT
BEGIN:VEVENT
DTSTART;TZID=UTC:20300912T190000
DTEND;TZID=UTC:20300912T210000
DTSTAMP:20260424T055351
CREATED:20250925T185237Z
LAST-MODIFIED:20251209T171314Z
UID:10006887-1915470000-1915477200@grunthalebc.ca
SUMMARY:College & Career
DESCRIPTION:All young adults are welcome to join us for a Bible Study and fellowship!
URL:https://grunthalebc.ca/event/college-career/2030-09-12/
LOCATION:Grunthal EBC\, 84 Oak Ave\, Grunthal\, Manitoba\, Canada
END:VEVENT
BEGIN:VEVENT
DTSTART;TZID=UTC:20300913T193000
DTEND;TZID=UTC:20300913T220000
DTSTAMP:20260424T055351
CREATED:20260226T211214Z
LAST-MODIFIED:20260226T211214Z
UID:10007148-1915558200-1915567200@grunthalebc.ca
SUMMARY:Senior Youth
DESCRIPTION:Grade 10-12 youth night! Games\, a devotional and snack. Pick up at 10 pm.
URL:https://grunthalebc.ca/event/senior-youth-2/2030-09-13/
LOCATION:Grunthal EBC\, 84 Oak Ave\, Grunthal\, Manitoba\, Canada
END:VEVENT
BEGIN:VEVENT
DTSTART;TZID=UTC:20300916T203000
DTEND;TZID=UTC:20300916T223000
DTSTAMP:20260424T055351
CREATED:20250919T144433Z
LAST-MODIFIED:20251218T153448Z
UID:10006754-1915821000-1915828200@grunthalebc.ca
SUMMARY:Men's Bible Study
DESCRIPTION:All men are invited for a Bible study! It’s a great time to connect and dive deeper into God’s Word.
URL:https://grunthalebc.ca/event/mens-bible-study/2030-09-16/
LOCATION:Manitoba
END:VEVENT
BEGIN:VEVENT
DTSTART;TZID=UTC:20300918T100000
DTEND;TZID=UTC:20300918T113000
DTSTAMP:20260424T055351
CREATED:20250605T164059Z
LAST-MODIFIED:20251218T153852Z
UID:10006756-1915956000-1915961400@grunthalebc.ca
SUMMARY:55+ Coffee & Fellowship
DESCRIPTION:Join us at church if you’re 55+ for coffee and fellowship!
URL:https://grunthalebc.ca/event/55-coffee-fellowship/2030-09-18/
LOCATION:Grunthal EBC\, 84 Oak Ave\, Grunthal\, Manitoba\, Canada
END:VEVENT
BEGIN:VEVENT
DTSTART;TZID=UTC:20300919T190000
DTEND;TZID=UTC:20300919T204500
DTSTAMP:20260424T055351
CREATED:20260226T211142Z
LAST-MODIFIED:20260226T211518Z
UID:10007418-1916074800-1916081100@grunthalebc.ca
SUMMARY:Junior Youth
DESCRIPTION:Grade 7-9 youth night! Games\, a devotional and snacks. Pick up at 8:45pm.
URL:https://grunthalebc.ca/event/junior-youth-2/2030-09-19/
LOCATION:Grunthal EBC\, 84 Oak Ave\, Grunthal\, Manitoba\, Canada
END:VEVENT
BEGIN:VEVENT
DTSTART;TZID=UTC:20300920T093000
DTEND;TZID=UTC:20300920T110000
DTSTAMP:20260424T055351
CREATED:20260106T194428Z
LAST-MODIFIED:20260106T194429Z
UID:10007609-1916127000-1916132400@grunthalebc.ca
SUMMARY:Women's Bible Study
DESCRIPTION:Join Beth Fast as she takes us through God’s Word. Babysitting is available! \n 
URL:https://grunthalebc.ca/event/womens-bible-study-2/2030-09-20/
LOCATION:Grunthal EBC\, 84 Oak Ave\, Grunthal\, Manitoba\, Canada
END:VEVENT
BEGIN:VEVENT
DTSTART;TZID=UTC:20300920T193000
DTEND;TZID=UTC:20300920T220000
DTSTAMP:20260424T055351
CREATED:20260226T211214Z
LAST-MODIFIED:20260226T211214Z
UID:10007149-1916163000-1916172000@grunthalebc.ca
SUMMARY:Senior Youth
DESCRIPTION:Grade 10-12 youth night! Games\, a devotional and snack. Pick up at 10 pm.
URL:https://grunthalebc.ca/event/senior-youth-2/2030-09-20/
LOCATION:Grunthal EBC\, 84 Oak Ave\, Grunthal\, Manitoba\, Canada
END:VEVENT
BEGIN:VEVENT
DTSTART;TZID=UTC:20300923T203000
DTEND;TZID=UTC:20300923T223000
DTSTAMP:20260424T055351
CREATED:20250919T144433Z
LAST-MODIFIED:20251218T153448Z
UID:10007433-1916425800-1916433000@grunthalebc.ca
SUMMARY:Men's Bible Study
DESCRIPTION:All men are invited for a Bible study! It’s a great time to connect and dive deeper into God’s Word.
URL:https://grunthalebc.ca/event/mens-bible-study/2030-09-23/
LOCATION:Manitoba
END:VEVENT
BEGIN:VEVENT
DTSTART;TZID=UTC:20300925T100000
DTEND;TZID=UTC:20300925T113000
DTSTAMP:20260424T055351
CREATED:20250605T164059Z
LAST-MODIFIED:20251218T153852Z
UID:10006888-1916560800-1916566200@grunthalebc.ca
SUMMARY:55+ Coffee & Fellowship
DESCRIPTION:Join us at church if you’re 55+ for coffee and fellowship!
URL:https://grunthalebc.ca/event/55-coffee-fellowship/2030-09-25/
LOCATION:Grunthal EBC\, 84 Oak Ave\, Grunthal\, Manitoba\, Canada
END:VEVENT
BEGIN:VEVENT
DTSTART;TZID=UTC:20300926T190000
DTEND;TZID=UTC:20300926T204500
DTSTAMP:20260424T055351
CREATED:20260226T211142Z
LAST-MODIFIED:20260226T211518Z
UID:10007419-1916679600-1916685900@grunthalebc.ca
SUMMARY:Junior Youth
DESCRIPTION:Grade 7-9 youth night! Games\, a devotional and snacks. Pick up at 8:45pm.
URL:https://grunthalebc.ca/event/junior-youth-2/2030-09-26/
LOCATION:Grunthal EBC\, 84 Oak Ave\, Grunthal\, Manitoba\, Canada
END:VEVENT
BEGIN:VEVENT
DTSTART;TZID=UTC:20300926T190000
DTEND;TZID=UTC:20300926T210000
DTSTAMP:20260424T055351
CREATED:20250925T185237Z
LAST-MODIFIED:20251209T171314Z
UID:10007427-1916679600-1916686800@grunthalebc.ca
SUMMARY:College & Career
DESCRIPTION:All young adults are welcome to join us for a Bible Study and fellowship!
URL:https://grunthalebc.ca/event/college-career/2030-09-26/
LOCATION:Grunthal EBC\, 84 Oak Ave\, Grunthal\, Manitoba\, Canada
END:VEVENT
BEGIN:VEVENT
DTSTART;TZID=UTC:20300927T193000
DTEND;TZID=UTC:20300927T220000
DTSTAMP:20260424T055351
CREATED:20260226T211214Z
LAST-MODIFIED:20260226T211214Z
UID:10007150-1916767800-1916776800@grunthalebc.ca
SUMMARY:Senior Youth
DESCRIPTION:Grade 10-12 youth night! Games\, a devotional and snack. Pick up at 10 pm.
URL:https://grunthalebc.ca/event/senior-youth-2/2030-09-27/
LOCATION:Grunthal EBC\, 84 Oak Ave\, Grunthal\, Manitoba\, Canada
END:VEVENT
BEGIN:VEVENT
DTSTART;TZID=UTC:20300930T203000
DTEND;TZID=UTC:20300930T223000
DTSTAMP:20260424T055351
CREATED:20250919T144433Z
LAST-MODIFIED:20251218T153448Z
UID:10007434-1917030600-1917037800@grunthalebc.ca
SUMMARY:Men's Bible Study
DESCRIPTION:All men are invited for a Bible study! It’s a great time to connect and dive deeper into God’s Word.
URL:https://grunthalebc.ca/event/mens-bible-study/2030-09-30/
LOCATION:Manitoba
END:VEVENT
END:VCALENDAR