BEGIN:VCALENDAR
VERSION:2.0
PRODID:-//Grunthal Evangelical Bible Church - ECPv6.15.20//NONSGML v1.0//EN
CALSCALE:GREGORIAN
METHOD:PUBLISH
X-ORIGINAL-URL:https://grunthalebc.ca
X-WR-CALDESC:Events for Grunthal Evangelical Bible Church
REFRESH-INTERVAL;VALUE=DURATION:PT1H
X-Robots-Tag:noindex
X-PUBLISHED-TTL:PT1H
BEGIN:VTIMEZONE
TZID:UTC
BEGIN:STANDARD
TZOFFSETFROM:+0000
TZOFFSETTO:+0000
TZNAME:UTC
DTSTART:20290101T000000
END:STANDARD
END:VTIMEZONE
BEGIN:VEVENT
DTSTART;TZID=UTC:20300701T203000
DTEND;TZID=UTC:20300701T223000
DTSTAMP:20260424T022305
CREATED:20250919T144433Z
LAST-MODIFIED:20251218T153448Z
UID:10006743-1909168200-1909175400@grunthalebc.ca
SUMMARY:Men's Bible Study
DESCRIPTION:All men are invited for a Bible study! It’s a great time to connect and dive deeper into God’s Word.
URL:https://grunthalebc.ca/event/mens-bible-study/2030-07-01/
LOCATION:Manitoba
END:VEVENT
BEGIN:VEVENT
DTSTART;TZID=UTC:20300703T100000
DTEND;TZID=UTC:20300703T113000
DTSTAMP:20260424T022305
CREATED:20250605T164059Z
LAST-MODIFIED:20251218T153852Z
UID:10005793-1909303200-1909308600@grunthalebc.ca
SUMMARY:55+ Coffee & Fellowship
DESCRIPTION:Join us at church if you’re 55+ for coffee and fellowship!
URL:https://grunthalebc.ca/event/55-coffee-fellowship/2030-07-03/
LOCATION:Grunthal EBC\, 84 Oak Ave\, Grunthal\, Manitoba\, Canada
END:VEVENT
BEGIN:VEVENT
DTSTART;TZID=UTC:20300704T190000
DTEND;TZID=UTC:20300704T204500
DTSTAMP:20260424T022305
CREATED:20260226T211142Z
LAST-MODIFIED:20260226T211518Z
UID:10007407-1909422000-1909428300@grunthalebc.ca
SUMMARY:Junior Youth
DESCRIPTION:Grade 7-9 youth night! Games\, a devotional and snacks. Pick up at 8:45pm.
URL:https://grunthalebc.ca/event/junior-youth-2/2030-07-04/
LOCATION:Grunthal EBC\, 84 Oak Ave\, Grunthal\, Manitoba\, Canada
END:VEVENT
BEGIN:VEVENT
DTSTART;TZID=UTC:20300704T190000
DTEND;TZID=UTC:20300704T210000
DTSTAMP:20260424T022305
CREATED:20250925T185237Z
LAST-MODIFIED:20251209T171314Z
UID:10006882-1909422000-1909429200@grunthalebc.ca
SUMMARY:College & Career
DESCRIPTION:All young adults are welcome to join us for a Bible Study and fellowship!
URL:https://grunthalebc.ca/event/college-career/2030-07-04/
LOCATION:Grunthal EBC\, 84 Oak Ave\, Grunthal\, Manitoba\, Canada
END:VEVENT
BEGIN:VEVENT
DTSTART;TZID=UTC:20300705T193000
DTEND;TZID=UTC:20300705T220000
DTSTAMP:20260424T022305
CREATED:20260226T211214Z
LAST-MODIFIED:20260226T211214Z
UID:10007138-1909510200-1909519200@grunthalebc.ca
SUMMARY:Senior Youth
DESCRIPTION:Grade 10-12 youth night! Games\, a devotional and snack. Pick up at 10 pm.
URL:https://grunthalebc.ca/event/senior-youth-2/2030-07-05/
LOCATION:Grunthal EBC\, 84 Oak Ave\, Grunthal\, Manitoba\, Canada
END:VEVENT
BEGIN:VEVENT
DTSTART;TZID=UTC:20300708T203000
DTEND;TZID=UTC:20300708T223000
DTSTAMP:20260424T022305
CREATED:20250919T144433Z
LAST-MODIFIED:20251218T153448Z
UID:10006744-1909773000-1909780200@grunthalebc.ca
SUMMARY:Men's Bible Study
DESCRIPTION:All men are invited for a Bible study! It’s a great time to connect and dive deeper into God’s Word.
URL:https://grunthalebc.ca/event/mens-bible-study/2030-07-08/
LOCATION:Manitoba
END:VEVENT
BEGIN:VEVENT
DTSTART;TZID=UTC:20300710T100000
DTEND;TZID=UTC:20300710T113000
DTSTAMP:20260424T022305
CREATED:20250605T164059Z
LAST-MODIFIED:20251218T153852Z
UID:10005794-1909908000-1909913400@grunthalebc.ca
SUMMARY:55+ Coffee & Fellowship
DESCRIPTION:Join us at church if you’re 55+ for coffee and fellowship!
URL:https://grunthalebc.ca/event/55-coffee-fellowship/2030-07-10/
LOCATION:Grunthal EBC\, 84 Oak Ave\, Grunthal\, Manitoba\, Canada
END:VEVENT
BEGIN:VEVENT
DTSTART;TZID=UTC:20300711T190000
DTEND;TZID=UTC:20300711T204500
DTSTAMP:20260424T022305
CREATED:20260226T211142Z
LAST-MODIFIED:20260226T211518Z
UID:10007408-1910026800-1910033100@grunthalebc.ca
SUMMARY:Junior Youth
DESCRIPTION:Grade 7-9 youth night! Games\, a devotional and snacks. Pick up at 8:45pm.
URL:https://grunthalebc.ca/event/junior-youth-2/2030-07-11/
LOCATION:Grunthal EBC\, 84 Oak Ave\, Grunthal\, Manitoba\, Canada
END:VEVENT
BEGIN:VEVENT
DTSTART;TZID=UTC:20300712T093000
DTEND;TZID=UTC:20300712T110000
DTSTAMP:20260424T022305
CREATED:20260106T194428Z
LAST-MODIFIED:20260106T194429Z
UID:10007604-1910079000-1910084400@grunthalebc.ca
SUMMARY:Women's Bible Study
DESCRIPTION:Join Beth Fast as she takes us through God’s Word. Babysitting is available! \n 
URL:https://grunthalebc.ca/event/womens-bible-study-2/2030-07-12/
LOCATION:Grunthal EBC\, 84 Oak Ave\, Grunthal\, Manitoba\, Canada
END:VEVENT
BEGIN:VEVENT
DTSTART;TZID=UTC:20300712T193000
DTEND;TZID=UTC:20300712T220000
DTSTAMP:20260424T022305
CREATED:20260226T211214Z
LAST-MODIFIED:20260226T211214Z
UID:10007139-1910115000-1910124000@grunthalebc.ca
SUMMARY:Senior Youth
DESCRIPTION:Grade 10-12 youth night! Games\, a devotional and snack. Pick up at 10 pm.
URL:https://grunthalebc.ca/event/senior-youth-2/2030-07-12/
LOCATION:Grunthal EBC\, 84 Oak Ave\, Grunthal\, Manitoba\, Canada
END:VEVENT
BEGIN:VEVENT
DTSTART;TZID=UTC:20300715T203000
DTEND;TZID=UTC:20300715T223000
DTSTAMP:20260424T022305
CREATED:20250919T144433Z
LAST-MODIFIED:20251218T153448Z
UID:10006745-1910377800-1910385000@grunthalebc.ca
SUMMARY:Men's Bible Study
DESCRIPTION:All men are invited for a Bible study! It’s a great time to connect and dive deeper into God’s Word.
URL:https://grunthalebc.ca/event/mens-bible-study/2030-07-15/
LOCATION:Manitoba
END:VEVENT
BEGIN:VEVENT
DTSTART;TZID=UTC:20300717T100000
DTEND;TZID=UTC:20300717T113000
DTSTAMP:20260424T022305
CREATED:20250605T164059Z
LAST-MODIFIED:20251218T153852Z
UID:10005795-1910512800-1910518200@grunthalebc.ca
SUMMARY:55+ Coffee & Fellowship
DESCRIPTION:Join us at church if you’re 55+ for coffee and fellowship!
URL:https://grunthalebc.ca/event/55-coffee-fellowship/2030-07-17/
LOCATION:Grunthal EBC\, 84 Oak Ave\, Grunthal\, Manitoba\, Canada
END:VEVENT
BEGIN:VEVENT
DTSTART;TZID=UTC:20300718T190000
DTEND;TZID=UTC:20300718T204500
DTSTAMP:20260424T022305
CREATED:20260226T211142Z
LAST-MODIFIED:20260226T211518Z
UID:10007409-1910631600-1910637900@grunthalebc.ca
SUMMARY:Junior Youth
DESCRIPTION:Grade 7-9 youth night! Games\, a devotional and snacks. Pick up at 8:45pm.
URL:https://grunthalebc.ca/event/junior-youth-2/2030-07-18/
LOCATION:Grunthal EBC\, 84 Oak Ave\, Grunthal\, Manitoba\, Canada
END:VEVENT
BEGIN:VEVENT
DTSTART;TZID=UTC:20300718T190000
DTEND;TZID=UTC:20300718T210000
DTSTAMP:20260424T022305
CREATED:20250925T185237Z
LAST-MODIFIED:20251209T171314Z
UID:10006883-1910631600-1910638800@grunthalebc.ca
SUMMARY:College & Career
DESCRIPTION:All young adults are welcome to join us for a Bible Study and fellowship!
URL:https://grunthalebc.ca/event/college-career/2030-07-18/
LOCATION:Grunthal EBC\, 84 Oak Ave\, Grunthal\, Manitoba\, Canada
END:VEVENT
BEGIN:VEVENT
DTSTART;TZID=UTC:20300719T193000
DTEND;TZID=UTC:20300719T220000
DTSTAMP:20260424T022305
CREATED:20260226T211214Z
LAST-MODIFIED:20260226T211214Z
UID:10007140-1910719800-1910728800@grunthalebc.ca
SUMMARY:Senior Youth
DESCRIPTION:Grade 10-12 youth night! Games\, a devotional and snack. Pick up at 10 pm.
URL:https://grunthalebc.ca/event/senior-youth-2/2030-07-19/
LOCATION:Grunthal EBC\, 84 Oak Ave\, Grunthal\, Manitoba\, Canada
END:VEVENT
BEGIN:VEVENT
DTSTART;TZID=UTC:20300722T203000
DTEND;TZID=UTC:20300722T223000
DTSTAMP:20260424T022305
CREATED:20250919T144433Z
LAST-MODIFIED:20251218T153448Z
UID:10006746-1910982600-1910989800@grunthalebc.ca
SUMMARY:Men's Bible Study
DESCRIPTION:All men are invited for a Bible study! It’s a great time to connect and dive deeper into God’s Word.
URL:https://grunthalebc.ca/event/mens-bible-study/2030-07-22/
LOCATION:Manitoba
END:VEVENT
BEGIN:VEVENT
DTSTART;TZID=UTC:20300724T100000
DTEND;TZID=UTC:20300724T113000
DTSTAMP:20260424T022305
CREATED:20250605T164059Z
LAST-MODIFIED:20251218T153852Z
UID:10005796-1911117600-1911123000@grunthalebc.ca
SUMMARY:55+ Coffee & Fellowship
DESCRIPTION:Join us at church if you’re 55+ for coffee and fellowship!
URL:https://grunthalebc.ca/event/55-coffee-fellowship/2030-07-24/
LOCATION:Grunthal EBC\, 84 Oak Ave\, Grunthal\, Manitoba\, Canada
END:VEVENT
BEGIN:VEVENT
DTSTART;TZID=UTC:20300725T190000
DTEND;TZID=UTC:20300725T204500
DTSTAMP:20260424T022305
CREATED:20260226T211142Z
LAST-MODIFIED:20260226T211518Z
UID:10007410-1911236400-1911242700@grunthalebc.ca
SUMMARY:Junior Youth
DESCRIPTION:Grade 7-9 youth night! Games\, a devotional and snacks. Pick up at 8:45pm.
URL:https://grunthalebc.ca/event/junior-youth-2/2030-07-25/
LOCATION:Grunthal EBC\, 84 Oak Ave\, Grunthal\, Manitoba\, Canada
END:VEVENT
BEGIN:VEVENT
DTSTART;TZID=UTC:20300726T093000
DTEND;TZID=UTC:20300726T110000
DTSTAMP:20260424T022305
CREATED:20260106T194428Z
LAST-MODIFIED:20260106T194429Z
UID:10007605-1911288600-1911294000@grunthalebc.ca
SUMMARY:Women's Bible Study
DESCRIPTION:Join Beth Fast as she takes us through God’s Word. Babysitting is available! \n 
URL:https://grunthalebc.ca/event/womens-bible-study-2/2030-07-26/
LOCATION:Grunthal EBC\, 84 Oak Ave\, Grunthal\, Manitoba\, Canada
END:VEVENT
BEGIN:VEVENT
DTSTART;TZID=UTC:20300726T193000
DTEND;TZID=UTC:20300726T220000
DTSTAMP:20260424T022305
CREATED:20260226T211214Z
LAST-MODIFIED:20260226T211214Z
UID:10007141-1911324600-1911333600@grunthalebc.ca
SUMMARY:Senior Youth
DESCRIPTION:Grade 10-12 youth night! Games\, a devotional and snack. Pick up at 10 pm.
URL:https://grunthalebc.ca/event/senior-youth-2/2030-07-26/
LOCATION:Grunthal EBC\, 84 Oak Ave\, Grunthal\, Manitoba\, Canada
END:VEVENT
BEGIN:VEVENT
DTSTART;TZID=UTC:20300729T203000
DTEND;TZID=UTC:20300729T223000
DTSTAMP:20260424T022305
CREATED:20250919T144433Z
LAST-MODIFIED:20251218T153448Z
UID:10006747-1911587400-1911594600@grunthalebc.ca
SUMMARY:Men's Bible Study
DESCRIPTION:All men are invited for a Bible study! It’s a great time to connect and dive deeper into God’s Word.
URL:https://grunthalebc.ca/event/mens-bible-study/2030-07-29/
LOCATION:Manitoba
END:VEVENT
BEGIN:VEVENT
DTSTART;TZID=UTC:20300731T100000
DTEND;TZID=UTC:20300731T113000
DTSTAMP:20260424T022305
CREATED:20250605T164059Z
LAST-MODIFIED:20251218T153852Z
UID:10005797-1911722400-1911727800@grunthalebc.ca
SUMMARY:55+ Coffee & Fellowship
DESCRIPTION:Join us at church if you’re 55+ for coffee and fellowship!
URL:https://grunthalebc.ca/event/55-coffee-fellowship/2030-07-31/
LOCATION:Grunthal EBC\, 84 Oak Ave\, Grunthal\, Manitoba\, Canada
END:VEVENT
END:VCALENDAR