BEGIN:VCALENDAR
VERSION:2.0
PRODID:-//Grunthal Evangelical Bible Church - ECPv6.15.20//NONSGML v1.0//EN
CALSCALE:GREGORIAN
METHOD:PUBLISH
X-WR-CALNAME:Grunthal Evangelical Bible Church
X-ORIGINAL-URL:https://grunthalebc.ca
X-WR-CALDESC:Events for Grunthal Evangelical Bible Church
REFRESH-INTERVAL;VALUE=DURATION:PT1H
X-Robots-Tag:noindex
X-PUBLISHED-TTL:PT1H
BEGIN:VTIMEZONE
TZID:UTC
BEGIN:STANDARD
TZOFFSETFROM:+0000
TZOFFSETTO:+0000
TZNAME:UTC
DTSTART:20280101T000000
END:STANDARD
END:VTIMEZONE
BEGIN:VEVENT
DTSTART;TZID=UTC:20291203T203000
DTEND;TZID=UTC:20291203T223000
DTSTAMP:20260423T141054
CREATED:20250919T144433Z
LAST-MODIFIED:20251218T153448Z
UID:10006713-1891024200-1891031400@grunthalebc.ca
SUMMARY:Men's Bible Study
DESCRIPTION:All men are invited for a Bible study! It’s a great time to connect and dive deeper into God’s Word.
URL:https://grunthalebc.ca/event/mens-bible-study/2029-12-03/
LOCATION:Manitoba
END:VEVENT
BEGIN:VEVENT
DTSTART;TZID=UTC:20291205T100000
DTEND;TZID=UTC:20291205T113000
DTSTAMP:20260423T141054
CREATED:20250605T164059Z
LAST-MODIFIED:20251218T153852Z
UID:10005574-1891159200-1891164600@grunthalebc.ca
SUMMARY:55+ Coffee & Fellowship
DESCRIPTION:Join us at church if you’re 55+ for coffee and fellowship!
URL:https://grunthalebc.ca/event/55-coffee-fellowship/2029-12-05/
LOCATION:Grunthal EBC\, 84 Oak Ave\, Grunthal\, Manitoba\, Canada
END:VEVENT
BEGIN:VEVENT
DTSTART;TZID=UTC:20291206T190000
DTEND;TZID=UTC:20291206T204500
DTSTAMP:20260423T141054
CREATED:20260226T211142Z
LAST-MODIFIED:20260226T211518Z
UID:10007377-1891278000-1891284300@grunthalebc.ca
SUMMARY:Junior Youth
DESCRIPTION:Grade 7-9 youth night! Games\, a devotional and snacks. Pick up at 8:45pm.
URL:https://grunthalebc.ca/event/junior-youth-2/2029-12-06/
LOCATION:Grunthal EBC\, 84 Oak Ave\, Grunthal\, Manitoba\, Canada
END:VEVENT
BEGIN:VEVENT
DTSTART;TZID=UTC:20291206T190000
DTEND;TZID=UTC:20291206T210000
DTSTAMP:20260423T141054
CREATED:20250925T185237Z
LAST-MODIFIED:20251209T171314Z
UID:10006867-1891278000-1891285200@grunthalebc.ca
SUMMARY:College & Career
DESCRIPTION:All young adults are welcome to join us for a Bible Study and fellowship!
URL:https://grunthalebc.ca/event/college-career/2029-12-06/
LOCATION:Grunthal EBC\, 84 Oak Ave\, Grunthal\, Manitoba\, Canada
END:VEVENT
BEGIN:VEVENT
DTSTART;TZID=UTC:20291207T193000
DTEND;TZID=UTC:20291207T220000
DTSTAMP:20260423T141054
CREATED:20260226T211214Z
LAST-MODIFIED:20260226T211214Z
UID:10007108-1891366200-1891375200@grunthalebc.ca
SUMMARY:Senior Youth
DESCRIPTION:Grade 10-12 youth night! Games\, a devotional and snack. Pick up at 10 pm.
URL:https://grunthalebc.ca/event/senior-youth-2/2029-12-07/
LOCATION:Grunthal EBC\, 84 Oak Ave\, Grunthal\, Manitoba\, Canada
END:VEVENT
BEGIN:VEVENT
DTSTART;TZID=UTC:20291210T203000
DTEND;TZID=UTC:20291210T223000
DTSTAMP:20260423T141054
CREATED:20250919T144433Z
LAST-MODIFIED:20251218T153448Z
UID:10006714-1891629000-1891636200@grunthalebc.ca
SUMMARY:Men's Bible Study
DESCRIPTION:All men are invited for a Bible study! It’s a great time to connect and dive deeper into God’s Word.
URL:https://grunthalebc.ca/event/mens-bible-study/2029-12-10/
LOCATION:Manitoba
END:VEVENT
BEGIN:VEVENT
DTSTART;TZID=UTC:20291212T100000
DTEND;TZID=UTC:20291212T113000
DTSTAMP:20260423T141054
CREATED:20250605T164059Z
LAST-MODIFIED:20251218T153852Z
UID:10005575-1891764000-1891769400@grunthalebc.ca
SUMMARY:55+ Coffee & Fellowship
DESCRIPTION:Join us at church if you’re 55+ for coffee and fellowship!
URL:https://grunthalebc.ca/event/55-coffee-fellowship/2029-12-12/
LOCATION:Grunthal EBC\, 84 Oak Ave\, Grunthal\, Manitoba\, Canada
END:VEVENT
BEGIN:VEVENT
DTSTART;TZID=UTC:20291213T190000
DTEND;TZID=UTC:20291213T204500
DTSTAMP:20260423T141054
CREATED:20260226T211142Z
LAST-MODIFIED:20260226T211518Z
UID:10007378-1891882800-1891889100@grunthalebc.ca
SUMMARY:Junior Youth
DESCRIPTION:Grade 7-9 youth night! Games\, a devotional and snacks. Pick up at 8:45pm.
URL:https://grunthalebc.ca/event/junior-youth-2/2029-12-13/
LOCATION:Grunthal EBC\, 84 Oak Ave\, Grunthal\, Manitoba\, Canada
END:VEVENT
BEGIN:VEVENT
DTSTART;TZID=UTC:20291214T093000
DTEND;TZID=UTC:20291214T110000
DTSTAMP:20260423T141054
CREATED:20260106T194428Z
LAST-MODIFIED:20260106T194429Z
UID:10007589-1891935000-1891940400@grunthalebc.ca
SUMMARY:Women's Bible Study
DESCRIPTION:Join Beth Fast as she takes us through God’s Word. Babysitting is available! \n 
URL:https://grunthalebc.ca/event/womens-bible-study-2/2029-12-14/
LOCATION:Grunthal EBC\, 84 Oak Ave\, Grunthal\, Manitoba\, Canada
END:VEVENT
BEGIN:VEVENT
DTSTART;TZID=UTC:20291214T193000
DTEND;TZID=UTC:20291214T220000
DTSTAMP:20260423T141054
CREATED:20260226T211214Z
LAST-MODIFIED:20260226T211214Z
UID:10007109-1891971000-1891980000@grunthalebc.ca
SUMMARY:Senior Youth
DESCRIPTION:Grade 10-12 youth night! Games\, a devotional and snack. Pick up at 10 pm.
URL:https://grunthalebc.ca/event/senior-youth-2/2029-12-14/
LOCATION:Grunthal EBC\, 84 Oak Ave\, Grunthal\, Manitoba\, Canada
END:VEVENT
BEGIN:VEVENT
DTSTART;TZID=UTC:20291217T203000
DTEND;TZID=UTC:20291217T223000
DTSTAMP:20260423T141054
CREATED:20250919T144433Z
LAST-MODIFIED:20251218T153448Z
UID:10006715-1892233800-1892241000@grunthalebc.ca
SUMMARY:Men's Bible Study
DESCRIPTION:All men are invited for a Bible study! It’s a great time to connect and dive deeper into God’s Word.
URL:https://grunthalebc.ca/event/mens-bible-study/2029-12-17/
LOCATION:Manitoba
END:VEVENT
BEGIN:VEVENT
DTSTART;TZID=UTC:20291219T100000
DTEND;TZID=UTC:20291219T113000
DTSTAMP:20260423T141054
CREATED:20250605T164059Z
LAST-MODIFIED:20251218T153852Z
UID:10005576-1892368800-1892374200@grunthalebc.ca
SUMMARY:55+ Coffee & Fellowship
DESCRIPTION:Join us at church if you’re 55+ for coffee and fellowship!
URL:https://grunthalebc.ca/event/55-coffee-fellowship/2029-12-19/
LOCATION:Grunthal EBC\, 84 Oak Ave\, Grunthal\, Manitoba\, Canada
END:VEVENT
BEGIN:VEVENT
DTSTART;TZID=UTC:20291220T190000
DTEND;TZID=UTC:20291220T204500
DTSTAMP:20260423T141054
CREATED:20260226T211142Z
LAST-MODIFIED:20260226T211518Z
UID:10007379-1892487600-1892493900@grunthalebc.ca
SUMMARY:Junior Youth
DESCRIPTION:Grade 7-9 youth night! Games\, a devotional and snacks. Pick up at 8:45pm.
URL:https://grunthalebc.ca/event/junior-youth-2/2029-12-20/
LOCATION:Grunthal EBC\, 84 Oak Ave\, Grunthal\, Manitoba\, Canada
END:VEVENT
BEGIN:VEVENT
DTSTART;TZID=UTC:20291220T190000
DTEND;TZID=UTC:20291220T210000
DTSTAMP:20260423T141054
CREATED:20250925T185237Z
LAST-MODIFIED:20251209T171314Z
UID:10006868-1892487600-1892494800@grunthalebc.ca
SUMMARY:College & Career
DESCRIPTION:All young adults are welcome to join us for a Bible Study and fellowship!
URL:https://grunthalebc.ca/event/college-career/2029-12-20/
LOCATION:Grunthal EBC\, 84 Oak Ave\, Grunthal\, Manitoba\, Canada
END:VEVENT
BEGIN:VEVENT
DTSTART;TZID=UTC:20291221T193000
DTEND;TZID=UTC:20291221T220000
DTSTAMP:20260423T141054
CREATED:20260226T211214Z
LAST-MODIFIED:20260226T211214Z
UID:10007110-1892575800-1892584800@grunthalebc.ca
SUMMARY:Senior Youth
DESCRIPTION:Grade 10-12 youth night! Games\, a devotional and snack. Pick up at 10 pm.
URL:https://grunthalebc.ca/event/senior-youth-2/2029-12-21/
LOCATION:Grunthal EBC\, 84 Oak Ave\, Grunthal\, Manitoba\, Canada
END:VEVENT
BEGIN:VEVENT
DTSTART;TZID=UTC:20291224T203000
DTEND;TZID=UTC:20291224T223000
DTSTAMP:20260423T141054
CREATED:20250919T144433Z
LAST-MODIFIED:20251218T153448Z
UID:10006716-1892838600-1892845800@grunthalebc.ca
SUMMARY:Men's Bible Study
DESCRIPTION:All men are invited for a Bible study! It’s a great time to connect and dive deeper into God’s Word.
URL:https://grunthalebc.ca/event/mens-bible-study/2029-12-24/
LOCATION:Manitoba
END:VEVENT
BEGIN:VEVENT
DTSTART;TZID=UTC:20291226T100000
DTEND;TZID=UTC:20291226T113000
DTSTAMP:20260423T141054
CREATED:20250605T164059Z
LAST-MODIFIED:20251218T153852Z
UID:10005577-1892973600-1892979000@grunthalebc.ca
SUMMARY:55+ Coffee & Fellowship
DESCRIPTION:Join us at church if you’re 55+ for coffee and fellowship!
URL:https://grunthalebc.ca/event/55-coffee-fellowship/2029-12-26/
LOCATION:Grunthal EBC\, 84 Oak Ave\, Grunthal\, Manitoba\, Canada
END:VEVENT
BEGIN:VEVENT
DTSTART;TZID=UTC:20291227T190000
DTEND;TZID=UTC:20291227T204500
DTSTAMP:20260423T141054
CREATED:20260226T211142Z
LAST-MODIFIED:20260226T211518Z
UID:10007380-1893092400-1893098700@grunthalebc.ca
SUMMARY:Junior Youth
DESCRIPTION:Grade 7-9 youth night! Games\, a devotional and snacks. Pick up at 8:45pm.
URL:https://grunthalebc.ca/event/junior-youth-2/2029-12-27/
LOCATION:Grunthal EBC\, 84 Oak Ave\, Grunthal\, Manitoba\, Canada
END:VEVENT
BEGIN:VEVENT
DTSTART;TZID=UTC:20291228T093000
DTEND;TZID=UTC:20291228T110000
DTSTAMP:20260423T141054
CREATED:20260106T194428Z
LAST-MODIFIED:20260106T194429Z
UID:10007590-1893144600-1893150000@grunthalebc.ca
SUMMARY:Women's Bible Study
DESCRIPTION:Join Beth Fast as she takes us through God’s Word. Babysitting is available! \n 
URL:https://grunthalebc.ca/event/womens-bible-study-2/2029-12-28/
LOCATION:Grunthal EBC\, 84 Oak Ave\, Grunthal\, Manitoba\, Canada
END:VEVENT
BEGIN:VEVENT
DTSTART;TZID=UTC:20291228T193000
DTEND;TZID=UTC:20291228T220000
DTSTAMP:20260423T141054
CREATED:20260226T211214Z
LAST-MODIFIED:20260226T211214Z
UID:10007111-1893180600-1893189600@grunthalebc.ca
SUMMARY:Senior Youth
DESCRIPTION:Grade 10-12 youth night! Games\, a devotional and snack. Pick up at 10 pm.
URL:https://grunthalebc.ca/event/senior-youth-2/2029-12-28/
LOCATION:Grunthal EBC\, 84 Oak Ave\, Grunthal\, Manitoba\, Canada
END:VEVENT
BEGIN:VEVENT
DTSTART;TZID=UTC:20291231T203000
DTEND;TZID=UTC:20291231T223000
DTSTAMP:20260423T141054
CREATED:20250919T144433Z
LAST-MODIFIED:20251218T153448Z
UID:10006717-1893443400-1893450600@grunthalebc.ca
SUMMARY:Men's Bible Study
DESCRIPTION:All men are invited for a Bible study! It’s a great time to connect and dive deeper into God’s Word.
URL:https://grunthalebc.ca/event/mens-bible-study/2029-12-31/
LOCATION:Manitoba
END:VEVENT
END:VCALENDAR