BEGIN:VCALENDAR
VERSION:2.0
PRODID:-//Grunthal Evangelical Bible Church - ECPv6.15.20//NONSGML v1.0//EN
CALSCALE:GREGORIAN
METHOD:PUBLISH
X-WR-CALNAME:Grunthal Evangelical Bible Church
X-ORIGINAL-URL:https://grunthalebc.ca
X-WR-CALDESC:Events for Grunthal Evangelical Bible Church
REFRESH-INTERVAL;VALUE=DURATION:PT1H
X-Robots-Tag:noindex
X-PUBLISHED-TTL:PT1H
BEGIN:VTIMEZONE
TZID:UTC
BEGIN:STANDARD
TZOFFSETFROM:+0000
TZOFFSETTO:+0000
TZNAME:UTC
DTSTART:20280101T000000
END:STANDARD
END:VTIMEZONE
BEGIN:VEVENT
DTSTART;TZID=UTC:20291001T203000
DTEND;TZID=UTC:20291001T223000
DTSTAMP:20260423T103702
CREATED:20250919T144433Z
LAST-MODIFIED:20251218T153448Z
UID:10006704-1885581000-1885588200@grunthalebc.ca
SUMMARY:Men's Bible Study
DESCRIPTION:All men are invited for a Bible study! It’s a great time to connect and dive deeper into God’s Word.
URL:https://grunthalebc.ca/event/mens-bible-study/2029-10-01/
LOCATION:Manitoba
END:VEVENT
BEGIN:VEVENT
DTSTART;TZID=UTC:20291003T100000
DTEND;TZID=UTC:20291003T113000
DTSTAMP:20260423T103702
CREATED:20250605T164059Z
LAST-MODIFIED:20251218T153852Z
UID:10005565-1885716000-1885721400@grunthalebc.ca
SUMMARY:55+ Coffee & Fellowship
DESCRIPTION:Join us at church if you’re 55+ for coffee and fellowship!
URL:https://grunthalebc.ca/event/55-coffee-fellowship/2029-10-03/
LOCATION:Grunthal EBC\, 84 Oak Ave\, Grunthal\, Manitoba\, Canada
END:VEVENT
BEGIN:VEVENT
DTSTART;TZID=UTC:20291004T190000
DTEND;TZID=UTC:20291004T204500
DTSTAMP:20260423T103702
CREATED:20260226T211142Z
LAST-MODIFIED:20260226T211518Z
UID:10007368-1885834800-1885841100@grunthalebc.ca
SUMMARY:Junior Youth
DESCRIPTION:Grade 7-9 youth night! Games\, a devotional and snacks. Pick up at 8:45pm.
URL:https://grunthalebc.ca/event/junior-youth-2/2029-10-04/
LOCATION:Grunthal EBC\, 84 Oak Ave\, Grunthal\, Manitoba\, Canada
END:VEVENT
BEGIN:VEVENT
DTSTART;TZID=UTC:20291005T093000
DTEND;TZID=UTC:20291005T110000
DTSTAMP:20260423T103702
CREATED:20260106T194428Z
LAST-MODIFIED:20260106T194429Z
UID:10007584-1885887000-1885892400@grunthalebc.ca
SUMMARY:Women's Bible Study
DESCRIPTION:Join Beth Fast as she takes us through God’s Word. Babysitting is available! \n 
URL:https://grunthalebc.ca/event/womens-bible-study-2/2029-10-05/
LOCATION:Grunthal EBC\, 84 Oak Ave\, Grunthal\, Manitoba\, Canada
END:VEVENT
BEGIN:VEVENT
DTSTART;TZID=UTC:20291005T193000
DTEND;TZID=UTC:20291005T220000
DTSTAMP:20260423T103702
CREATED:20260226T211214Z
LAST-MODIFIED:20260226T211214Z
UID:10007099-1885923000-1885932000@grunthalebc.ca
SUMMARY:Senior Youth
DESCRIPTION:Grade 10-12 youth night! Games\, a devotional and snack. Pick up at 10 pm.
URL:https://grunthalebc.ca/event/senior-youth-2/2029-10-05/
LOCATION:Grunthal EBC\, 84 Oak Ave\, Grunthal\, Manitoba\, Canada
END:VEVENT
BEGIN:VEVENT
DTSTART;TZID=UTC:20291008T203000
DTEND;TZID=UTC:20291008T223000
DTSTAMP:20260423T103702
CREATED:20250919T144433Z
LAST-MODIFIED:20251218T153448Z
UID:10006705-1886185800-1886193000@grunthalebc.ca
SUMMARY:Men's Bible Study
DESCRIPTION:All men are invited for a Bible study! It’s a great time to connect and dive deeper into God’s Word.
URL:https://grunthalebc.ca/event/mens-bible-study/2029-10-08/
LOCATION:Manitoba
END:VEVENT
BEGIN:VEVENT
DTSTART;TZID=UTC:20291010T100000
DTEND;TZID=UTC:20291010T113000
DTSTAMP:20260423T103702
CREATED:20250605T164059Z
LAST-MODIFIED:20251218T153852Z
UID:10005566-1886320800-1886326200@grunthalebc.ca
SUMMARY:55+ Coffee & Fellowship
DESCRIPTION:Join us at church if you’re 55+ for coffee and fellowship!
URL:https://grunthalebc.ca/event/55-coffee-fellowship/2029-10-10/
LOCATION:Grunthal EBC\, 84 Oak Ave\, Grunthal\, Manitoba\, Canada
END:VEVENT
BEGIN:VEVENT
DTSTART;TZID=UTC:20291011T190000
DTEND;TZID=UTC:20291011T204500
DTSTAMP:20260423T103702
CREATED:20260226T211142Z
LAST-MODIFIED:20260226T211518Z
UID:10007369-1886439600-1886445900@grunthalebc.ca
SUMMARY:Junior Youth
DESCRIPTION:Grade 7-9 youth night! Games\, a devotional and snacks. Pick up at 8:45pm.
URL:https://grunthalebc.ca/event/junior-youth-2/2029-10-11/
LOCATION:Grunthal EBC\, 84 Oak Ave\, Grunthal\, Manitoba\, Canada
END:VEVENT
BEGIN:VEVENT
DTSTART;TZID=UTC:20291011T190000
DTEND;TZID=UTC:20291011T210000
DTSTAMP:20260423T103702
CREATED:20250925T185237Z
LAST-MODIFIED:20251209T171314Z
UID:10006863-1886439600-1886446800@grunthalebc.ca
SUMMARY:College & Career
DESCRIPTION:All young adults are welcome to join us for a Bible Study and fellowship!
URL:https://grunthalebc.ca/event/college-career/2029-10-11/
LOCATION:Grunthal EBC\, 84 Oak Ave\, Grunthal\, Manitoba\, Canada
END:VEVENT
BEGIN:VEVENT
DTSTART;TZID=UTC:20291012T193000
DTEND;TZID=UTC:20291012T220000
DTSTAMP:20260423T103702
CREATED:20260226T211214Z
LAST-MODIFIED:20260226T211214Z
UID:10007100-1886527800-1886536800@grunthalebc.ca
SUMMARY:Senior Youth
DESCRIPTION:Grade 10-12 youth night! Games\, a devotional and snack. Pick up at 10 pm.
URL:https://grunthalebc.ca/event/senior-youth-2/2029-10-12/
LOCATION:Grunthal EBC\, 84 Oak Ave\, Grunthal\, Manitoba\, Canada
END:VEVENT
BEGIN:VEVENT
DTSTART;TZID=UTC:20291015T203000
DTEND;TZID=UTC:20291015T223000
DTSTAMP:20260423T103702
CREATED:20250919T144433Z
LAST-MODIFIED:20251218T153448Z
UID:10006706-1886790600-1886797800@grunthalebc.ca
SUMMARY:Men's Bible Study
DESCRIPTION:All men are invited for a Bible study! It’s a great time to connect and dive deeper into God’s Word.
URL:https://grunthalebc.ca/event/mens-bible-study/2029-10-15/
LOCATION:Manitoba
END:VEVENT
BEGIN:VEVENT
DTSTART;TZID=UTC:20291017T100000
DTEND;TZID=UTC:20291017T113000
DTSTAMP:20260423T103702
CREATED:20250605T164059Z
LAST-MODIFIED:20251218T153852Z
UID:10005567-1886925600-1886931000@grunthalebc.ca
SUMMARY:55+ Coffee & Fellowship
DESCRIPTION:Join us at church if you’re 55+ for coffee and fellowship!
URL:https://grunthalebc.ca/event/55-coffee-fellowship/2029-10-17/
LOCATION:Grunthal EBC\, 84 Oak Ave\, Grunthal\, Manitoba\, Canada
END:VEVENT
BEGIN:VEVENT
DTSTART;TZID=UTC:20291018T190000
DTEND;TZID=UTC:20291018T204500
DTSTAMP:20260423T103702
CREATED:20260226T211142Z
LAST-MODIFIED:20260226T211518Z
UID:10007370-1887044400-1887050700@grunthalebc.ca
SUMMARY:Junior Youth
DESCRIPTION:Grade 7-9 youth night! Games\, a devotional and snacks. Pick up at 8:45pm.
URL:https://grunthalebc.ca/event/junior-youth-2/2029-10-18/
LOCATION:Grunthal EBC\, 84 Oak Ave\, Grunthal\, Manitoba\, Canada
END:VEVENT
BEGIN:VEVENT
DTSTART;TZID=UTC:20291019T093000
DTEND;TZID=UTC:20291019T110000
DTSTAMP:20260423T103702
CREATED:20260106T194428Z
LAST-MODIFIED:20260106T194429Z
UID:10007585-1887096600-1887102000@grunthalebc.ca
SUMMARY:Women's Bible Study
DESCRIPTION:Join Beth Fast as she takes us through God’s Word. Babysitting is available! \n 
URL:https://grunthalebc.ca/event/womens-bible-study-2/2029-10-19/
LOCATION:Grunthal EBC\, 84 Oak Ave\, Grunthal\, Manitoba\, Canada
END:VEVENT
BEGIN:VEVENT
DTSTART;TZID=UTC:20291019T193000
DTEND;TZID=UTC:20291019T220000
DTSTAMP:20260423T103702
CREATED:20260226T211214Z
LAST-MODIFIED:20260226T211214Z
UID:10007101-1887132600-1887141600@grunthalebc.ca
SUMMARY:Senior Youth
DESCRIPTION:Grade 10-12 youth night! Games\, a devotional and snack. Pick up at 10 pm.
URL:https://grunthalebc.ca/event/senior-youth-2/2029-10-19/
LOCATION:Grunthal EBC\, 84 Oak Ave\, Grunthal\, Manitoba\, Canada
END:VEVENT
BEGIN:VEVENT
DTSTART;TZID=UTC:20291022T203000
DTEND;TZID=UTC:20291022T223000
DTSTAMP:20260423T103702
CREATED:20250919T144433Z
LAST-MODIFIED:20251218T153448Z
UID:10006707-1887395400-1887402600@grunthalebc.ca
SUMMARY:Men's Bible Study
DESCRIPTION:All men are invited for a Bible study! It’s a great time to connect and dive deeper into God’s Word.
URL:https://grunthalebc.ca/event/mens-bible-study/2029-10-22/
LOCATION:Manitoba
END:VEVENT
BEGIN:VEVENT
DTSTART;TZID=UTC:20291024T100000
DTEND;TZID=UTC:20291024T113000
DTSTAMP:20260423T103703
CREATED:20250605T164059Z
LAST-MODIFIED:20251218T153852Z
UID:10005568-1887530400-1887535800@grunthalebc.ca
SUMMARY:55+ Coffee & Fellowship
DESCRIPTION:Join us at church if you’re 55+ for coffee and fellowship!
URL:https://grunthalebc.ca/event/55-coffee-fellowship/2029-10-24/
LOCATION:Grunthal EBC\, 84 Oak Ave\, Grunthal\, Manitoba\, Canada
END:VEVENT
BEGIN:VEVENT
DTSTART;TZID=UTC:20291025T190000
DTEND;TZID=UTC:20291025T204500
DTSTAMP:20260423T103703
CREATED:20260226T211142Z
LAST-MODIFIED:20260226T211518Z
UID:10007371-1887649200-1887655500@grunthalebc.ca
SUMMARY:Junior Youth
DESCRIPTION:Grade 7-9 youth night! Games\, a devotional and snacks. Pick up at 8:45pm.
URL:https://grunthalebc.ca/event/junior-youth-2/2029-10-25/
LOCATION:Grunthal EBC\, 84 Oak Ave\, Grunthal\, Manitoba\, Canada
END:VEVENT
BEGIN:VEVENT
DTSTART;TZID=UTC:20291025T190000
DTEND;TZID=UTC:20291025T210000
DTSTAMP:20260423T103703
CREATED:20250925T185237Z
LAST-MODIFIED:20251209T171314Z
UID:10006864-1887649200-1887656400@grunthalebc.ca
SUMMARY:College & Career
DESCRIPTION:All young adults are welcome to join us for a Bible Study and fellowship!
URL:https://grunthalebc.ca/event/college-career/2029-10-25/
LOCATION:Grunthal EBC\, 84 Oak Ave\, Grunthal\, Manitoba\, Canada
END:VEVENT
BEGIN:VEVENT
DTSTART;TZID=UTC:20291026T193000
DTEND;TZID=UTC:20291026T220000
DTSTAMP:20260423T103703
CREATED:20260226T211214Z
LAST-MODIFIED:20260226T211214Z
UID:10007102-1887737400-1887746400@grunthalebc.ca
SUMMARY:Senior Youth
DESCRIPTION:Grade 10-12 youth night! Games\, a devotional and snack. Pick up at 10 pm.
URL:https://grunthalebc.ca/event/senior-youth-2/2029-10-26/
LOCATION:Grunthal EBC\, 84 Oak Ave\, Grunthal\, Manitoba\, Canada
END:VEVENT
BEGIN:VEVENT
DTSTART;TZID=UTC:20291029T203000
DTEND;TZID=UTC:20291029T223000
DTSTAMP:20260423T103703
CREATED:20250919T144433Z
LAST-MODIFIED:20251218T153448Z
UID:10006708-1888000200-1888007400@grunthalebc.ca
SUMMARY:Men's Bible Study
DESCRIPTION:All men are invited for a Bible study! It’s a great time to connect and dive deeper into God’s Word.
URL:https://grunthalebc.ca/event/mens-bible-study/2029-10-29/
LOCATION:Manitoba
END:VEVENT
BEGIN:VEVENT
DTSTART;TZID=UTC:20291031T100000
DTEND;TZID=UTC:20291031T113000
DTSTAMP:20260423T103703
CREATED:20250605T164059Z
LAST-MODIFIED:20251218T153852Z
UID:10005569-1888135200-1888140600@grunthalebc.ca
SUMMARY:55+ Coffee & Fellowship
DESCRIPTION:Join us at church if you’re 55+ for coffee and fellowship!
URL:https://grunthalebc.ca/event/55-coffee-fellowship/2029-10-31/
LOCATION:Grunthal EBC\, 84 Oak Ave\, Grunthal\, Manitoba\, Canada
END:VEVENT
END:VCALENDAR