BEGIN:VCALENDAR
VERSION:2.0
PRODID:-//Grunthal Evangelical Bible Church - ECPv6.15.20//NONSGML v1.0//EN
CALSCALE:GREGORIAN
METHOD:PUBLISH
X-ORIGINAL-URL:https://grunthalebc.ca
X-WR-CALDESC:Events for Grunthal Evangelical Bible Church
REFRESH-INTERVAL;VALUE=DURATION:PT1H
X-Robots-Tag:noindex
X-PUBLISHED-TTL:PT1H
BEGIN:VTIMEZONE
TZID:UTC
BEGIN:STANDARD
TZOFFSETFROM:+0000
TZOFFSETTO:+0000
TZNAME:UTC
DTSTART:20280101T000000
END:STANDARD
END:VTIMEZONE
BEGIN:VEVENT
DTSTART;TZID=UTC:20290903T203000
DTEND;TZID=UTC:20290903T223000
DTSTAMP:20260423T091329
CREATED:20250919T144433Z
LAST-MODIFIED:20251218T153448Z
UID:10006700-1883161800-1883169000@grunthalebc.ca
SUMMARY:Men's Bible Study
DESCRIPTION:All men are invited for a Bible study! It’s a great time to connect and dive deeper into God’s Word.
URL:https://grunthalebc.ca/event/mens-bible-study/2029-09-03/
LOCATION:Manitoba
END:VEVENT
BEGIN:VEVENT
DTSTART;TZID=UTC:20290905T100000
DTEND;TZID=UTC:20290905T113000
DTSTAMP:20260423T091329
CREATED:20250605T164059Z
LAST-MODIFIED:20251218T153852Z
UID:10005561-1883296800-1883302200@grunthalebc.ca
SUMMARY:55+ Coffee & Fellowship
DESCRIPTION:Join us at church if you’re 55+ for coffee and fellowship!
URL:https://grunthalebc.ca/event/55-coffee-fellowship/2029-09-05/
LOCATION:Grunthal EBC\, 84 Oak Ave\, Grunthal\, Manitoba\, Canada
END:VEVENT
BEGIN:VEVENT
DTSTART;TZID=UTC:20290906T190000
DTEND;TZID=UTC:20290906T204500
DTSTAMP:20260423T091329
CREATED:20260226T211142Z
LAST-MODIFIED:20260226T211518Z
UID:10007364-1883415600-1883421900@grunthalebc.ca
SUMMARY:Junior Youth
DESCRIPTION:Grade 7-9 youth night! Games\, a devotional and snacks. Pick up at 8:45pm.
URL:https://grunthalebc.ca/event/junior-youth-2/2029-09-06/
LOCATION:Grunthal EBC\, 84 Oak Ave\, Grunthal\, Manitoba\, Canada
END:VEVENT
BEGIN:VEVENT
DTSTART;TZID=UTC:20290907T093000
DTEND;TZID=UTC:20290907T110000
DTSTAMP:20260423T091329
CREATED:20260106T194428Z
LAST-MODIFIED:20260106T194429Z
UID:10007582-1883467800-1883473200@grunthalebc.ca
SUMMARY:Women's Bible Study
DESCRIPTION:Join Beth Fast as she takes us through God’s Word. Babysitting is available! \n 
URL:https://grunthalebc.ca/event/womens-bible-study-2/2029-09-07/
LOCATION:Grunthal EBC\, 84 Oak Ave\, Grunthal\, Manitoba\, Canada
END:VEVENT
BEGIN:VEVENT
DTSTART;TZID=UTC:20290907T193000
DTEND;TZID=UTC:20290907T220000
DTSTAMP:20260423T091329
CREATED:20260226T211214Z
LAST-MODIFIED:20260226T211214Z
UID:10007095-1883503800-1883512800@grunthalebc.ca
SUMMARY:Senior Youth
DESCRIPTION:Grade 10-12 youth night! Games\, a devotional and snack. Pick up at 10 pm.
URL:https://grunthalebc.ca/event/senior-youth-2/2029-09-07/
LOCATION:Grunthal EBC\, 84 Oak Ave\, Grunthal\, Manitoba\, Canada
END:VEVENT
BEGIN:VEVENT
DTSTART;TZID=UTC:20290910T203000
DTEND;TZID=UTC:20290910T223000
DTSTAMP:20260423T091329
CREATED:20250919T144433Z
LAST-MODIFIED:20251218T153448Z
UID:10006701-1883766600-1883773800@grunthalebc.ca
SUMMARY:Men's Bible Study
DESCRIPTION:All men are invited for a Bible study! It’s a great time to connect and dive deeper into God’s Word.
URL:https://grunthalebc.ca/event/mens-bible-study/2029-09-10/
LOCATION:Manitoba
END:VEVENT
BEGIN:VEVENT
DTSTART;TZID=UTC:20290912T100000
DTEND;TZID=UTC:20290912T113000
DTSTAMP:20260423T091329
CREATED:20250605T164059Z
LAST-MODIFIED:20251218T153852Z
UID:10005562-1883901600-1883907000@grunthalebc.ca
SUMMARY:55+ Coffee & Fellowship
DESCRIPTION:Join us at church if you’re 55+ for coffee and fellowship!
URL:https://grunthalebc.ca/event/55-coffee-fellowship/2029-09-12/
LOCATION:Grunthal EBC\, 84 Oak Ave\, Grunthal\, Manitoba\, Canada
END:VEVENT
BEGIN:VEVENT
DTSTART;TZID=UTC:20290913T190000
DTEND;TZID=UTC:20290913T204500
DTSTAMP:20260423T091329
CREATED:20260226T211142Z
LAST-MODIFIED:20260226T211518Z
UID:10007365-1884020400-1884026700@grunthalebc.ca
SUMMARY:Junior Youth
DESCRIPTION:Grade 7-9 youth night! Games\, a devotional and snacks. Pick up at 8:45pm.
URL:https://grunthalebc.ca/event/junior-youth-2/2029-09-13/
LOCATION:Grunthal EBC\, 84 Oak Ave\, Grunthal\, Manitoba\, Canada
END:VEVENT
BEGIN:VEVENT
DTSTART;TZID=UTC:20290913T190000
DTEND;TZID=UTC:20290913T210000
DTSTAMP:20260423T091329
CREATED:20250925T185237Z
LAST-MODIFIED:20251209T171314Z
UID:10006861-1884020400-1884027600@grunthalebc.ca
SUMMARY:College & Career
DESCRIPTION:All young adults are welcome to join us for a Bible Study and fellowship!
URL:https://grunthalebc.ca/event/college-career/2029-09-13/
LOCATION:Grunthal EBC\, 84 Oak Ave\, Grunthal\, Manitoba\, Canada
END:VEVENT
BEGIN:VEVENT
DTSTART;TZID=UTC:20290914T193000
DTEND;TZID=UTC:20290914T220000
DTSTAMP:20260423T091329
CREATED:20260226T211214Z
LAST-MODIFIED:20260226T211214Z
UID:10007096-1884108600-1884117600@grunthalebc.ca
SUMMARY:Senior Youth
DESCRIPTION:Grade 10-12 youth night! Games\, a devotional and snack. Pick up at 10 pm.
URL:https://grunthalebc.ca/event/senior-youth-2/2029-09-14/
LOCATION:Grunthal EBC\, 84 Oak Ave\, Grunthal\, Manitoba\, Canada
END:VEVENT
BEGIN:VEVENT
DTSTART;TZID=UTC:20290917T203000
DTEND;TZID=UTC:20290917T223000
DTSTAMP:20260423T091329
CREATED:20250919T144433Z
LAST-MODIFIED:20251218T153448Z
UID:10006702-1884371400-1884378600@grunthalebc.ca
SUMMARY:Men's Bible Study
DESCRIPTION:All men are invited for a Bible study! It’s a great time to connect and dive deeper into God’s Word.
URL:https://grunthalebc.ca/event/mens-bible-study/2029-09-17/
LOCATION:Manitoba
END:VEVENT
BEGIN:VEVENT
DTSTART;TZID=UTC:20290919T100000
DTEND;TZID=UTC:20290919T113000
DTSTAMP:20260423T091329
CREATED:20250605T164059Z
LAST-MODIFIED:20251218T153852Z
UID:10005563-1884506400-1884511800@grunthalebc.ca
SUMMARY:55+ Coffee & Fellowship
DESCRIPTION:Join us at church if you’re 55+ for coffee and fellowship!
URL:https://grunthalebc.ca/event/55-coffee-fellowship/2029-09-19/
LOCATION:Grunthal EBC\, 84 Oak Ave\, Grunthal\, Manitoba\, Canada
END:VEVENT
BEGIN:VEVENT
DTSTART;TZID=UTC:20290920T190000
DTEND;TZID=UTC:20290920T204500
DTSTAMP:20260423T091329
CREATED:20260226T211142Z
LAST-MODIFIED:20260226T211518Z
UID:10007366-1884625200-1884631500@grunthalebc.ca
SUMMARY:Junior Youth
DESCRIPTION:Grade 7-9 youth night! Games\, a devotional and snacks. Pick up at 8:45pm.
URL:https://grunthalebc.ca/event/junior-youth-2/2029-09-20/
LOCATION:Grunthal EBC\, 84 Oak Ave\, Grunthal\, Manitoba\, Canada
END:VEVENT
BEGIN:VEVENT
DTSTART;TZID=UTC:20290921T093000
DTEND;TZID=UTC:20290921T110000
DTSTAMP:20260423T091329
CREATED:20260106T194428Z
LAST-MODIFIED:20260106T194429Z
UID:10007583-1884677400-1884682800@grunthalebc.ca
SUMMARY:Women's Bible Study
DESCRIPTION:Join Beth Fast as she takes us through God’s Word. Babysitting is available! \n 
URL:https://grunthalebc.ca/event/womens-bible-study-2/2029-09-21/
LOCATION:Grunthal EBC\, 84 Oak Ave\, Grunthal\, Manitoba\, Canada
END:VEVENT
BEGIN:VEVENT
DTSTART;TZID=UTC:20290921T193000
DTEND;TZID=UTC:20290921T220000
DTSTAMP:20260423T091329
CREATED:20260226T211214Z
LAST-MODIFIED:20260226T211214Z
UID:10007097-1884713400-1884722400@grunthalebc.ca
SUMMARY:Senior Youth
DESCRIPTION:Grade 10-12 youth night! Games\, a devotional and snack. Pick up at 10 pm.
URL:https://grunthalebc.ca/event/senior-youth-2/2029-09-21/
LOCATION:Grunthal EBC\, 84 Oak Ave\, Grunthal\, Manitoba\, Canada
END:VEVENT
BEGIN:VEVENT
DTSTART;TZID=UTC:20290924T203000
DTEND;TZID=UTC:20290924T223000
DTSTAMP:20260423T091329
CREATED:20250919T144433Z
LAST-MODIFIED:20251218T153448Z
UID:10006703-1884976200-1884983400@grunthalebc.ca
SUMMARY:Men's Bible Study
DESCRIPTION:All men are invited for a Bible study! It’s a great time to connect and dive deeper into God’s Word.
URL:https://grunthalebc.ca/event/mens-bible-study/2029-09-24/
LOCATION:Manitoba
END:VEVENT
BEGIN:VEVENT
DTSTART;TZID=UTC:20290926T100000
DTEND;TZID=UTC:20290926T113000
DTSTAMP:20260423T091329
CREATED:20250605T164059Z
LAST-MODIFIED:20251218T153852Z
UID:10005564-1885111200-1885116600@grunthalebc.ca
SUMMARY:55+ Coffee & Fellowship
DESCRIPTION:Join us at church if you’re 55+ for coffee and fellowship!
URL:https://grunthalebc.ca/event/55-coffee-fellowship/2029-09-26/
LOCATION:Grunthal EBC\, 84 Oak Ave\, Grunthal\, Manitoba\, Canada
END:VEVENT
BEGIN:VEVENT
DTSTART;TZID=UTC:20290927T190000
DTEND;TZID=UTC:20290927T204500
DTSTAMP:20260423T091329
CREATED:20260226T211142Z
LAST-MODIFIED:20260226T211518Z
UID:10007367-1885230000-1885236300@grunthalebc.ca
SUMMARY:Junior Youth
DESCRIPTION:Grade 7-9 youth night! Games\, a devotional and snacks. Pick up at 8:45pm.
URL:https://grunthalebc.ca/event/junior-youth-2/2029-09-27/
LOCATION:Grunthal EBC\, 84 Oak Ave\, Grunthal\, Manitoba\, Canada
END:VEVENT
BEGIN:VEVENT
DTSTART;TZID=UTC:20290927T190000
DTEND;TZID=UTC:20290927T210000
DTSTAMP:20260423T091329
CREATED:20250925T185237Z
LAST-MODIFIED:20251209T171314Z
UID:10006862-1885230000-1885237200@grunthalebc.ca
SUMMARY:College & Career
DESCRIPTION:All young adults are welcome to join us for a Bible Study and fellowship!
URL:https://grunthalebc.ca/event/college-career/2029-09-27/
LOCATION:Grunthal EBC\, 84 Oak Ave\, Grunthal\, Manitoba\, Canada
END:VEVENT
BEGIN:VEVENT
DTSTART;TZID=UTC:20290928T193000
DTEND;TZID=UTC:20290928T220000
DTSTAMP:20260423T091329
CREATED:20260226T211214Z
LAST-MODIFIED:20260226T211214Z
UID:10007098-1885318200-1885327200@grunthalebc.ca
SUMMARY:Senior Youth
DESCRIPTION:Grade 10-12 youth night! Games\, a devotional and snack. Pick up at 10 pm.
URL:https://grunthalebc.ca/event/senior-youth-2/2029-09-28/
LOCATION:Grunthal EBC\, 84 Oak Ave\, Grunthal\, Manitoba\, Canada
END:VEVENT
END:VCALENDAR