BEGIN:VCALENDAR
VERSION:2.0
PRODID:-//Grunthal Evangelical Bible Church - ECPv6.15.20//NONSGML v1.0//EN
CALSCALE:GREGORIAN
METHOD:PUBLISH
X-WR-CALNAME:Grunthal Evangelical Bible Church
X-ORIGINAL-URL:https://grunthalebc.ca
X-WR-CALDESC:Events for Grunthal Evangelical Bible Church
REFRESH-INTERVAL;VALUE=DURATION:PT1H
X-Robots-Tag:noindex
X-PUBLISHED-TTL:PT1H
BEGIN:VTIMEZONE
TZID:UTC
BEGIN:STANDARD
TZOFFSETFROM:+0000
TZOFFSETTO:+0000
TZNAME:UTC
DTSTART:20280101T000000
END:STANDARD
END:VTIMEZONE
BEGIN:VEVENT
DTSTART;TZID=UTC:20290702T203000
DTEND;TZID=UTC:20290702T223000
DTSTAMP:20260423T055420
CREATED:20250919T144433Z
LAST-MODIFIED:20251218T153448Z
UID:10006691-1877718600-1877725800@grunthalebc.ca
SUMMARY:Men's Bible Study
DESCRIPTION:All men are invited for a Bible study! It’s a great time to connect and dive deeper into God’s Word.
URL:https://grunthalebc.ca/event/mens-bible-study/2029-07-02/
LOCATION:Manitoba
END:VEVENT
BEGIN:VEVENT
DTSTART;TZID=UTC:20290704T100000
DTEND;TZID=UTC:20290704T113000
DTSTAMP:20260423T055420
CREATED:20250605T164059Z
LAST-MODIFIED:20251218T153852Z
UID:10005552-1877853600-1877859000@grunthalebc.ca
SUMMARY:55+ Coffee & Fellowship
DESCRIPTION:Join us at church if you’re 55+ for coffee and fellowship!
URL:https://grunthalebc.ca/event/55-coffee-fellowship/2029-07-04/
LOCATION:Grunthal EBC\, 84 Oak Ave\, Grunthal\, Manitoba\, Canada
END:VEVENT
BEGIN:VEVENT
DTSTART;TZID=UTC:20290705T190000
DTEND;TZID=UTC:20290705T204500
DTSTAMP:20260423T055420
CREATED:20260226T211142Z
LAST-MODIFIED:20260226T211518Z
UID:10007355-1877972400-1877978700@grunthalebc.ca
SUMMARY:Junior Youth
DESCRIPTION:Grade 7-9 youth night! Games\, a devotional and snacks. Pick up at 8:45pm.
URL:https://grunthalebc.ca/event/junior-youth-2/2029-07-05/
LOCATION:Grunthal EBC\, 84 Oak Ave\, Grunthal\, Manitoba\, Canada
END:VEVENT
BEGIN:VEVENT
DTSTART;TZID=UTC:20290705T190000
DTEND;TZID=UTC:20290705T210000
DTSTAMP:20260423T055420
CREATED:20250925T185237Z
LAST-MODIFIED:20251209T171314Z
UID:10006856-1877972400-1877979600@grunthalebc.ca
SUMMARY:College & Career
DESCRIPTION:All young adults are welcome to join us for a Bible Study and fellowship!
URL:https://grunthalebc.ca/event/college-career/2029-07-05/
LOCATION:Grunthal EBC\, 84 Oak Ave\, Grunthal\, Manitoba\, Canada
END:VEVENT
BEGIN:VEVENT
DTSTART;TZID=UTC:20290706T193000
DTEND;TZID=UTC:20290706T220000
DTSTAMP:20260423T055420
CREATED:20260226T211214Z
LAST-MODIFIED:20260226T211214Z
UID:10007086-1878060600-1878069600@grunthalebc.ca
SUMMARY:Senior Youth
DESCRIPTION:Grade 10-12 youth night! Games\, a devotional and snack. Pick up at 10 pm.
URL:https://grunthalebc.ca/event/senior-youth-2/2029-07-06/
LOCATION:Grunthal EBC\, 84 Oak Ave\, Grunthal\, Manitoba\, Canada
END:VEVENT
BEGIN:VEVENT
DTSTART;TZID=UTC:20290709T203000
DTEND;TZID=UTC:20290709T223000
DTSTAMP:20260423T055420
CREATED:20250919T144433Z
LAST-MODIFIED:20251218T153448Z
UID:10006692-1878323400-1878330600@grunthalebc.ca
SUMMARY:Men's Bible Study
DESCRIPTION:All men are invited for a Bible study! It’s a great time to connect and dive deeper into God’s Word.
URL:https://grunthalebc.ca/event/mens-bible-study/2029-07-09/
LOCATION:Manitoba
END:VEVENT
BEGIN:VEVENT
DTSTART;TZID=UTC:20290711T100000
DTEND;TZID=UTC:20290711T113000
DTSTAMP:20260423T055420
CREATED:20250605T164059Z
LAST-MODIFIED:20251218T153852Z
UID:10005553-1878458400-1878463800@grunthalebc.ca
SUMMARY:55+ Coffee & Fellowship
DESCRIPTION:Join us at church if you’re 55+ for coffee and fellowship!
URL:https://grunthalebc.ca/event/55-coffee-fellowship/2029-07-11/
LOCATION:Grunthal EBC\, 84 Oak Ave\, Grunthal\, Manitoba\, Canada
END:VEVENT
BEGIN:VEVENT
DTSTART;TZID=UTC:20290712T190000
DTEND;TZID=UTC:20290712T204500
DTSTAMP:20260423T055420
CREATED:20260226T211142Z
LAST-MODIFIED:20260226T211518Z
UID:10007356-1878577200-1878583500@grunthalebc.ca
SUMMARY:Junior Youth
DESCRIPTION:Grade 7-9 youth night! Games\, a devotional and snacks. Pick up at 8:45pm.
URL:https://grunthalebc.ca/event/junior-youth-2/2029-07-12/
LOCATION:Grunthal EBC\, 84 Oak Ave\, Grunthal\, Manitoba\, Canada
END:VEVENT
BEGIN:VEVENT
DTSTART;TZID=UTC:20290713T093000
DTEND;TZID=UTC:20290713T110000
DTSTAMP:20260423T055420
CREATED:20260106T194428Z
LAST-MODIFIED:20260106T194429Z
UID:10007578-1878629400-1878634800@grunthalebc.ca
SUMMARY:Women's Bible Study
DESCRIPTION:Join Beth Fast as she takes us through God’s Word. Babysitting is available! \n 
URL:https://grunthalebc.ca/event/womens-bible-study-2/2029-07-13/
LOCATION:Grunthal EBC\, 84 Oak Ave\, Grunthal\, Manitoba\, Canada
END:VEVENT
BEGIN:VEVENT
DTSTART;TZID=UTC:20290713T193000
DTEND;TZID=UTC:20290713T220000
DTSTAMP:20260423T055420
CREATED:20260226T211214Z
LAST-MODIFIED:20260226T211214Z
UID:10007087-1878665400-1878674400@grunthalebc.ca
SUMMARY:Senior Youth
DESCRIPTION:Grade 10-12 youth night! Games\, a devotional and snack. Pick up at 10 pm.
URL:https://grunthalebc.ca/event/senior-youth-2/2029-07-13/
LOCATION:Grunthal EBC\, 84 Oak Ave\, Grunthal\, Manitoba\, Canada
END:VEVENT
BEGIN:VEVENT
DTSTART;TZID=UTC:20290716T203000
DTEND;TZID=UTC:20290716T223000
DTSTAMP:20260423T055420
CREATED:20250919T144433Z
LAST-MODIFIED:20251218T153448Z
UID:10006693-1878928200-1878935400@grunthalebc.ca
SUMMARY:Men's Bible Study
DESCRIPTION:All men are invited for a Bible study! It’s a great time to connect and dive deeper into God’s Word.
URL:https://grunthalebc.ca/event/mens-bible-study/2029-07-16/
LOCATION:Manitoba
END:VEVENT
BEGIN:VEVENT
DTSTART;TZID=UTC:20290718T100000
DTEND;TZID=UTC:20290718T113000
DTSTAMP:20260423T055420
CREATED:20250605T164059Z
LAST-MODIFIED:20251218T153852Z
UID:10005554-1879063200-1879068600@grunthalebc.ca
SUMMARY:55+ Coffee & Fellowship
DESCRIPTION:Join us at church if you’re 55+ for coffee and fellowship!
URL:https://grunthalebc.ca/event/55-coffee-fellowship/2029-07-18/
LOCATION:Grunthal EBC\, 84 Oak Ave\, Grunthal\, Manitoba\, Canada
END:VEVENT
BEGIN:VEVENT
DTSTART;TZID=UTC:20290719T190000
DTEND;TZID=UTC:20290719T204500
DTSTAMP:20260423T055420
CREATED:20260226T211142Z
LAST-MODIFIED:20260226T211518Z
UID:10007357-1879182000-1879188300@grunthalebc.ca
SUMMARY:Junior Youth
DESCRIPTION:Grade 7-9 youth night! Games\, a devotional and snacks. Pick up at 8:45pm.
URL:https://grunthalebc.ca/event/junior-youth-2/2029-07-19/
LOCATION:Grunthal EBC\, 84 Oak Ave\, Grunthal\, Manitoba\, Canada
END:VEVENT
BEGIN:VEVENT
DTSTART;TZID=UTC:20290719T190000
DTEND;TZID=UTC:20290719T210000
DTSTAMP:20260423T055420
CREATED:20250925T185237Z
LAST-MODIFIED:20251209T171314Z
UID:10006857-1879182000-1879189200@grunthalebc.ca
SUMMARY:College & Career
DESCRIPTION:All young adults are welcome to join us for a Bible Study and fellowship!
URL:https://grunthalebc.ca/event/college-career/2029-07-19/
LOCATION:Grunthal EBC\, 84 Oak Ave\, Grunthal\, Manitoba\, Canada
END:VEVENT
BEGIN:VEVENT
DTSTART;TZID=UTC:20290720T193000
DTEND;TZID=UTC:20290720T220000
DTSTAMP:20260423T055420
CREATED:20260226T211214Z
LAST-MODIFIED:20260226T211214Z
UID:10007088-1879270200-1879279200@grunthalebc.ca
SUMMARY:Senior Youth
DESCRIPTION:Grade 10-12 youth night! Games\, a devotional and snack. Pick up at 10 pm.
URL:https://grunthalebc.ca/event/senior-youth-2/2029-07-20/
LOCATION:Grunthal EBC\, 84 Oak Ave\, Grunthal\, Manitoba\, Canada
END:VEVENT
BEGIN:VEVENT
DTSTART;TZID=UTC:20290723T203000
DTEND;TZID=UTC:20290723T223000
DTSTAMP:20260423T055420
CREATED:20250919T144433Z
LAST-MODIFIED:20251218T153448Z
UID:10006694-1879533000-1879540200@grunthalebc.ca
SUMMARY:Men's Bible Study
DESCRIPTION:All men are invited for a Bible study! It’s a great time to connect and dive deeper into God’s Word.
URL:https://grunthalebc.ca/event/mens-bible-study/2029-07-23/
LOCATION:Manitoba
END:VEVENT
BEGIN:VEVENT
DTSTART;TZID=UTC:20290725T100000
DTEND;TZID=UTC:20290725T113000
DTSTAMP:20260423T055420
CREATED:20250605T164059Z
LAST-MODIFIED:20251218T153852Z
UID:10005555-1879668000-1879673400@grunthalebc.ca
SUMMARY:55+ Coffee & Fellowship
DESCRIPTION:Join us at church if you’re 55+ for coffee and fellowship!
URL:https://grunthalebc.ca/event/55-coffee-fellowship/2029-07-25/
LOCATION:Grunthal EBC\, 84 Oak Ave\, Grunthal\, Manitoba\, Canada
END:VEVENT
BEGIN:VEVENT
DTSTART;TZID=UTC:20290726T190000
DTEND;TZID=UTC:20290726T204500
DTSTAMP:20260423T055420
CREATED:20260226T211142Z
LAST-MODIFIED:20260226T211518Z
UID:10007358-1879786800-1879793100@grunthalebc.ca
SUMMARY:Junior Youth
DESCRIPTION:Grade 7-9 youth night! Games\, a devotional and snacks. Pick up at 8:45pm.
URL:https://grunthalebc.ca/event/junior-youth-2/2029-07-26/
LOCATION:Grunthal EBC\, 84 Oak Ave\, Grunthal\, Manitoba\, Canada
END:VEVENT
BEGIN:VEVENT
DTSTART;TZID=UTC:20290727T093000
DTEND;TZID=UTC:20290727T110000
DTSTAMP:20260423T055420
CREATED:20260106T194428Z
LAST-MODIFIED:20260106T194429Z
UID:10007579-1879839000-1879844400@grunthalebc.ca
SUMMARY:Women's Bible Study
DESCRIPTION:Join Beth Fast as she takes us through God’s Word. Babysitting is available! \n 
URL:https://grunthalebc.ca/event/womens-bible-study-2/2029-07-27/
LOCATION:Grunthal EBC\, 84 Oak Ave\, Grunthal\, Manitoba\, Canada
END:VEVENT
BEGIN:VEVENT
DTSTART;TZID=UTC:20290727T193000
DTEND;TZID=UTC:20290727T220000
DTSTAMP:20260423T055420
CREATED:20260226T211214Z
LAST-MODIFIED:20260226T211214Z
UID:10007089-1879875000-1879884000@grunthalebc.ca
SUMMARY:Senior Youth
DESCRIPTION:Grade 10-12 youth night! Games\, a devotional and snack. Pick up at 10 pm.
URL:https://grunthalebc.ca/event/senior-youth-2/2029-07-27/
LOCATION:Grunthal EBC\, 84 Oak Ave\, Grunthal\, Manitoba\, Canada
END:VEVENT
BEGIN:VEVENT
DTSTART;TZID=UTC:20290730T203000
DTEND;TZID=UTC:20290730T223000
DTSTAMP:20260423T055420
CREATED:20250919T144433Z
LAST-MODIFIED:20251218T153448Z
UID:10006695-1880137800-1880145000@grunthalebc.ca
SUMMARY:Men's Bible Study
DESCRIPTION:All men are invited for a Bible study! It’s a great time to connect and dive deeper into God’s Word.
URL:https://grunthalebc.ca/event/mens-bible-study/2029-07-30/
LOCATION:Manitoba
END:VEVENT
END:VCALENDAR