BEGIN:VCALENDAR
VERSION:2.0
PRODID:-//Grunthal Evangelical Bible Church - ECPv6.15.20//NONSGML v1.0//EN
CALSCALE:GREGORIAN
METHOD:PUBLISH
X-WR-CALNAME:Grunthal Evangelical Bible Church
X-ORIGINAL-URL:https://grunthalebc.ca
X-WR-CALDESC:Events for Grunthal Evangelical Bible Church
REFRESH-INTERVAL;VALUE=DURATION:PT1H
X-Robots-Tag:noindex
X-PUBLISHED-TTL:PT1H
BEGIN:VTIMEZONE
TZID:UTC
BEGIN:STANDARD
TZOFFSETFROM:+0000
TZOFFSETTO:+0000
TZNAME:UTC
DTSTART:20280101T000000
END:STANDARD
END:VTIMEZONE
BEGIN:VEVENT
DTSTART;TZID=UTC:20290502T100000
DTEND;TZID=UTC:20290502T113000
DTSTAMP:20260423T022345
CREATED:20250605T164059Z
LAST-MODIFIED:20251218T153852Z
UID:10005543-1872410400-1872415800@grunthalebc.ca
SUMMARY:55+ Coffee & Fellowship
DESCRIPTION:Join us at church if you’re 55+ for coffee and fellowship!
URL:https://grunthalebc.ca/event/55-coffee-fellowship/2029-05-02/
LOCATION:Grunthal EBC\, 84 Oak Ave\, Grunthal\, Manitoba\, Canada
END:VEVENT
BEGIN:VEVENT
DTSTART;TZID=UTC:20290503T190000
DTEND;TZID=UTC:20290503T204500
DTSTAMP:20260423T022345
CREATED:20260226T211142Z
LAST-MODIFIED:20260226T211518Z
UID:10007346-1872529200-1872535500@grunthalebc.ca
SUMMARY:Junior Youth
DESCRIPTION:Grade 7-9 youth night! Games\, a devotional and snacks. Pick up at 8:45pm.
URL:https://grunthalebc.ca/event/junior-youth-2/2029-05-03/
LOCATION:Grunthal EBC\, 84 Oak Ave\, Grunthal\, Manitoba\, Canada
END:VEVENT
BEGIN:VEVENT
DTSTART;TZID=UTC:20290504T093000
DTEND;TZID=UTC:20290504T110000
DTSTAMP:20260423T022345
CREATED:20260106T194428Z
LAST-MODIFIED:20260106T194429Z
UID:10007573-1872581400-1872586800@grunthalebc.ca
SUMMARY:Women's Bible Study
DESCRIPTION:Join Beth Fast as she takes us through God’s Word. Babysitting is available! \n 
URL:https://grunthalebc.ca/event/womens-bible-study-2/2029-05-04/
LOCATION:Grunthal EBC\, 84 Oak Ave\, Grunthal\, Manitoba\, Canada
END:VEVENT
BEGIN:VEVENT
DTSTART;TZID=UTC:20290504T193000
DTEND;TZID=UTC:20290504T220000
DTSTAMP:20260423T022345
CREATED:20260226T211214Z
LAST-MODIFIED:20260226T211214Z
UID:10007077-1872617400-1872626400@grunthalebc.ca
SUMMARY:Senior Youth
DESCRIPTION:Grade 10-12 youth night! Games\, a devotional and snack. Pick up at 10 pm.
URL:https://grunthalebc.ca/event/senior-youth-2/2029-05-04/
LOCATION:Grunthal EBC\, 84 Oak Ave\, Grunthal\, Manitoba\, Canada
END:VEVENT
BEGIN:VEVENT
DTSTART;TZID=UTC:20290507T203000
DTEND;TZID=UTC:20290507T223000
DTSTAMP:20260423T022345
CREATED:20250919T144433Z
LAST-MODIFIED:20251218T153448Z
UID:10006683-1872880200-1872887400@grunthalebc.ca
SUMMARY:Men's Bible Study
DESCRIPTION:All men are invited for a Bible study! It’s a great time to connect and dive deeper into God’s Word.
URL:https://grunthalebc.ca/event/mens-bible-study/2029-05-07/
LOCATION:Manitoba
END:VEVENT
BEGIN:VEVENT
DTSTART;TZID=UTC:20290509T100000
DTEND;TZID=UTC:20290509T113000
DTSTAMP:20260423T022345
CREATED:20250605T164059Z
LAST-MODIFIED:20251218T153852Z
UID:10005544-1873015200-1873020600@grunthalebc.ca
SUMMARY:55+ Coffee & Fellowship
DESCRIPTION:Join us at church if you’re 55+ for coffee and fellowship!
URL:https://grunthalebc.ca/event/55-coffee-fellowship/2029-05-09/
LOCATION:Grunthal EBC\, 84 Oak Ave\, Grunthal\, Manitoba\, Canada
END:VEVENT
BEGIN:VEVENT
DTSTART;TZID=UTC:20290510T190000
DTEND;TZID=UTC:20290510T204500
DTSTAMP:20260423T022345
CREATED:20260226T211142Z
LAST-MODIFIED:20260226T211518Z
UID:10007347-1873134000-1873140300@grunthalebc.ca
SUMMARY:Junior Youth
DESCRIPTION:Grade 7-9 youth night! Games\, a devotional and snacks. Pick up at 8:45pm.
URL:https://grunthalebc.ca/event/junior-youth-2/2029-05-10/
LOCATION:Grunthal EBC\, 84 Oak Ave\, Grunthal\, Manitoba\, Canada
END:VEVENT
BEGIN:VEVENT
DTSTART;TZID=UTC:20290510T190000
DTEND;TZID=UTC:20290510T210000
DTSTAMP:20260423T022345
CREATED:20250925T185237Z
LAST-MODIFIED:20251209T171314Z
UID:10006852-1873134000-1873141200@grunthalebc.ca
SUMMARY:College & Career
DESCRIPTION:All young adults are welcome to join us for a Bible Study and fellowship!
URL:https://grunthalebc.ca/event/college-career/2029-05-10/
LOCATION:Grunthal EBC\, 84 Oak Ave\, Grunthal\, Manitoba\, Canada
END:VEVENT
BEGIN:VEVENT
DTSTART;TZID=UTC:20290511T193000
DTEND;TZID=UTC:20290511T220000
DTSTAMP:20260423T022345
CREATED:20260226T211214Z
LAST-MODIFIED:20260226T211214Z
UID:10007078-1873222200-1873231200@grunthalebc.ca
SUMMARY:Senior Youth
DESCRIPTION:Grade 10-12 youth night! Games\, a devotional and snack. Pick up at 10 pm.
URL:https://grunthalebc.ca/event/senior-youth-2/2029-05-11/
LOCATION:Grunthal EBC\, 84 Oak Ave\, Grunthal\, Manitoba\, Canada
END:VEVENT
BEGIN:VEVENT
DTSTART;TZID=UTC:20290514T203000
DTEND;TZID=UTC:20290514T223000
DTSTAMP:20260423T022345
CREATED:20250919T144433Z
LAST-MODIFIED:20251218T153448Z
UID:10006684-1873485000-1873492200@grunthalebc.ca
SUMMARY:Men's Bible Study
DESCRIPTION:All men are invited for a Bible study! It’s a great time to connect and dive deeper into God’s Word.
URL:https://grunthalebc.ca/event/mens-bible-study/2029-05-14/
LOCATION:Manitoba
END:VEVENT
BEGIN:VEVENT
DTSTART;TZID=UTC:20290516T100000
DTEND;TZID=UTC:20290516T113000
DTSTAMP:20260423T022345
CREATED:20250605T164059Z
LAST-MODIFIED:20251218T153852Z
UID:10005545-1873620000-1873625400@grunthalebc.ca
SUMMARY:55+ Coffee & Fellowship
DESCRIPTION:Join us at church if you’re 55+ for coffee and fellowship!
URL:https://grunthalebc.ca/event/55-coffee-fellowship/2029-05-16/
LOCATION:Grunthal EBC\, 84 Oak Ave\, Grunthal\, Manitoba\, Canada
END:VEVENT
BEGIN:VEVENT
DTSTART;TZID=UTC:20290517T190000
DTEND;TZID=UTC:20290517T204500
DTSTAMP:20260423T022345
CREATED:20260226T211142Z
LAST-MODIFIED:20260226T211518Z
UID:10007348-1873738800-1873745100@grunthalebc.ca
SUMMARY:Junior Youth
DESCRIPTION:Grade 7-9 youth night! Games\, a devotional and snacks. Pick up at 8:45pm.
URL:https://grunthalebc.ca/event/junior-youth-2/2029-05-17/
LOCATION:Grunthal EBC\, 84 Oak Ave\, Grunthal\, Manitoba\, Canada
END:VEVENT
BEGIN:VEVENT
DTSTART;TZID=UTC:20290518T093000
DTEND;TZID=UTC:20290518T110000
DTSTAMP:20260423T022345
CREATED:20260106T194428Z
LAST-MODIFIED:20260106T194429Z
UID:10007574-1873791000-1873796400@grunthalebc.ca
SUMMARY:Women's Bible Study
DESCRIPTION:Join Beth Fast as she takes us through God’s Word. Babysitting is available! \n 
URL:https://grunthalebc.ca/event/womens-bible-study-2/2029-05-18/
LOCATION:Grunthal EBC\, 84 Oak Ave\, Grunthal\, Manitoba\, Canada
END:VEVENT
BEGIN:VEVENT
DTSTART;TZID=UTC:20290518T193000
DTEND;TZID=UTC:20290518T220000
DTSTAMP:20260423T022345
CREATED:20260226T211214Z
LAST-MODIFIED:20260226T211214Z
UID:10007079-1873827000-1873836000@grunthalebc.ca
SUMMARY:Senior Youth
DESCRIPTION:Grade 10-12 youth night! Games\, a devotional and snack. Pick up at 10 pm.
URL:https://grunthalebc.ca/event/senior-youth-2/2029-05-18/
LOCATION:Grunthal EBC\, 84 Oak Ave\, Grunthal\, Manitoba\, Canada
END:VEVENT
BEGIN:VEVENT
DTSTART;TZID=UTC:20290521T203000
DTEND;TZID=UTC:20290521T223000
DTSTAMP:20260423T022345
CREATED:20250919T144433Z
LAST-MODIFIED:20251218T153448Z
UID:10006685-1874089800-1874097000@grunthalebc.ca
SUMMARY:Men's Bible Study
DESCRIPTION:All men are invited for a Bible study! It’s a great time to connect and dive deeper into God’s Word.
URL:https://grunthalebc.ca/event/mens-bible-study/2029-05-21/
LOCATION:Manitoba
END:VEVENT
BEGIN:VEVENT
DTSTART;TZID=UTC:20290523T100000
DTEND;TZID=UTC:20290523T113000
DTSTAMP:20260423T022345
CREATED:20250605T164059Z
LAST-MODIFIED:20251218T153852Z
UID:10005546-1874224800-1874230200@grunthalebc.ca
SUMMARY:55+ Coffee & Fellowship
DESCRIPTION:Join us at church if you’re 55+ for coffee and fellowship!
URL:https://grunthalebc.ca/event/55-coffee-fellowship/2029-05-23/
LOCATION:Grunthal EBC\, 84 Oak Ave\, Grunthal\, Manitoba\, Canada
END:VEVENT
BEGIN:VEVENT
DTSTART;TZID=UTC:20290524T190000
DTEND;TZID=UTC:20290524T204500
DTSTAMP:20260423T022345
CREATED:20260226T211142Z
LAST-MODIFIED:20260226T211518Z
UID:10007349-1874343600-1874349900@grunthalebc.ca
SUMMARY:Junior Youth
DESCRIPTION:Grade 7-9 youth night! Games\, a devotional and snacks. Pick up at 8:45pm.
URL:https://grunthalebc.ca/event/junior-youth-2/2029-05-24/
LOCATION:Grunthal EBC\, 84 Oak Ave\, Grunthal\, Manitoba\, Canada
END:VEVENT
BEGIN:VEVENT
DTSTART;TZID=UTC:20290524T190000
DTEND;TZID=UTC:20290524T210000
DTSTAMP:20260423T022345
CREATED:20250925T185237Z
LAST-MODIFIED:20251209T171314Z
UID:10006853-1874343600-1874350800@grunthalebc.ca
SUMMARY:College & Career
DESCRIPTION:All young adults are welcome to join us for a Bible Study and fellowship!
URL:https://grunthalebc.ca/event/college-career/2029-05-24/
LOCATION:Grunthal EBC\, 84 Oak Ave\, Grunthal\, Manitoba\, Canada
END:VEVENT
BEGIN:VEVENT
DTSTART;TZID=UTC:20290525T193000
DTEND;TZID=UTC:20290525T220000
DTSTAMP:20260423T022345
CREATED:20260226T211214Z
LAST-MODIFIED:20260226T211214Z
UID:10007080-1874431800-1874440800@grunthalebc.ca
SUMMARY:Senior Youth
DESCRIPTION:Grade 10-12 youth night! Games\, a devotional and snack. Pick up at 10 pm.
URL:https://grunthalebc.ca/event/senior-youth-2/2029-05-25/
LOCATION:Grunthal EBC\, 84 Oak Ave\, Grunthal\, Manitoba\, Canada
END:VEVENT
BEGIN:VEVENT
DTSTART;TZID=UTC:20290528T203000
DTEND;TZID=UTC:20290528T223000
DTSTAMP:20260423T022345
CREATED:20250919T144433Z
LAST-MODIFIED:20251218T153448Z
UID:10006686-1874694600-1874701800@grunthalebc.ca
SUMMARY:Men's Bible Study
DESCRIPTION:All men are invited for a Bible study! It’s a great time to connect and dive deeper into God’s Word.
URL:https://grunthalebc.ca/event/mens-bible-study/2029-05-28/
LOCATION:Manitoba
END:VEVENT
BEGIN:VEVENT
DTSTART;TZID=UTC:20290530T100000
DTEND;TZID=UTC:20290530T113000
DTSTAMP:20260423T022345
CREATED:20250605T164059Z
LAST-MODIFIED:20251218T153852Z
UID:10005547-1874829600-1874835000@grunthalebc.ca
SUMMARY:55+ Coffee & Fellowship
DESCRIPTION:Join us at church if you’re 55+ for coffee and fellowship!
URL:https://grunthalebc.ca/event/55-coffee-fellowship/2029-05-30/
LOCATION:Grunthal EBC\, 84 Oak Ave\, Grunthal\, Manitoba\, Canada
END:VEVENT
BEGIN:VEVENT
DTSTART;TZID=UTC:20290531T190000
DTEND;TZID=UTC:20290531T204500
DTSTAMP:20260423T022345
CREATED:20260226T211142Z
LAST-MODIFIED:20260226T211518Z
UID:10007350-1874948400-1874954700@grunthalebc.ca
SUMMARY:Junior Youth
DESCRIPTION:Grade 7-9 youth night! Games\, a devotional and snacks. Pick up at 8:45pm.
URL:https://grunthalebc.ca/event/junior-youth-2/2029-05-31/
LOCATION:Grunthal EBC\, 84 Oak Ave\, Grunthal\, Manitoba\, Canada
END:VEVENT
END:VCALENDAR