BEGIN:VCALENDAR
VERSION:2.0
PRODID:-//Grunthal Evangelical Bible Church - ECPv6.15.20//NONSGML v1.0//EN
CALSCALE:GREGORIAN
METHOD:PUBLISH
X-WR-CALNAME:Grunthal Evangelical Bible Church
X-ORIGINAL-URL:https://grunthalebc.ca
X-WR-CALDESC:Events for Grunthal Evangelical Bible Church
REFRESH-INTERVAL;VALUE=DURATION:PT1H
X-Robots-Tag:noindex
X-PUBLISHED-TTL:PT1H
BEGIN:VTIMEZONE
TZID:UTC
BEGIN:STANDARD
TZOFFSETFROM:+0000
TZOFFSETTO:+0000
TZNAME:UTC
DTSTART:20280101T000000
END:STANDARD
END:VTIMEZONE
BEGIN:VEVENT
DTSTART;TZID=UTC:20290301T190000
DTEND;TZID=UTC:20290301T204500
DTSTAMP:20260422T224017
CREATED:20260226T211142Z
LAST-MODIFIED:20260226T211518Z
UID:10007337-1867086000-1867092300@grunthalebc.ca
SUMMARY:Junior Youth
DESCRIPTION:Grade 7-9 youth night! Games\, a devotional and snacks. Pick up at 8:45pm.
URL:https://grunthalebc.ca/event/junior-youth-2/2029-03-01/
LOCATION:Grunthal EBC\, 84 Oak Ave\, Grunthal\, Manitoba\, Canada
END:VEVENT
BEGIN:VEVENT
DTSTART;TZID=UTC:20290301T190000
DTEND;TZID=UTC:20290301T210000
DTSTAMP:20260422T224017
CREATED:20250925T185237Z
LAST-MODIFIED:20251209T171314Z
UID:10006847-1867086000-1867093200@grunthalebc.ca
SUMMARY:College & Career
DESCRIPTION:All young adults are welcome to join us for a Bible Study and fellowship!
URL:https://grunthalebc.ca/event/college-career/2029-03-01/
LOCATION:Grunthal EBC\, 84 Oak Ave\, Grunthal\, Manitoba\, Canada
END:VEVENT
BEGIN:VEVENT
DTSTART;TZID=UTC:20290302T193000
DTEND;TZID=UTC:20290302T220000
DTSTAMP:20260422T224017
CREATED:20260226T211214Z
LAST-MODIFIED:20260226T211214Z
UID:10007068-1867174200-1867183200@grunthalebc.ca
SUMMARY:Senior Youth
DESCRIPTION:Grade 10-12 youth night! Games\, a devotional and snack. Pick up at 10 pm.
URL:https://grunthalebc.ca/event/senior-youth-2/2029-03-02/
LOCATION:Grunthal EBC\, 84 Oak Ave\, Grunthal\, Manitoba\, Canada
END:VEVENT
BEGIN:VEVENT
DTSTART;TZID=UTC:20290305T203000
DTEND;TZID=UTC:20290305T223000
DTSTAMP:20260422T224017
CREATED:20250919T144433Z
LAST-MODIFIED:20251218T153448Z
UID:10006674-1867437000-1867444200@grunthalebc.ca
SUMMARY:Men's Bible Study
DESCRIPTION:All men are invited for a Bible study! It’s a great time to connect and dive deeper into God’s Word.
URL:https://grunthalebc.ca/event/mens-bible-study/2029-03-05/
LOCATION:Manitoba
END:VEVENT
BEGIN:VEVENT
DTSTART;TZID=UTC:20290307T100000
DTEND;TZID=UTC:20290307T113000
DTSTAMP:20260422T224017
CREATED:20250605T164059Z
LAST-MODIFIED:20251218T153852Z
UID:10005535-1867572000-1867577400@grunthalebc.ca
SUMMARY:55+ Coffee & Fellowship
DESCRIPTION:Join us at church if you’re 55+ for coffee and fellowship!
URL:https://grunthalebc.ca/event/55-coffee-fellowship/2029-03-07/
LOCATION:Grunthal EBC\, 84 Oak Ave\, Grunthal\, Manitoba\, Canada
END:VEVENT
BEGIN:VEVENT
DTSTART;TZID=UTC:20290308T190000
DTEND;TZID=UTC:20290308T204500
DTSTAMP:20260422T224017
CREATED:20260226T211142Z
LAST-MODIFIED:20260226T211518Z
UID:10007338-1867690800-1867697100@grunthalebc.ca
SUMMARY:Junior Youth
DESCRIPTION:Grade 7-9 youth night! Games\, a devotional and snacks. Pick up at 8:45pm.
URL:https://grunthalebc.ca/event/junior-youth-2/2029-03-08/
LOCATION:Grunthal EBC\, 84 Oak Ave\, Grunthal\, Manitoba\, Canada
END:VEVENT
BEGIN:VEVENT
DTSTART;TZID=UTC:20290309T093000
DTEND;TZID=UTC:20290309T110000
DTSTAMP:20260422T224017
CREATED:20260106T194428Z
LAST-MODIFIED:20260106T194429Z
UID:10007569-1867743000-1867748400@grunthalebc.ca
SUMMARY:Women's Bible Study
DESCRIPTION:Join Beth Fast as she takes us through God’s Word. Babysitting is available! \n 
URL:https://grunthalebc.ca/event/womens-bible-study-2/2029-03-09/
LOCATION:Grunthal EBC\, 84 Oak Ave\, Grunthal\, Manitoba\, Canada
END:VEVENT
BEGIN:VEVENT
DTSTART;TZID=UTC:20290309T193000
DTEND;TZID=UTC:20290309T220000
DTSTAMP:20260422T224017
CREATED:20260226T211214Z
LAST-MODIFIED:20260226T211214Z
UID:10007069-1867779000-1867788000@grunthalebc.ca
SUMMARY:Senior Youth
DESCRIPTION:Grade 10-12 youth night! Games\, a devotional and snack. Pick up at 10 pm.
URL:https://grunthalebc.ca/event/senior-youth-2/2029-03-09/
LOCATION:Grunthal EBC\, 84 Oak Ave\, Grunthal\, Manitoba\, Canada
END:VEVENT
BEGIN:VEVENT
DTSTART;TZID=UTC:20290312T203000
DTEND;TZID=UTC:20290312T223000
DTSTAMP:20260422T224017
CREATED:20250919T144433Z
LAST-MODIFIED:20251218T153448Z
UID:10006675-1868041800-1868049000@grunthalebc.ca
SUMMARY:Men's Bible Study
DESCRIPTION:All men are invited for a Bible study! It’s a great time to connect and dive deeper into God’s Word.
URL:https://grunthalebc.ca/event/mens-bible-study/2029-03-12/
LOCATION:Manitoba
END:VEVENT
BEGIN:VEVENT
DTSTART;TZID=UTC:20290314T100000
DTEND;TZID=UTC:20290314T113000
DTSTAMP:20260422T224017
CREATED:20250605T164059Z
LAST-MODIFIED:20251218T153852Z
UID:10005536-1868176800-1868182200@grunthalebc.ca
SUMMARY:55+ Coffee & Fellowship
DESCRIPTION:Join us at church if you’re 55+ for coffee and fellowship!
URL:https://grunthalebc.ca/event/55-coffee-fellowship/2029-03-14/
LOCATION:Grunthal EBC\, 84 Oak Ave\, Grunthal\, Manitoba\, Canada
END:VEVENT
BEGIN:VEVENT
DTSTART;TZID=UTC:20290315T190000
DTEND;TZID=UTC:20290315T204500
DTSTAMP:20260422T224017
CREATED:20260226T211142Z
LAST-MODIFIED:20260226T211518Z
UID:10007339-1868295600-1868301900@grunthalebc.ca
SUMMARY:Junior Youth
DESCRIPTION:Grade 7-9 youth night! Games\, a devotional and snacks. Pick up at 8:45pm.
URL:https://grunthalebc.ca/event/junior-youth-2/2029-03-15/
LOCATION:Grunthal EBC\, 84 Oak Ave\, Grunthal\, Manitoba\, Canada
END:VEVENT
BEGIN:VEVENT
DTSTART;TZID=UTC:20290315T190000
DTEND;TZID=UTC:20290315T210000
DTSTAMP:20260422T224017
CREATED:20250925T185237Z
LAST-MODIFIED:20251209T171314Z
UID:10006848-1868295600-1868302800@grunthalebc.ca
SUMMARY:College & Career
DESCRIPTION:All young adults are welcome to join us for a Bible Study and fellowship!
URL:https://grunthalebc.ca/event/college-career/2029-03-15/
LOCATION:Grunthal EBC\, 84 Oak Ave\, Grunthal\, Manitoba\, Canada
END:VEVENT
BEGIN:VEVENT
DTSTART;TZID=UTC:20290316T193000
DTEND;TZID=UTC:20290316T220000
DTSTAMP:20260422T224017
CREATED:20260226T211214Z
LAST-MODIFIED:20260226T211214Z
UID:10007070-1868383800-1868392800@grunthalebc.ca
SUMMARY:Senior Youth
DESCRIPTION:Grade 10-12 youth night! Games\, a devotional and snack. Pick up at 10 pm.
URL:https://grunthalebc.ca/event/senior-youth-2/2029-03-16/
LOCATION:Grunthal EBC\, 84 Oak Ave\, Grunthal\, Manitoba\, Canada
END:VEVENT
BEGIN:VEVENT
DTSTART;TZID=UTC:20290319T203000
DTEND;TZID=UTC:20290319T223000
DTSTAMP:20260422T224017
CREATED:20250919T144433Z
LAST-MODIFIED:20251218T153448Z
UID:10006676-1868646600-1868653800@grunthalebc.ca
SUMMARY:Men's Bible Study
DESCRIPTION:All men are invited for a Bible study! It’s a great time to connect and dive deeper into God’s Word.
URL:https://grunthalebc.ca/event/mens-bible-study/2029-03-19/
LOCATION:Manitoba
END:VEVENT
BEGIN:VEVENT
DTSTART;TZID=UTC:20290321T100000
DTEND;TZID=UTC:20290321T113000
DTSTAMP:20260422T224017
CREATED:20250605T164059Z
LAST-MODIFIED:20251218T153852Z
UID:10005537-1868781600-1868787000@grunthalebc.ca
SUMMARY:55+ Coffee & Fellowship
DESCRIPTION:Join us at church if you’re 55+ for coffee and fellowship!
URL:https://grunthalebc.ca/event/55-coffee-fellowship/2029-03-21/
LOCATION:Grunthal EBC\, 84 Oak Ave\, Grunthal\, Manitoba\, Canada
END:VEVENT
BEGIN:VEVENT
DTSTART;TZID=UTC:20290322T190000
DTEND;TZID=UTC:20290322T204500
DTSTAMP:20260422T224017
CREATED:20260226T211142Z
LAST-MODIFIED:20260226T211518Z
UID:10007340-1868900400-1868906700@grunthalebc.ca
SUMMARY:Junior Youth
DESCRIPTION:Grade 7-9 youth night! Games\, a devotional and snacks. Pick up at 8:45pm.
URL:https://grunthalebc.ca/event/junior-youth-2/2029-03-22/
LOCATION:Grunthal EBC\, 84 Oak Ave\, Grunthal\, Manitoba\, Canada
END:VEVENT
BEGIN:VEVENT
DTSTART;TZID=UTC:20290323T093000
DTEND;TZID=UTC:20290323T110000
DTSTAMP:20260422T224017
CREATED:20260106T194428Z
LAST-MODIFIED:20260106T194429Z
UID:10007570-1868952600-1868958000@grunthalebc.ca
SUMMARY:Women's Bible Study
DESCRIPTION:Join Beth Fast as she takes us through God’s Word. Babysitting is available! \n 
URL:https://grunthalebc.ca/event/womens-bible-study-2/2029-03-23/
LOCATION:Grunthal EBC\, 84 Oak Ave\, Grunthal\, Manitoba\, Canada
END:VEVENT
BEGIN:VEVENT
DTSTART;TZID=UTC:20290323T193000
DTEND;TZID=UTC:20290323T220000
DTSTAMP:20260422T224017
CREATED:20260226T211214Z
LAST-MODIFIED:20260226T211214Z
UID:10007071-1868988600-1868997600@grunthalebc.ca
SUMMARY:Senior Youth
DESCRIPTION:Grade 10-12 youth night! Games\, a devotional and snack. Pick up at 10 pm.
URL:https://grunthalebc.ca/event/senior-youth-2/2029-03-23/
LOCATION:Grunthal EBC\, 84 Oak Ave\, Grunthal\, Manitoba\, Canada
END:VEVENT
BEGIN:VEVENT
DTSTART;TZID=UTC:20290326T203000
DTEND;TZID=UTC:20290326T223000
DTSTAMP:20260422T224017
CREATED:20250919T144433Z
LAST-MODIFIED:20251218T153448Z
UID:10006677-1869251400-1869258600@grunthalebc.ca
SUMMARY:Men's Bible Study
DESCRIPTION:All men are invited for a Bible study! It’s a great time to connect and dive deeper into God’s Word.
URL:https://grunthalebc.ca/event/mens-bible-study/2029-03-26/
LOCATION:Manitoba
END:VEVENT
BEGIN:VEVENT
DTSTART;TZID=UTC:20290328T100000
DTEND;TZID=UTC:20290328T113000
DTSTAMP:20260422T224017
CREATED:20250605T164059Z
LAST-MODIFIED:20251218T153852Z
UID:10005538-1869386400-1869391800@grunthalebc.ca
SUMMARY:55+ Coffee & Fellowship
DESCRIPTION:Join us at church if you’re 55+ for coffee and fellowship!
URL:https://grunthalebc.ca/event/55-coffee-fellowship/2029-03-28/
LOCATION:Grunthal EBC\, 84 Oak Ave\, Grunthal\, Manitoba\, Canada
END:VEVENT
BEGIN:VEVENT
DTSTART;TZID=UTC:20290329T190000
DTEND;TZID=UTC:20290329T204500
DTSTAMP:20260422T224017
CREATED:20260226T211142Z
LAST-MODIFIED:20260226T211518Z
UID:10007341-1869505200-1869511500@grunthalebc.ca
SUMMARY:Junior Youth
DESCRIPTION:Grade 7-9 youth night! Games\, a devotional and snacks. Pick up at 8:45pm.
URL:https://grunthalebc.ca/event/junior-youth-2/2029-03-29/
LOCATION:Grunthal EBC\, 84 Oak Ave\, Grunthal\, Manitoba\, Canada
END:VEVENT
BEGIN:VEVENT
DTSTART;TZID=UTC:20290329T190000
DTEND;TZID=UTC:20290329T210000
DTSTAMP:20260422T224017
CREATED:20250925T185237Z
LAST-MODIFIED:20251209T171314Z
UID:10006849-1869505200-1869512400@grunthalebc.ca
SUMMARY:College & Career
DESCRIPTION:All young adults are welcome to join us for a Bible Study and fellowship!
URL:https://grunthalebc.ca/event/college-career/2029-03-29/
LOCATION:Grunthal EBC\, 84 Oak Ave\, Grunthal\, Manitoba\, Canada
END:VEVENT
BEGIN:VEVENT
DTSTART;TZID=UTC:20290330T193000
DTEND;TZID=UTC:20290330T220000
DTSTAMP:20260422T224017
CREATED:20260226T211214Z
LAST-MODIFIED:20260226T211214Z
UID:10007072-1869593400-1869602400@grunthalebc.ca
SUMMARY:Senior Youth
DESCRIPTION:Grade 10-12 youth night! Games\, a devotional and snack. Pick up at 10 pm.
URL:https://grunthalebc.ca/event/senior-youth-2/2029-03-30/
LOCATION:Grunthal EBC\, 84 Oak Ave\, Grunthal\, Manitoba\, Canada
END:VEVENT
END:VCALENDAR