BEGIN:VCALENDAR
VERSION:2.0
PRODID:-//Grunthal Evangelical Bible Church - ECPv6.15.20//NONSGML v1.0//EN
CALSCALE:GREGORIAN
METHOD:PUBLISH
X-WR-CALNAME:Grunthal Evangelical Bible Church
X-ORIGINAL-URL:https://grunthalebc.ca
X-WR-CALDESC:Events for Grunthal Evangelical Bible Church
REFRESH-INTERVAL;VALUE=DURATION:PT1H
X-Robots-Tag:noindex
X-PUBLISHED-TTL:PT1H
BEGIN:VTIMEZONE
TZID:UTC
BEGIN:STANDARD
TZOFFSETFROM:+0000
TZOFFSETTO:+0000
TZNAME:UTC
DTSTART:20280101T000000
END:STANDARD
END:VTIMEZONE
BEGIN:VEVENT
DTSTART;TZID=UTC:20290101T203000
DTEND;TZID=UTC:20290101T223000
DTSTAMP:20260422T193054
CREATED:20250919T144433Z
LAST-MODIFIED:20251218T153448Z
UID:10006665-1861993800-1862001000@grunthalebc.ca
SUMMARY:Men's Bible Study
DESCRIPTION:All men are invited for a Bible study! It’s a great time to connect and dive deeper into God’s Word.
URL:https://grunthalebc.ca/event/mens-bible-study/2029-01-01/
LOCATION:Manitoba
END:VEVENT
BEGIN:VEVENT
DTSTART;TZID=UTC:20290103T100000
DTEND;TZID=UTC:20290103T113000
DTSTAMP:20260422T193054
CREATED:20250605T164059Z
LAST-MODIFIED:20251218T153852Z
UID:10005526-1862128800-1862134200@grunthalebc.ca
SUMMARY:55+ Coffee & Fellowship
DESCRIPTION:Join us at church if you’re 55+ for coffee and fellowship!
URL:https://grunthalebc.ca/event/55-coffee-fellowship/2029-01-03/
LOCATION:Grunthal EBC\, 84 Oak Ave\, Grunthal\, Manitoba\, Canada
END:VEVENT
BEGIN:VEVENT
DTSTART;TZID=UTC:20290104T190000
DTEND;TZID=UTC:20290104T204500
DTSTAMP:20260422T193054
CREATED:20260226T211142Z
LAST-MODIFIED:20260226T211518Z
UID:10007329-1862247600-1862253900@grunthalebc.ca
SUMMARY:Junior Youth
DESCRIPTION:Grade 7-9 youth night! Games\, a devotional and snacks. Pick up at 8:45pm.
URL:https://grunthalebc.ca/event/junior-youth-2/2029-01-04/
LOCATION:Grunthal EBC\, 84 Oak Ave\, Grunthal\, Manitoba\, Canada
END:VEVENT
BEGIN:VEVENT
DTSTART;TZID=UTC:20290104T190000
DTEND;TZID=UTC:20290104T210000
DTSTAMP:20260422T193054
CREATED:20250925T185237Z
LAST-MODIFIED:20251209T171314Z
UID:10006843-1862247600-1862254800@grunthalebc.ca
SUMMARY:College & Career
DESCRIPTION:All young adults are welcome to join us for a Bible Study and fellowship!
URL:https://grunthalebc.ca/event/college-career/2029-01-04/
LOCATION:Grunthal EBC\, 84 Oak Ave\, Grunthal\, Manitoba\, Canada
END:VEVENT
BEGIN:VEVENT
DTSTART;TZID=UTC:20290105T193000
DTEND;TZID=UTC:20290105T220000
DTSTAMP:20260422T193054
CREATED:20260226T211214Z
LAST-MODIFIED:20260226T211214Z
UID:10007060-1862335800-1862344800@grunthalebc.ca
SUMMARY:Senior Youth
DESCRIPTION:Grade 10-12 youth night! Games\, a devotional and snack. Pick up at 10 pm.
URL:https://grunthalebc.ca/event/senior-youth-2/2029-01-05/
LOCATION:Grunthal EBC\, 84 Oak Ave\, Grunthal\, Manitoba\, Canada
END:VEVENT
BEGIN:VEVENT
DTSTART;TZID=UTC:20290108T203000
DTEND;TZID=UTC:20290108T223000
DTSTAMP:20260422T193054
CREATED:20250919T144433Z
LAST-MODIFIED:20251218T153448Z
UID:10006666-1862598600-1862605800@grunthalebc.ca
SUMMARY:Men's Bible Study
DESCRIPTION:All men are invited for a Bible study! It’s a great time to connect and dive deeper into God’s Word.
URL:https://grunthalebc.ca/event/mens-bible-study/2029-01-08/
LOCATION:Manitoba
END:VEVENT
BEGIN:VEVENT
DTSTART;TZID=UTC:20290110T100000
DTEND;TZID=UTC:20290110T113000
DTSTAMP:20260422T193054
CREATED:20250605T164059Z
LAST-MODIFIED:20251218T153852Z
UID:10005527-1862733600-1862739000@grunthalebc.ca
SUMMARY:55+ Coffee & Fellowship
DESCRIPTION:Join us at church if you’re 55+ for coffee and fellowship!
URL:https://grunthalebc.ca/event/55-coffee-fellowship/2029-01-10/
LOCATION:Grunthal EBC\, 84 Oak Ave\, Grunthal\, Manitoba\, Canada
END:VEVENT
BEGIN:VEVENT
DTSTART;TZID=UTC:20290111T190000
DTEND;TZID=UTC:20290111T204500
DTSTAMP:20260422T193054
CREATED:20260226T211142Z
LAST-MODIFIED:20260226T211518Z
UID:10007330-1862852400-1862858700@grunthalebc.ca
SUMMARY:Junior Youth
DESCRIPTION:Grade 7-9 youth night! Games\, a devotional and snacks. Pick up at 8:45pm.
URL:https://grunthalebc.ca/event/junior-youth-2/2029-01-11/
LOCATION:Grunthal EBC\, 84 Oak Ave\, Grunthal\, Manitoba\, Canada
END:VEVENT
BEGIN:VEVENT
DTSTART;TZID=UTC:20290112T093000
DTEND;TZID=UTC:20290112T110000
DTSTAMP:20260422T193054
CREATED:20260106T194428Z
LAST-MODIFIED:20260106T194429Z
UID:10007565-1862904600-1862910000@grunthalebc.ca
SUMMARY:Women's Bible Study
DESCRIPTION:Join Beth Fast as she takes us through God’s Word. Babysitting is available! \n 
URL:https://grunthalebc.ca/event/womens-bible-study-2/2029-01-12/
LOCATION:Grunthal EBC\, 84 Oak Ave\, Grunthal\, Manitoba\, Canada
END:VEVENT
BEGIN:VEVENT
DTSTART;TZID=UTC:20290112T193000
DTEND;TZID=UTC:20290112T220000
DTSTAMP:20260422T193054
CREATED:20260226T211214Z
LAST-MODIFIED:20260226T211214Z
UID:10007061-1862940600-1862949600@grunthalebc.ca
SUMMARY:Senior Youth
DESCRIPTION:Grade 10-12 youth night! Games\, a devotional and snack. Pick up at 10 pm.
URL:https://grunthalebc.ca/event/senior-youth-2/2029-01-12/
LOCATION:Grunthal EBC\, 84 Oak Ave\, Grunthal\, Manitoba\, Canada
END:VEVENT
BEGIN:VEVENT
DTSTART;TZID=UTC:20290115T203000
DTEND;TZID=UTC:20290115T223000
DTSTAMP:20260422T193054
CREATED:20250919T144433Z
LAST-MODIFIED:20251218T153448Z
UID:10006667-1863203400-1863210600@grunthalebc.ca
SUMMARY:Men's Bible Study
DESCRIPTION:All men are invited for a Bible study! It’s a great time to connect and dive deeper into God’s Word.
URL:https://grunthalebc.ca/event/mens-bible-study/2029-01-15/
LOCATION:Manitoba
END:VEVENT
BEGIN:VEVENT
DTSTART;TZID=UTC:20290117T100000
DTEND;TZID=UTC:20290117T113000
DTSTAMP:20260422T193054
CREATED:20250605T164059Z
LAST-MODIFIED:20251218T153852Z
UID:10005528-1863338400-1863343800@grunthalebc.ca
SUMMARY:55+ Coffee & Fellowship
DESCRIPTION:Join us at church if you’re 55+ for coffee and fellowship!
URL:https://grunthalebc.ca/event/55-coffee-fellowship/2029-01-17/
LOCATION:Grunthal EBC\, 84 Oak Ave\, Grunthal\, Manitoba\, Canada
END:VEVENT
BEGIN:VEVENT
DTSTART;TZID=UTC:20290118T190000
DTEND;TZID=UTC:20290118T204500
DTSTAMP:20260422T193054
CREATED:20260226T211142Z
LAST-MODIFIED:20260226T211518Z
UID:10007331-1863457200-1863463500@grunthalebc.ca
SUMMARY:Junior Youth
DESCRIPTION:Grade 7-9 youth night! Games\, a devotional and snacks. Pick up at 8:45pm.
URL:https://grunthalebc.ca/event/junior-youth-2/2029-01-18/
LOCATION:Grunthal EBC\, 84 Oak Ave\, Grunthal\, Manitoba\, Canada
END:VEVENT
BEGIN:VEVENT
DTSTART;TZID=UTC:20290118T190000
DTEND;TZID=UTC:20290118T210000
DTSTAMP:20260422T193054
CREATED:20250925T185237Z
LAST-MODIFIED:20251209T171314Z
UID:10006844-1863457200-1863464400@grunthalebc.ca
SUMMARY:College & Career
DESCRIPTION:All young adults are welcome to join us for a Bible Study and fellowship!
URL:https://grunthalebc.ca/event/college-career/2029-01-18/
LOCATION:Grunthal EBC\, 84 Oak Ave\, Grunthal\, Manitoba\, Canada
END:VEVENT
BEGIN:VEVENT
DTSTART;TZID=UTC:20290119T193000
DTEND;TZID=UTC:20290119T220000
DTSTAMP:20260422T193054
CREATED:20260226T211214Z
LAST-MODIFIED:20260226T211214Z
UID:10007062-1863545400-1863554400@grunthalebc.ca
SUMMARY:Senior Youth
DESCRIPTION:Grade 10-12 youth night! Games\, a devotional and snack. Pick up at 10 pm.
URL:https://grunthalebc.ca/event/senior-youth-2/2029-01-19/
LOCATION:Grunthal EBC\, 84 Oak Ave\, Grunthal\, Manitoba\, Canada
END:VEVENT
BEGIN:VEVENT
DTSTART;TZID=UTC:20290122T203000
DTEND;TZID=UTC:20290122T223000
DTSTAMP:20260422T193054
CREATED:20250919T144433Z
LAST-MODIFIED:20251218T153448Z
UID:10006668-1863808200-1863815400@grunthalebc.ca
SUMMARY:Men's Bible Study
DESCRIPTION:All men are invited for a Bible study! It’s a great time to connect and dive deeper into God’s Word.
URL:https://grunthalebc.ca/event/mens-bible-study/2029-01-22/
LOCATION:Manitoba
END:VEVENT
BEGIN:VEVENT
DTSTART;TZID=UTC:20290124T100000
DTEND;TZID=UTC:20290124T113000
DTSTAMP:20260422T193054
CREATED:20250605T164059Z
LAST-MODIFIED:20251218T153852Z
UID:10005529-1863943200-1863948600@grunthalebc.ca
SUMMARY:55+ Coffee & Fellowship
DESCRIPTION:Join us at church if you’re 55+ for coffee and fellowship!
URL:https://grunthalebc.ca/event/55-coffee-fellowship/2029-01-24/
LOCATION:Grunthal EBC\, 84 Oak Ave\, Grunthal\, Manitoba\, Canada
END:VEVENT
BEGIN:VEVENT
DTSTART;TZID=UTC:20290125T190000
DTEND;TZID=UTC:20290125T204500
DTSTAMP:20260422T193054
CREATED:20260226T211142Z
LAST-MODIFIED:20260226T211518Z
UID:10007332-1864062000-1864068300@grunthalebc.ca
SUMMARY:Junior Youth
DESCRIPTION:Grade 7-9 youth night! Games\, a devotional and snacks. Pick up at 8:45pm.
URL:https://grunthalebc.ca/event/junior-youth-2/2029-01-25/
LOCATION:Grunthal EBC\, 84 Oak Ave\, Grunthal\, Manitoba\, Canada
END:VEVENT
BEGIN:VEVENT
DTSTART;TZID=UTC:20290126T093000
DTEND;TZID=UTC:20290126T110000
DTSTAMP:20260422T193054
CREATED:20260106T194428Z
LAST-MODIFIED:20260106T194429Z
UID:10007566-1864114200-1864119600@grunthalebc.ca
SUMMARY:Women's Bible Study
DESCRIPTION:Join Beth Fast as she takes us through God’s Word. Babysitting is available! \n 
URL:https://grunthalebc.ca/event/womens-bible-study-2/2029-01-26/
LOCATION:Grunthal EBC\, 84 Oak Ave\, Grunthal\, Manitoba\, Canada
END:VEVENT
BEGIN:VEVENT
DTSTART;TZID=UTC:20290126T193000
DTEND;TZID=UTC:20290126T220000
DTSTAMP:20260422T193054
CREATED:20260226T211214Z
LAST-MODIFIED:20260226T211214Z
UID:10007063-1864150200-1864159200@grunthalebc.ca
SUMMARY:Senior Youth
DESCRIPTION:Grade 10-12 youth night! Games\, a devotional and snack. Pick up at 10 pm.
URL:https://grunthalebc.ca/event/senior-youth-2/2029-01-26/
LOCATION:Grunthal EBC\, 84 Oak Ave\, Grunthal\, Manitoba\, Canada
END:VEVENT
BEGIN:VEVENT
DTSTART;TZID=UTC:20290129T203000
DTEND;TZID=UTC:20290129T223000
DTSTAMP:20260422T193054
CREATED:20250919T144433Z
LAST-MODIFIED:20251218T153448Z
UID:10006669-1864413000-1864420200@grunthalebc.ca
SUMMARY:Men's Bible Study
DESCRIPTION:All men are invited for a Bible study! It’s a great time to connect and dive deeper into God’s Word.
URL:https://grunthalebc.ca/event/mens-bible-study/2029-01-29/
LOCATION:Manitoba
END:VEVENT
BEGIN:VEVENT
DTSTART;TZID=UTC:20290131T100000
DTEND;TZID=UTC:20290131T113000
DTSTAMP:20260422T193054
CREATED:20250605T164059Z
LAST-MODIFIED:20251218T153852Z
UID:10005530-1864548000-1864553400@grunthalebc.ca
SUMMARY:55+ Coffee & Fellowship
DESCRIPTION:Join us at church if you’re 55+ for coffee and fellowship!
URL:https://grunthalebc.ca/event/55-coffee-fellowship/2029-01-31/
LOCATION:Grunthal EBC\, 84 Oak Ave\, Grunthal\, Manitoba\, Canada
END:VEVENT
END:VCALENDAR