BEGIN:VCALENDAR
VERSION:2.0
PRODID:-//Grunthal Evangelical Bible Church - ECPv6.15.20//NONSGML v1.0//EN
CALSCALE:GREGORIAN
METHOD:PUBLISH
X-ORIGINAL-URL:https://grunthalebc.ca
X-WR-CALDESC:Events for Grunthal Evangelical Bible Church
REFRESH-INTERVAL;VALUE=DURATION:PT1H
X-Robots-Tag:noindex
X-PUBLISHED-TTL:PT1H
BEGIN:VTIMEZONE
TZID:UTC
BEGIN:STANDARD
TZOFFSETFROM:+0000
TZOFFSETTO:+0000
TZNAME:UTC
DTSTART:20270101T000000
END:STANDARD
END:VTIMEZONE
BEGIN:VEVENT
DTSTART;TZID=UTC:20281201T093000
DTEND;TZID=UTC:20281201T110000
DTSTAMP:20260422T174103
CREATED:20260106T194428Z
LAST-MODIFIED:20260106T194429Z
UID:10007562-1859275800-1859281200@grunthalebc.ca
SUMMARY:Women's Bible Study
DESCRIPTION:Join Beth Fast as she takes us through God’s Word. Babysitting is available! \n 
URL:https://grunthalebc.ca/event/womens-bible-study-2/2028-12-01/
LOCATION:Grunthal EBC\, 84 Oak Ave\, Grunthal\, Manitoba\, Canada
END:VEVENT
BEGIN:VEVENT
DTSTART;TZID=UTC:20281201T193000
DTEND;TZID=UTC:20281201T220000
DTSTAMP:20260422T174103
CREATED:20260226T211214Z
LAST-MODIFIED:20260226T211214Z
UID:10007055-1859311800-1859320800@grunthalebc.ca
SUMMARY:Senior Youth
DESCRIPTION:Grade 10-12 youth night! Games\, a devotional and snack. Pick up at 10 pm.
URL:https://grunthalebc.ca/event/senior-youth-2/2028-12-01/
LOCATION:Grunthal EBC\, 84 Oak Ave\, Grunthal\, Manitoba\, Canada
END:VEVENT
BEGIN:VEVENT
DTSTART;TZID=UTC:20281204T203000
DTEND;TZID=UTC:20281204T223000
DTSTAMP:20260422T174103
CREATED:20250919T144433Z
LAST-MODIFIED:20251218T153448Z
UID:10006661-1859574600-1859581800@grunthalebc.ca
SUMMARY:Men's Bible Study
DESCRIPTION:All men are invited for a Bible study! It’s a great time to connect and dive deeper into God’s Word.
URL:https://grunthalebc.ca/event/mens-bible-study/2028-12-04/
LOCATION:Manitoba
END:VEVENT
BEGIN:VEVENT
DTSTART;TZID=UTC:20281206T100000
DTEND;TZID=UTC:20281206T113000
DTSTAMP:20260422T174103
CREATED:20250605T164059Z
LAST-MODIFIED:20251218T153852Z
UID:10005522-1859709600-1859715000@grunthalebc.ca
SUMMARY:55+ Coffee & Fellowship
DESCRIPTION:Join us at church if you’re 55+ for coffee and fellowship!
URL:https://grunthalebc.ca/event/55-coffee-fellowship/2028-12-06/
LOCATION:Grunthal EBC\, 84 Oak Ave\, Grunthal\, Manitoba\, Canada
END:VEVENT
BEGIN:VEVENT
DTSTART;TZID=UTC:20281207T190000
DTEND;TZID=UTC:20281207T204500
DTSTAMP:20260422T174103
CREATED:20260226T211142Z
LAST-MODIFIED:20260226T211518Z
UID:10007325-1859828400-1859834700@grunthalebc.ca
SUMMARY:Junior Youth
DESCRIPTION:Grade 7-9 youth night! Games\, a devotional and snacks. Pick up at 8:45pm.
URL:https://grunthalebc.ca/event/junior-youth-2/2028-12-07/
LOCATION:Grunthal EBC\, 84 Oak Ave\, Grunthal\, Manitoba\, Canada
END:VEVENT
BEGIN:VEVENT
DTSTART;TZID=UTC:20281207T190000
DTEND;TZID=UTC:20281207T210000
DTSTAMP:20260422T174103
CREATED:20250925T185237Z
LAST-MODIFIED:20251209T171314Z
UID:10006841-1859828400-1859835600@grunthalebc.ca
SUMMARY:College & Career
DESCRIPTION:All young adults are welcome to join us for a Bible Study and fellowship!
URL:https://grunthalebc.ca/event/college-career/2028-12-07/
LOCATION:Grunthal EBC\, 84 Oak Ave\, Grunthal\, Manitoba\, Canada
END:VEVENT
BEGIN:VEVENT
DTSTART;TZID=UTC:20281208T193000
DTEND;TZID=UTC:20281208T220000
DTSTAMP:20260422T174103
CREATED:20260226T211214Z
LAST-MODIFIED:20260226T211214Z
UID:10007056-1859916600-1859925600@grunthalebc.ca
SUMMARY:Senior Youth
DESCRIPTION:Grade 10-12 youth night! Games\, a devotional and snack. Pick up at 10 pm.
URL:https://grunthalebc.ca/event/senior-youth-2/2028-12-08/
LOCATION:Grunthal EBC\, 84 Oak Ave\, Grunthal\, Manitoba\, Canada
END:VEVENT
BEGIN:VEVENT
DTSTART;TZID=UTC:20281211T203000
DTEND;TZID=UTC:20281211T223000
DTSTAMP:20260422T174103
CREATED:20250919T144433Z
LAST-MODIFIED:20251218T153448Z
UID:10006662-1860179400-1860186600@grunthalebc.ca
SUMMARY:Men's Bible Study
DESCRIPTION:All men are invited for a Bible study! It’s a great time to connect and dive deeper into God’s Word.
URL:https://grunthalebc.ca/event/mens-bible-study/2028-12-11/
LOCATION:Manitoba
END:VEVENT
BEGIN:VEVENT
DTSTART;TZID=UTC:20281213T100000
DTEND;TZID=UTC:20281213T113000
DTSTAMP:20260422T174103
CREATED:20250605T164059Z
LAST-MODIFIED:20251218T153852Z
UID:10005523-1860314400-1860319800@grunthalebc.ca
SUMMARY:55+ Coffee & Fellowship
DESCRIPTION:Join us at church if you’re 55+ for coffee and fellowship!
URL:https://grunthalebc.ca/event/55-coffee-fellowship/2028-12-13/
LOCATION:Grunthal EBC\, 84 Oak Ave\, Grunthal\, Manitoba\, Canada
END:VEVENT
BEGIN:VEVENT
DTSTART;TZID=UTC:20281214T190000
DTEND;TZID=UTC:20281214T204500
DTSTAMP:20260422T174103
CREATED:20260226T211142Z
LAST-MODIFIED:20260226T211518Z
UID:10007326-1860433200-1860439500@grunthalebc.ca
SUMMARY:Junior Youth
DESCRIPTION:Grade 7-9 youth night! Games\, a devotional and snacks. Pick up at 8:45pm.
URL:https://grunthalebc.ca/event/junior-youth-2/2028-12-14/
LOCATION:Grunthal EBC\, 84 Oak Ave\, Grunthal\, Manitoba\, Canada
END:VEVENT
BEGIN:VEVENT
DTSTART;TZID=UTC:20281215T093000
DTEND;TZID=UTC:20281215T110000
DTSTAMP:20260422T174103
CREATED:20260106T194428Z
LAST-MODIFIED:20260106T194429Z
UID:10007563-1860485400-1860490800@grunthalebc.ca
SUMMARY:Women's Bible Study
DESCRIPTION:Join Beth Fast as she takes us through God’s Word. Babysitting is available! \n 
URL:https://grunthalebc.ca/event/womens-bible-study-2/2028-12-15/
LOCATION:Grunthal EBC\, 84 Oak Ave\, Grunthal\, Manitoba\, Canada
END:VEVENT
BEGIN:VEVENT
DTSTART;TZID=UTC:20281215T193000
DTEND;TZID=UTC:20281215T220000
DTSTAMP:20260422T174103
CREATED:20260226T211214Z
LAST-MODIFIED:20260226T211214Z
UID:10007057-1860521400-1860530400@grunthalebc.ca
SUMMARY:Senior Youth
DESCRIPTION:Grade 10-12 youth night! Games\, a devotional and snack. Pick up at 10 pm.
URL:https://grunthalebc.ca/event/senior-youth-2/2028-12-15/
LOCATION:Grunthal EBC\, 84 Oak Ave\, Grunthal\, Manitoba\, Canada
END:VEVENT
BEGIN:VEVENT
DTSTART;TZID=UTC:20281218T203000
DTEND;TZID=UTC:20281218T223000
DTSTAMP:20260422T174103
CREATED:20250919T144433Z
LAST-MODIFIED:20251218T153448Z
UID:10006663-1860784200-1860791400@grunthalebc.ca
SUMMARY:Men's Bible Study
DESCRIPTION:All men are invited for a Bible study! It’s a great time to connect and dive deeper into God’s Word.
URL:https://grunthalebc.ca/event/mens-bible-study/2028-12-18/
LOCATION:Manitoba
END:VEVENT
BEGIN:VEVENT
DTSTART;TZID=UTC:20281220T100000
DTEND;TZID=UTC:20281220T113000
DTSTAMP:20260422T174103
CREATED:20250605T164059Z
LAST-MODIFIED:20251218T153852Z
UID:10005524-1860919200-1860924600@grunthalebc.ca
SUMMARY:55+ Coffee & Fellowship
DESCRIPTION:Join us at church if you’re 55+ for coffee and fellowship!
URL:https://grunthalebc.ca/event/55-coffee-fellowship/2028-12-20/
LOCATION:Grunthal EBC\, 84 Oak Ave\, Grunthal\, Manitoba\, Canada
END:VEVENT
BEGIN:VEVENT
DTSTART;TZID=UTC:20281221T190000
DTEND;TZID=UTC:20281221T204500
DTSTAMP:20260422T174103
CREATED:20260226T211142Z
LAST-MODIFIED:20260226T211518Z
UID:10007327-1861038000-1861044300@grunthalebc.ca
SUMMARY:Junior Youth
DESCRIPTION:Grade 7-9 youth night! Games\, a devotional and snacks. Pick up at 8:45pm.
URL:https://grunthalebc.ca/event/junior-youth-2/2028-12-21/
LOCATION:Grunthal EBC\, 84 Oak Ave\, Grunthal\, Manitoba\, Canada
END:VEVENT
BEGIN:VEVENT
DTSTART;TZID=UTC:20281221T190000
DTEND;TZID=UTC:20281221T210000
DTSTAMP:20260422T174103
CREATED:20250925T185237Z
LAST-MODIFIED:20251209T171314Z
UID:10006842-1861038000-1861045200@grunthalebc.ca
SUMMARY:College & Career
DESCRIPTION:All young adults are welcome to join us for a Bible Study and fellowship!
URL:https://grunthalebc.ca/event/college-career/2028-12-21/
LOCATION:Grunthal EBC\, 84 Oak Ave\, Grunthal\, Manitoba\, Canada
END:VEVENT
BEGIN:VEVENT
DTSTART;TZID=UTC:20281222T193000
DTEND;TZID=UTC:20281222T220000
DTSTAMP:20260422T174103
CREATED:20260226T211214Z
LAST-MODIFIED:20260226T211214Z
UID:10007058-1861126200-1861135200@grunthalebc.ca
SUMMARY:Senior Youth
DESCRIPTION:Grade 10-12 youth night! Games\, a devotional and snack. Pick up at 10 pm.
URL:https://grunthalebc.ca/event/senior-youth-2/2028-12-22/
LOCATION:Grunthal EBC\, 84 Oak Ave\, Grunthal\, Manitoba\, Canada
END:VEVENT
BEGIN:VEVENT
DTSTART;TZID=UTC:20281225T203000
DTEND;TZID=UTC:20281225T223000
DTSTAMP:20260422T174103
CREATED:20250919T144433Z
LAST-MODIFIED:20251218T153448Z
UID:10006664-1861389000-1861396200@grunthalebc.ca
SUMMARY:Men's Bible Study
DESCRIPTION:All men are invited for a Bible study! It’s a great time to connect and dive deeper into God’s Word.
URL:https://grunthalebc.ca/event/mens-bible-study/2028-12-25/
LOCATION:Manitoba
END:VEVENT
BEGIN:VEVENT
DTSTART;TZID=UTC:20281227T100000
DTEND;TZID=UTC:20281227T113000
DTSTAMP:20260422T174103
CREATED:20250605T164059Z
LAST-MODIFIED:20251218T153852Z
UID:10005525-1861524000-1861529400@grunthalebc.ca
SUMMARY:55+ Coffee & Fellowship
DESCRIPTION:Join us at church if you’re 55+ for coffee and fellowship!
URL:https://grunthalebc.ca/event/55-coffee-fellowship/2028-12-27/
LOCATION:Grunthal EBC\, 84 Oak Ave\, Grunthal\, Manitoba\, Canada
END:VEVENT
BEGIN:VEVENT
DTSTART;TZID=UTC:20281228T190000
DTEND;TZID=UTC:20281228T204500
DTSTAMP:20260422T174103
CREATED:20260226T211142Z
LAST-MODIFIED:20260226T211518Z
UID:10007328-1861642800-1861649100@grunthalebc.ca
SUMMARY:Junior Youth
DESCRIPTION:Grade 7-9 youth night! Games\, a devotional and snacks. Pick up at 8:45pm.
URL:https://grunthalebc.ca/event/junior-youth-2/2028-12-28/
LOCATION:Grunthal EBC\, 84 Oak Ave\, Grunthal\, Manitoba\, Canada
END:VEVENT
BEGIN:VEVENT
DTSTART;TZID=UTC:20281229T093000
DTEND;TZID=UTC:20281229T110000
DTSTAMP:20260422T174103
CREATED:20260106T194428Z
LAST-MODIFIED:20260106T194429Z
UID:10007564-1861695000-1861700400@grunthalebc.ca
SUMMARY:Women's Bible Study
DESCRIPTION:Join Beth Fast as she takes us through God’s Word. Babysitting is available! \n 
URL:https://grunthalebc.ca/event/womens-bible-study-2/2028-12-29/
LOCATION:Grunthal EBC\, 84 Oak Ave\, Grunthal\, Manitoba\, Canada
END:VEVENT
BEGIN:VEVENT
DTSTART;TZID=UTC:20281229T193000
DTEND;TZID=UTC:20281229T220000
DTSTAMP:20260422T174103
CREATED:20260226T211214Z
LAST-MODIFIED:20260226T211214Z
UID:10007059-1861731000-1861740000@grunthalebc.ca
SUMMARY:Senior Youth
DESCRIPTION:Grade 10-12 youth night! Games\, a devotional and snack. Pick up at 10 pm.
URL:https://grunthalebc.ca/event/senior-youth-2/2028-12-29/
LOCATION:Grunthal EBC\, 84 Oak Ave\, Grunthal\, Manitoba\, Canada
END:VEVENT
END:VCALENDAR