BEGIN:VCALENDAR
VERSION:2.0
PRODID:-//Grunthal Evangelical Bible Church - ECPv6.15.20//NONSGML v1.0//EN
CALSCALE:GREGORIAN
METHOD:PUBLISH
X-WR-CALNAME:Grunthal Evangelical Bible Church
X-ORIGINAL-URL:https://grunthalebc.ca
X-WR-CALDESC:Events for Grunthal Evangelical Bible Church
REFRESH-INTERVAL;VALUE=DURATION:PT1H
X-Robots-Tag:noindex
X-PUBLISHED-TTL:PT1H
BEGIN:VTIMEZONE
TZID:UTC
BEGIN:STANDARD
TZOFFSETFROM:+0000
TZOFFSETTO:+0000
TZNAME:UTC
DTSTART:20270101T000000
END:STANDARD
END:VTIMEZONE
BEGIN:VEVENT
DTSTART;TZID=UTC:20281101T100000
DTEND;TZID=UTC:20281101T113000
DTSTAMP:20260422T155151
CREATED:20250605T164059Z
LAST-MODIFIED:20251218T153852Z
UID:10005517-1856685600-1856691000@grunthalebc.ca
SUMMARY:55+ Coffee & Fellowship
DESCRIPTION:Join us at church if you’re 55+ for coffee and fellowship!
URL:https://grunthalebc.ca/event/55-coffee-fellowship/2028-11-01/
LOCATION:Grunthal EBC\, 84 Oak Ave\, Grunthal\, Manitoba\, Canada
END:VEVENT
BEGIN:VEVENT
DTSTART;TZID=UTC:20281102T190000
DTEND;TZID=UTC:20281102T204500
DTSTAMP:20260422T155151
CREATED:20260226T211142Z
LAST-MODIFIED:20260226T211518Z
UID:10007320-1856804400-1856810700@grunthalebc.ca
SUMMARY:Junior Youth
DESCRIPTION:Grade 7-9 youth night! Games\, a devotional and snacks. Pick up at 8:45pm.
URL:https://grunthalebc.ca/event/junior-youth-2/2028-11-02/
LOCATION:Grunthal EBC\, 84 Oak Ave\, Grunthal\, Manitoba\, Canada
END:VEVENT
BEGIN:VEVENT
DTSTART;TZID=UTC:20281103T093000
DTEND;TZID=UTC:20281103T110000
DTSTAMP:20260422T155151
CREATED:20260106T194428Z
LAST-MODIFIED:20260106T194429Z
UID:10007560-1856856600-1856862000@grunthalebc.ca
SUMMARY:Women's Bible Study
DESCRIPTION:Join Beth Fast as she takes us through God’s Word. Babysitting is available! \n 
URL:https://grunthalebc.ca/event/womens-bible-study-2/2028-11-03/
LOCATION:Grunthal EBC\, 84 Oak Ave\, Grunthal\, Manitoba\, Canada
END:VEVENT
BEGIN:VEVENT
DTSTART;TZID=UTC:20281103T193000
DTEND;TZID=UTC:20281103T220000
DTSTAMP:20260422T155151
CREATED:20260226T211214Z
LAST-MODIFIED:20260226T211214Z
UID:10007051-1856892600-1856901600@grunthalebc.ca
SUMMARY:Senior Youth
DESCRIPTION:Grade 10-12 youth night! Games\, a devotional and snack. Pick up at 10 pm.
URL:https://grunthalebc.ca/event/senior-youth-2/2028-11-03/
LOCATION:Grunthal EBC\, 84 Oak Ave\, Grunthal\, Manitoba\, Canada
END:VEVENT
BEGIN:VEVENT
DTSTART;TZID=UTC:20281106T203000
DTEND;TZID=UTC:20281106T223000
DTSTAMP:20260422T155151
CREATED:20250919T144433Z
LAST-MODIFIED:20251218T153448Z
UID:10006657-1857155400-1857162600@grunthalebc.ca
SUMMARY:Men's Bible Study
DESCRIPTION:All men are invited for a Bible study! It’s a great time to connect and dive deeper into God’s Word.
URL:https://grunthalebc.ca/event/mens-bible-study/2028-11-06/
LOCATION:Manitoba
END:VEVENT
BEGIN:VEVENT
DTSTART;TZID=UTC:20281108T100000
DTEND;TZID=UTC:20281108T113000
DTSTAMP:20260422T155151
CREATED:20250605T164059Z
LAST-MODIFIED:20251218T153852Z
UID:10005518-1857290400-1857295800@grunthalebc.ca
SUMMARY:55+ Coffee & Fellowship
DESCRIPTION:Join us at church if you’re 55+ for coffee and fellowship!
URL:https://grunthalebc.ca/event/55-coffee-fellowship/2028-11-08/
LOCATION:Grunthal EBC\, 84 Oak Ave\, Grunthal\, Manitoba\, Canada
END:VEVENT
BEGIN:VEVENT
DTSTART;TZID=UTC:20281109T190000
DTEND;TZID=UTC:20281109T204500
DTSTAMP:20260422T155151
CREATED:20260226T211142Z
LAST-MODIFIED:20260226T211518Z
UID:10007321-1857409200-1857415500@grunthalebc.ca
SUMMARY:Junior Youth
DESCRIPTION:Grade 7-9 youth night! Games\, a devotional and snacks. Pick up at 8:45pm.
URL:https://grunthalebc.ca/event/junior-youth-2/2028-11-09/
LOCATION:Grunthal EBC\, 84 Oak Ave\, Grunthal\, Manitoba\, Canada
END:VEVENT
BEGIN:VEVENT
DTSTART;TZID=UTC:20281109T190000
DTEND;TZID=UTC:20281109T210000
DTSTAMP:20260422T155151
CREATED:20250925T185237Z
LAST-MODIFIED:20251209T171314Z
UID:10006839-1857409200-1857416400@grunthalebc.ca
SUMMARY:College & Career
DESCRIPTION:All young adults are welcome to join us for a Bible Study and fellowship!
URL:https://grunthalebc.ca/event/college-career/2028-11-09/
LOCATION:Grunthal EBC\, 84 Oak Ave\, Grunthal\, Manitoba\, Canada
END:VEVENT
BEGIN:VEVENT
DTSTART;TZID=UTC:20281110T193000
DTEND;TZID=UTC:20281110T220000
DTSTAMP:20260422T155151
CREATED:20260226T211214Z
LAST-MODIFIED:20260226T211214Z
UID:10007052-1857497400-1857506400@grunthalebc.ca
SUMMARY:Senior Youth
DESCRIPTION:Grade 10-12 youth night! Games\, a devotional and snack. Pick up at 10 pm.
URL:https://grunthalebc.ca/event/senior-youth-2/2028-11-10/
LOCATION:Grunthal EBC\, 84 Oak Ave\, Grunthal\, Manitoba\, Canada
END:VEVENT
BEGIN:VEVENT
DTSTART;TZID=UTC:20281113T203000
DTEND;TZID=UTC:20281113T223000
DTSTAMP:20260422T155151
CREATED:20250919T144433Z
LAST-MODIFIED:20251218T153448Z
UID:10006658-1857760200-1857767400@grunthalebc.ca
SUMMARY:Men's Bible Study
DESCRIPTION:All men are invited for a Bible study! It’s a great time to connect and dive deeper into God’s Word.
URL:https://grunthalebc.ca/event/mens-bible-study/2028-11-13/
LOCATION:Manitoba
END:VEVENT
BEGIN:VEVENT
DTSTART;TZID=UTC:20281115T100000
DTEND;TZID=UTC:20281115T113000
DTSTAMP:20260422T155151
CREATED:20250605T164059Z
LAST-MODIFIED:20251218T153852Z
UID:10005519-1857895200-1857900600@grunthalebc.ca
SUMMARY:55+ Coffee & Fellowship
DESCRIPTION:Join us at church if you’re 55+ for coffee and fellowship!
URL:https://grunthalebc.ca/event/55-coffee-fellowship/2028-11-15/
LOCATION:Grunthal EBC\, 84 Oak Ave\, Grunthal\, Manitoba\, Canada
END:VEVENT
BEGIN:VEVENT
DTSTART;TZID=UTC:20281116T190000
DTEND;TZID=UTC:20281116T204500
DTSTAMP:20260422T155151
CREATED:20260226T211142Z
LAST-MODIFIED:20260226T211518Z
UID:10007322-1858014000-1858020300@grunthalebc.ca
SUMMARY:Junior Youth
DESCRIPTION:Grade 7-9 youth night! Games\, a devotional and snacks. Pick up at 8:45pm.
URL:https://grunthalebc.ca/event/junior-youth-2/2028-11-16/
LOCATION:Grunthal EBC\, 84 Oak Ave\, Grunthal\, Manitoba\, Canada
END:VEVENT
BEGIN:VEVENT
DTSTART;TZID=UTC:20281117T093000
DTEND;TZID=UTC:20281117T110000
DTSTAMP:20260422T155151
CREATED:20260106T194428Z
LAST-MODIFIED:20260106T194429Z
UID:10007561-1858066200-1858071600@grunthalebc.ca
SUMMARY:Women's Bible Study
DESCRIPTION:Join Beth Fast as she takes us through God’s Word. Babysitting is available! \n 
URL:https://grunthalebc.ca/event/womens-bible-study-2/2028-11-17/
LOCATION:Grunthal EBC\, 84 Oak Ave\, Grunthal\, Manitoba\, Canada
END:VEVENT
BEGIN:VEVENT
DTSTART;TZID=UTC:20281117T193000
DTEND;TZID=UTC:20281117T220000
DTSTAMP:20260422T155151
CREATED:20260226T211214Z
LAST-MODIFIED:20260226T211214Z
UID:10007053-1858102200-1858111200@grunthalebc.ca
SUMMARY:Senior Youth
DESCRIPTION:Grade 10-12 youth night! Games\, a devotional and snack. Pick up at 10 pm.
URL:https://grunthalebc.ca/event/senior-youth-2/2028-11-17/
LOCATION:Grunthal EBC\, 84 Oak Ave\, Grunthal\, Manitoba\, Canada
END:VEVENT
BEGIN:VEVENT
DTSTART;TZID=UTC:20281120T203000
DTEND;TZID=UTC:20281120T223000
DTSTAMP:20260422T155151
CREATED:20250919T144433Z
LAST-MODIFIED:20251218T153448Z
UID:10006659-1858365000-1858372200@grunthalebc.ca
SUMMARY:Men's Bible Study
DESCRIPTION:All men are invited for a Bible study! It’s a great time to connect and dive deeper into God’s Word.
URL:https://grunthalebc.ca/event/mens-bible-study/2028-11-20/
LOCATION:Manitoba
END:VEVENT
BEGIN:VEVENT
DTSTART;TZID=UTC:20281122T100000
DTEND;TZID=UTC:20281122T113000
DTSTAMP:20260422T155151
CREATED:20250605T164059Z
LAST-MODIFIED:20251218T153852Z
UID:10005520-1858500000-1858505400@grunthalebc.ca
SUMMARY:55+ Coffee & Fellowship
DESCRIPTION:Join us at church if you’re 55+ for coffee and fellowship!
URL:https://grunthalebc.ca/event/55-coffee-fellowship/2028-11-22/
LOCATION:Grunthal EBC\, 84 Oak Ave\, Grunthal\, Manitoba\, Canada
END:VEVENT
BEGIN:VEVENT
DTSTART;TZID=UTC:20281123T190000
DTEND;TZID=UTC:20281123T204500
DTSTAMP:20260422T155151
CREATED:20260226T211142Z
LAST-MODIFIED:20260226T211518Z
UID:10007323-1858618800-1858625100@grunthalebc.ca
SUMMARY:Junior Youth
DESCRIPTION:Grade 7-9 youth night! Games\, a devotional and snacks. Pick up at 8:45pm.
URL:https://grunthalebc.ca/event/junior-youth-2/2028-11-23/
LOCATION:Grunthal EBC\, 84 Oak Ave\, Grunthal\, Manitoba\, Canada
END:VEVENT
BEGIN:VEVENT
DTSTART;TZID=UTC:20281123T190000
DTEND;TZID=UTC:20281123T210000
DTSTAMP:20260422T155151
CREATED:20250925T185237Z
LAST-MODIFIED:20251209T171314Z
UID:10006840-1858618800-1858626000@grunthalebc.ca
SUMMARY:College & Career
DESCRIPTION:All young adults are welcome to join us for a Bible Study and fellowship!
URL:https://grunthalebc.ca/event/college-career/2028-11-23/
LOCATION:Grunthal EBC\, 84 Oak Ave\, Grunthal\, Manitoba\, Canada
END:VEVENT
BEGIN:VEVENT
DTSTART;TZID=UTC:20281124T193000
DTEND;TZID=UTC:20281124T220000
DTSTAMP:20260422T155151
CREATED:20260226T211214Z
LAST-MODIFIED:20260226T211214Z
UID:10007054-1858707000-1858716000@grunthalebc.ca
SUMMARY:Senior Youth
DESCRIPTION:Grade 10-12 youth night! Games\, a devotional and snack. Pick up at 10 pm.
URL:https://grunthalebc.ca/event/senior-youth-2/2028-11-24/
LOCATION:Grunthal EBC\, 84 Oak Ave\, Grunthal\, Manitoba\, Canada
END:VEVENT
BEGIN:VEVENT
DTSTART;TZID=UTC:20281127T203000
DTEND;TZID=UTC:20281127T223000
DTSTAMP:20260422T155151
CREATED:20250919T144433Z
LAST-MODIFIED:20251218T153448Z
UID:10006660-1858969800-1858977000@grunthalebc.ca
SUMMARY:Men's Bible Study
DESCRIPTION:All men are invited for a Bible study! It’s a great time to connect and dive deeper into God’s Word.
URL:https://grunthalebc.ca/event/mens-bible-study/2028-11-27/
LOCATION:Manitoba
END:VEVENT
BEGIN:VEVENT
DTSTART;TZID=UTC:20281129T100000
DTEND;TZID=UTC:20281129T113000
DTSTAMP:20260422T155151
CREATED:20250605T164059Z
LAST-MODIFIED:20251218T153852Z
UID:10005521-1859104800-1859110200@grunthalebc.ca
SUMMARY:55+ Coffee & Fellowship
DESCRIPTION:Join us at church if you’re 55+ for coffee and fellowship!
URL:https://grunthalebc.ca/event/55-coffee-fellowship/2028-11-29/
LOCATION:Grunthal EBC\, 84 Oak Ave\, Grunthal\, Manitoba\, Canada
END:VEVENT
BEGIN:VEVENT
DTSTART;TZID=UTC:20281130T190000
DTEND;TZID=UTC:20281130T204500
DTSTAMP:20260422T155151
CREATED:20260226T211142Z
LAST-MODIFIED:20260226T211518Z
UID:10007324-1859223600-1859229900@grunthalebc.ca
SUMMARY:Junior Youth
DESCRIPTION:Grade 7-9 youth night! Games\, a devotional and snacks. Pick up at 8:45pm.
URL:https://grunthalebc.ca/event/junior-youth-2/2028-11-30/
LOCATION:Grunthal EBC\, 84 Oak Ave\, Grunthal\, Manitoba\, Canada
END:VEVENT
END:VCALENDAR