BEGIN:VCALENDAR
VERSION:2.0
PRODID:-//Grunthal Evangelical Bible Church - ECPv6.15.20//NONSGML v1.0//EN
CALSCALE:GREGORIAN
METHOD:PUBLISH
X-WR-CALNAME:Grunthal Evangelical Bible Church
X-ORIGINAL-URL:https://grunthalebc.ca
X-WR-CALDESC:Events for Grunthal Evangelical Bible Church
REFRESH-INTERVAL;VALUE=DURATION:PT1H
X-Robots-Tag:noindex
X-PUBLISHED-TTL:PT1H
BEGIN:VTIMEZONE
TZID:UTC
BEGIN:STANDARD
TZOFFSETFROM:+0000
TZOFFSETTO:+0000
TZNAME:UTC
DTSTART:20270101T000000
END:STANDARD
END:VTIMEZONE
BEGIN:VEVENT
DTSTART;TZID=UTC:20280901T193000
DTEND;TZID=UTC:20280901T220000
DTSTAMP:20260422T124449
CREATED:20260226T211214Z
LAST-MODIFIED:20260226T211214Z
UID:10007042-1851449400-1851458400@grunthalebc.ca
SUMMARY:Senior Youth
DESCRIPTION:Grade 10-12 youth night! Games\, a devotional and snack. Pick up at 10 pm.
URL:https://grunthalebc.ca/event/senior-youth-2/2028-09-01/
LOCATION:Grunthal EBC\, 84 Oak Ave\, Grunthal\, Manitoba\, Canada
END:VEVENT
BEGIN:VEVENT
DTSTART;TZID=UTC:20280904T203000
DTEND;TZID=UTC:20280904T223000
DTSTAMP:20260422T124449
CREATED:20250919T144433Z
LAST-MODIFIED:20251218T153448Z
UID:10006648-1851712200-1851719400@grunthalebc.ca
SUMMARY:Men's Bible Study
DESCRIPTION:All men are invited for a Bible study! It’s a great time to connect and dive deeper into God’s Word.
URL:https://grunthalebc.ca/event/mens-bible-study/2028-09-04/
LOCATION:Manitoba
END:VEVENT
BEGIN:VEVENT
DTSTART;TZID=UTC:20280906T100000
DTEND;TZID=UTC:20280906T113000
DTSTAMP:20260422T124449
CREATED:20250605T164059Z
LAST-MODIFIED:20251218T153852Z
UID:10005509-1851847200-1851852600@grunthalebc.ca
SUMMARY:55+ Coffee & Fellowship
DESCRIPTION:Join us at church if you’re 55+ for coffee and fellowship!
URL:https://grunthalebc.ca/event/55-coffee-fellowship/2028-09-06/
LOCATION:Grunthal EBC\, 84 Oak Ave\, Grunthal\, Manitoba\, Canada
END:VEVENT
BEGIN:VEVENT
DTSTART;TZID=UTC:20280907T190000
DTEND;TZID=UTC:20280907T204500
DTSTAMP:20260422T124449
CREATED:20260226T211142Z
LAST-MODIFIED:20260226T211518Z
UID:10007312-1851966000-1851972300@grunthalebc.ca
SUMMARY:Junior Youth
DESCRIPTION:Grade 7-9 youth night! Games\, a devotional and snacks. Pick up at 8:45pm.
URL:https://grunthalebc.ca/event/junior-youth-2/2028-09-07/
LOCATION:Grunthal EBC\, 84 Oak Ave\, Grunthal\, Manitoba\, Canada
END:VEVENT
BEGIN:VEVENT
DTSTART;TZID=UTC:20280908T093000
DTEND;TZID=UTC:20280908T110000
DTSTAMP:20260422T124449
CREATED:20260106T194428Z
LAST-MODIFIED:20260106T194429Z
UID:10007556-1852018200-1852023600@grunthalebc.ca
SUMMARY:Women's Bible Study
DESCRIPTION:Join Beth Fast as she takes us through God’s Word. Babysitting is available! \n 
URL:https://grunthalebc.ca/event/womens-bible-study-2/2028-09-08/
LOCATION:Grunthal EBC\, 84 Oak Ave\, Grunthal\, Manitoba\, Canada
END:VEVENT
BEGIN:VEVENT
DTSTART;TZID=UTC:20280908T193000
DTEND;TZID=UTC:20280908T220000
DTSTAMP:20260422T124449
CREATED:20260226T211214Z
LAST-MODIFIED:20260226T211214Z
UID:10007043-1852054200-1852063200@grunthalebc.ca
SUMMARY:Senior Youth
DESCRIPTION:Grade 10-12 youth night! Games\, a devotional and snack. Pick up at 10 pm.
URL:https://grunthalebc.ca/event/senior-youth-2/2028-09-08/
LOCATION:Grunthal EBC\, 84 Oak Ave\, Grunthal\, Manitoba\, Canada
END:VEVENT
BEGIN:VEVENT
DTSTART;TZID=UTC:20280911T203000
DTEND;TZID=UTC:20280911T223000
DTSTAMP:20260422T124449
CREATED:20250919T144433Z
LAST-MODIFIED:20251218T153448Z
UID:10006649-1852317000-1852324200@grunthalebc.ca
SUMMARY:Men's Bible Study
DESCRIPTION:All men are invited for a Bible study! It’s a great time to connect and dive deeper into God’s Word.
URL:https://grunthalebc.ca/event/mens-bible-study/2028-09-11/
LOCATION:Manitoba
END:VEVENT
BEGIN:VEVENT
DTSTART;TZID=UTC:20280913T100000
DTEND;TZID=UTC:20280913T113000
DTSTAMP:20260422T124449
CREATED:20250605T164059Z
LAST-MODIFIED:20251218T153852Z
UID:10005510-1852452000-1852457400@grunthalebc.ca
SUMMARY:55+ Coffee & Fellowship
DESCRIPTION:Join us at church if you’re 55+ for coffee and fellowship!
URL:https://grunthalebc.ca/event/55-coffee-fellowship/2028-09-13/
LOCATION:Grunthal EBC\, 84 Oak Ave\, Grunthal\, Manitoba\, Canada
END:VEVENT
BEGIN:VEVENT
DTSTART;TZID=UTC:20280914T190000
DTEND;TZID=UTC:20280914T204500
DTSTAMP:20260422T124449
CREATED:20260226T211142Z
LAST-MODIFIED:20260226T211518Z
UID:10007313-1852570800-1852577100@grunthalebc.ca
SUMMARY:Junior Youth
DESCRIPTION:Grade 7-9 youth night! Games\, a devotional and snacks. Pick up at 8:45pm.
URL:https://grunthalebc.ca/event/junior-youth-2/2028-09-14/
LOCATION:Grunthal EBC\, 84 Oak Ave\, Grunthal\, Manitoba\, Canada
END:VEVENT
BEGIN:VEVENT
DTSTART;TZID=UTC:20280914T190000
DTEND;TZID=UTC:20280914T210000
DTSTAMP:20260422T124449
CREATED:20250925T185237Z
LAST-MODIFIED:20251209T171314Z
UID:10006835-1852570800-1852578000@grunthalebc.ca
SUMMARY:College & Career
DESCRIPTION:All young adults are welcome to join us for a Bible Study and fellowship!
URL:https://grunthalebc.ca/event/college-career/2028-09-14/
LOCATION:Grunthal EBC\, 84 Oak Ave\, Grunthal\, Manitoba\, Canada
END:VEVENT
BEGIN:VEVENT
DTSTART;TZID=UTC:20280915T193000
DTEND;TZID=UTC:20280915T220000
DTSTAMP:20260422T124449
CREATED:20260226T211214Z
LAST-MODIFIED:20260226T211214Z
UID:10007044-1852659000-1852668000@grunthalebc.ca
SUMMARY:Senior Youth
DESCRIPTION:Grade 10-12 youth night! Games\, a devotional and snack. Pick up at 10 pm.
URL:https://grunthalebc.ca/event/senior-youth-2/2028-09-15/
LOCATION:Grunthal EBC\, 84 Oak Ave\, Grunthal\, Manitoba\, Canada
END:VEVENT
BEGIN:VEVENT
DTSTART;TZID=UTC:20280918T203000
DTEND;TZID=UTC:20280918T223000
DTSTAMP:20260422T124449
CREATED:20250919T144433Z
LAST-MODIFIED:20251218T153448Z
UID:10006650-1852921800-1852929000@grunthalebc.ca
SUMMARY:Men's Bible Study
DESCRIPTION:All men are invited for a Bible study! It’s a great time to connect and dive deeper into God’s Word.
URL:https://grunthalebc.ca/event/mens-bible-study/2028-09-18/
LOCATION:Manitoba
END:VEVENT
BEGIN:VEVENT
DTSTART;TZID=UTC:20280920T100000
DTEND;TZID=UTC:20280920T113000
DTSTAMP:20260422T124449
CREATED:20250605T164059Z
LAST-MODIFIED:20251218T153852Z
UID:10005511-1853056800-1853062200@grunthalebc.ca
SUMMARY:55+ Coffee & Fellowship
DESCRIPTION:Join us at church if you’re 55+ for coffee and fellowship!
URL:https://grunthalebc.ca/event/55-coffee-fellowship/2028-09-20/
LOCATION:Grunthal EBC\, 84 Oak Ave\, Grunthal\, Manitoba\, Canada
END:VEVENT
BEGIN:VEVENT
DTSTART;TZID=UTC:20280921T190000
DTEND;TZID=UTC:20280921T204500
DTSTAMP:20260422T124449
CREATED:20260226T211142Z
LAST-MODIFIED:20260226T211518Z
UID:10007314-1853175600-1853181900@grunthalebc.ca
SUMMARY:Junior Youth
DESCRIPTION:Grade 7-9 youth night! Games\, a devotional and snacks. Pick up at 8:45pm.
URL:https://grunthalebc.ca/event/junior-youth-2/2028-09-21/
LOCATION:Grunthal EBC\, 84 Oak Ave\, Grunthal\, Manitoba\, Canada
END:VEVENT
BEGIN:VEVENT
DTSTART;TZID=UTC:20280922T093000
DTEND;TZID=UTC:20280922T110000
DTSTAMP:20260422T124449
CREATED:20260106T194428Z
LAST-MODIFIED:20260106T194429Z
UID:10007557-1853227800-1853233200@grunthalebc.ca
SUMMARY:Women's Bible Study
DESCRIPTION:Join Beth Fast as she takes us through God’s Word. Babysitting is available! \n 
URL:https://grunthalebc.ca/event/womens-bible-study-2/2028-09-22/
LOCATION:Grunthal EBC\, 84 Oak Ave\, Grunthal\, Manitoba\, Canada
END:VEVENT
BEGIN:VEVENT
DTSTART;TZID=UTC:20280922T193000
DTEND;TZID=UTC:20280922T220000
DTSTAMP:20260422T124449
CREATED:20260226T211214Z
LAST-MODIFIED:20260226T211214Z
UID:10007045-1853263800-1853272800@grunthalebc.ca
SUMMARY:Senior Youth
DESCRIPTION:Grade 10-12 youth night! Games\, a devotional and snack. Pick up at 10 pm.
URL:https://grunthalebc.ca/event/senior-youth-2/2028-09-22/
LOCATION:Grunthal EBC\, 84 Oak Ave\, Grunthal\, Manitoba\, Canada
END:VEVENT
BEGIN:VEVENT
DTSTART;TZID=UTC:20280925T203000
DTEND;TZID=UTC:20280925T223000
DTSTAMP:20260422T124449
CREATED:20250919T144433Z
LAST-MODIFIED:20251218T153448Z
UID:10006651-1853526600-1853533800@grunthalebc.ca
SUMMARY:Men's Bible Study
DESCRIPTION:All men are invited for a Bible study! It’s a great time to connect and dive deeper into God’s Word.
URL:https://grunthalebc.ca/event/mens-bible-study/2028-09-25/
LOCATION:Manitoba
END:VEVENT
BEGIN:VEVENT
DTSTART;TZID=UTC:20280927T100000
DTEND;TZID=UTC:20280927T113000
DTSTAMP:20260422T124449
CREATED:20250605T164059Z
LAST-MODIFIED:20251218T153852Z
UID:10005512-1853661600-1853667000@grunthalebc.ca
SUMMARY:55+ Coffee & Fellowship
DESCRIPTION:Join us at church if you’re 55+ for coffee and fellowship!
URL:https://grunthalebc.ca/event/55-coffee-fellowship/2028-09-27/
LOCATION:Grunthal EBC\, 84 Oak Ave\, Grunthal\, Manitoba\, Canada
END:VEVENT
BEGIN:VEVENT
DTSTART;TZID=UTC:20280928T190000
DTEND;TZID=UTC:20280928T204500
DTSTAMP:20260422T124449
CREATED:20260226T211142Z
LAST-MODIFIED:20260226T211518Z
UID:10007315-1853780400-1853786700@grunthalebc.ca
SUMMARY:Junior Youth
DESCRIPTION:Grade 7-9 youth night! Games\, a devotional and snacks. Pick up at 8:45pm.
URL:https://grunthalebc.ca/event/junior-youth-2/2028-09-28/
LOCATION:Grunthal EBC\, 84 Oak Ave\, Grunthal\, Manitoba\, Canada
END:VEVENT
BEGIN:VEVENT
DTSTART;TZID=UTC:20280928T190000
DTEND;TZID=UTC:20280928T210000
DTSTAMP:20260422T124449
CREATED:20250925T185237Z
LAST-MODIFIED:20251209T171314Z
UID:10006836-1853780400-1853787600@grunthalebc.ca
SUMMARY:College & Career
DESCRIPTION:All young adults are welcome to join us for a Bible Study and fellowship!
URL:https://grunthalebc.ca/event/college-career/2028-09-28/
LOCATION:Grunthal EBC\, 84 Oak Ave\, Grunthal\, Manitoba\, Canada
END:VEVENT
BEGIN:VEVENT
DTSTART;TZID=UTC:20280929T193000
DTEND;TZID=UTC:20280929T220000
DTSTAMP:20260422T124449
CREATED:20260226T211214Z
LAST-MODIFIED:20260226T211214Z
UID:10007046-1853868600-1853877600@grunthalebc.ca
SUMMARY:Senior Youth
DESCRIPTION:Grade 10-12 youth night! Games\, a devotional and snack. Pick up at 10 pm.
URL:https://grunthalebc.ca/event/senior-youth-2/2028-09-29/
LOCATION:Grunthal EBC\, 84 Oak Ave\, Grunthal\, Manitoba\, Canada
END:VEVENT
END:VCALENDAR