BEGIN:VCALENDAR
VERSION:2.0
PRODID:-//Grunthal Evangelical Bible Church - ECPv6.15.20//NONSGML v1.0//EN
CALSCALE:GREGORIAN
METHOD:PUBLISH
X-ORIGINAL-URL:https://grunthalebc.ca
X-WR-CALDESC:Events for Grunthal Evangelical Bible Church
REFRESH-INTERVAL;VALUE=DURATION:PT1H
X-Robots-Tag:noindex
X-PUBLISHED-TTL:PT1H
BEGIN:VTIMEZONE
TZID:UTC
BEGIN:STANDARD
TZOFFSETFROM:+0000
TZOFFSETTO:+0000
TZNAME:UTC
DTSTART:20270101T000000
END:STANDARD
END:VTIMEZONE
BEGIN:VEVENT
DTSTART;TZID=UTC:20280301T100000
DTEND;TZID=UTC:20280301T113000
DTSTAMP:20260422T024246
CREATED:20250605T164059Z
LAST-MODIFIED:20251218T153852Z
UID:10005482-1835517600-1835523000@grunthalebc.ca
SUMMARY:55+ Coffee & Fellowship
DESCRIPTION:Join us at church if you’re 55+ for coffee and fellowship!
URL:https://grunthalebc.ca/event/55-coffee-fellowship/2028-03-01/
LOCATION:Grunthal EBC\, 84 Oak Ave\, Grunthal\, Manitoba\, Canada
END:VEVENT
BEGIN:VEVENT
DTSTART;TZID=UTC:20280302T190000
DTEND;TZID=UTC:20280302T204500
DTSTAMP:20260422T024246
CREATED:20260226T211142Z
LAST-MODIFIED:20260226T211518Z
UID:10007285-1835636400-1835642700@grunthalebc.ca
SUMMARY:Junior Youth
DESCRIPTION:Grade 7-9 youth night! Games\, a devotional and snacks. Pick up at 8:45pm.
URL:https://grunthalebc.ca/event/junior-youth-2/2028-03-02/
LOCATION:Grunthal EBC\, 84 Oak Ave\, Grunthal\, Manitoba\, Canada
END:VEVENT
BEGIN:VEVENT
DTSTART;TZID=UTC:20280302T190000
DTEND;TZID=UTC:20280302T210000
DTSTAMP:20260422T024246
CREATED:20250925T185237Z
LAST-MODIFIED:20251209T171314Z
UID:10006821-1835636400-1835643600@grunthalebc.ca
SUMMARY:College & Career
DESCRIPTION:All young adults are welcome to join us for a Bible Study and fellowship!
URL:https://grunthalebc.ca/event/college-career/2028-03-02/
LOCATION:Grunthal EBC\, 84 Oak Ave\, Grunthal\, Manitoba\, Canada
END:VEVENT
BEGIN:VEVENT
DTSTART;TZID=UTC:20280303T193000
DTEND;TZID=UTC:20280303T220000
DTSTAMP:20260422T024246
CREATED:20260226T211214Z
LAST-MODIFIED:20260226T211214Z
UID:10007016-1835724600-1835733600@grunthalebc.ca
SUMMARY:Senior Youth
DESCRIPTION:Grade 10-12 youth night! Games\, a devotional and snack. Pick up at 10 pm.
URL:https://grunthalebc.ca/event/senior-youth-2/2028-03-03/
LOCATION:Grunthal EBC\, 84 Oak Ave\, Grunthal\, Manitoba\, Canada
END:VEVENT
BEGIN:VEVENT
DTSTART;TZID=UTC:20280306T203000
DTEND;TZID=UTC:20280306T223000
DTSTAMP:20260422T024246
CREATED:20250919T144433Z
LAST-MODIFIED:20251218T153448Z
UID:10006622-1835987400-1835994600@grunthalebc.ca
SUMMARY:Men's Bible Study
DESCRIPTION:All men are invited for a Bible study! It’s a great time to connect and dive deeper into God’s Word.
URL:https://grunthalebc.ca/event/mens-bible-study/2028-03-06/
LOCATION:Manitoba
END:VEVENT
BEGIN:VEVENT
DTSTART;TZID=UTC:20280308T100000
DTEND;TZID=UTC:20280308T113000
DTSTAMP:20260422T024246
CREATED:20250605T164059Z
LAST-MODIFIED:20251218T153852Z
UID:10005483-1836122400-1836127800@grunthalebc.ca
SUMMARY:55+ Coffee & Fellowship
DESCRIPTION:Join us at church if you’re 55+ for coffee and fellowship!
URL:https://grunthalebc.ca/event/55-coffee-fellowship/2028-03-08/
LOCATION:Grunthal EBC\, 84 Oak Ave\, Grunthal\, Manitoba\, Canada
END:VEVENT
BEGIN:VEVENT
DTSTART;TZID=UTC:20280309T190000
DTEND;TZID=UTC:20280309T204500
DTSTAMP:20260422T024246
CREATED:20260226T211142Z
LAST-MODIFIED:20260226T211518Z
UID:10007286-1836241200-1836247500@grunthalebc.ca
SUMMARY:Junior Youth
DESCRIPTION:Grade 7-9 youth night! Games\, a devotional and snacks. Pick up at 8:45pm.
URL:https://grunthalebc.ca/event/junior-youth-2/2028-03-09/
LOCATION:Grunthal EBC\, 84 Oak Ave\, Grunthal\, Manitoba\, Canada
END:VEVENT
BEGIN:VEVENT
DTSTART;TZID=UTC:20280310T093000
DTEND;TZID=UTC:20280310T110000
DTSTAMP:20260422T024246
CREATED:20260106T194428Z
LAST-MODIFIED:20260106T194429Z
UID:10007543-1836293400-1836298800@grunthalebc.ca
SUMMARY:Women's Bible Study
DESCRIPTION:Join Beth Fast as she takes us through God’s Word. Babysitting is available! \n 
URL:https://grunthalebc.ca/event/womens-bible-study-2/2028-03-10/
LOCATION:Grunthal EBC\, 84 Oak Ave\, Grunthal\, Manitoba\, Canada
END:VEVENT
BEGIN:VEVENT
DTSTART;TZID=UTC:20280310T193000
DTEND;TZID=UTC:20280310T220000
DTSTAMP:20260422T024246
CREATED:20260226T211214Z
LAST-MODIFIED:20260226T211214Z
UID:10007017-1836329400-1836338400@grunthalebc.ca
SUMMARY:Senior Youth
DESCRIPTION:Grade 10-12 youth night! Games\, a devotional and snack. Pick up at 10 pm.
URL:https://grunthalebc.ca/event/senior-youth-2/2028-03-10/
LOCATION:Grunthal EBC\, 84 Oak Ave\, Grunthal\, Manitoba\, Canada
END:VEVENT
BEGIN:VEVENT
DTSTART;TZID=UTC:20280313T203000
DTEND;TZID=UTC:20280313T223000
DTSTAMP:20260422T024246
CREATED:20250919T144433Z
LAST-MODIFIED:20251218T153448Z
UID:10006623-1836592200-1836599400@grunthalebc.ca
SUMMARY:Men's Bible Study
DESCRIPTION:All men are invited for a Bible study! It’s a great time to connect and dive deeper into God’s Word.
URL:https://grunthalebc.ca/event/mens-bible-study/2028-03-13/
LOCATION:Manitoba
END:VEVENT
BEGIN:VEVENT
DTSTART;TZID=UTC:20280315T100000
DTEND;TZID=UTC:20280315T113000
DTSTAMP:20260422T024246
CREATED:20250605T164059Z
LAST-MODIFIED:20251218T153852Z
UID:10005484-1836727200-1836732600@grunthalebc.ca
SUMMARY:55+ Coffee & Fellowship
DESCRIPTION:Join us at church if you’re 55+ for coffee and fellowship!
URL:https://grunthalebc.ca/event/55-coffee-fellowship/2028-03-15/
LOCATION:Grunthal EBC\, 84 Oak Ave\, Grunthal\, Manitoba\, Canada
END:VEVENT
BEGIN:VEVENT
DTSTART;TZID=UTC:20280316T190000
DTEND;TZID=UTC:20280316T204500
DTSTAMP:20260422T024246
CREATED:20260226T211142Z
LAST-MODIFIED:20260226T211518Z
UID:10007287-1836846000-1836852300@grunthalebc.ca
SUMMARY:Junior Youth
DESCRIPTION:Grade 7-9 youth night! Games\, a devotional and snacks. Pick up at 8:45pm.
URL:https://grunthalebc.ca/event/junior-youth-2/2028-03-16/
LOCATION:Grunthal EBC\, 84 Oak Ave\, Grunthal\, Manitoba\, Canada
END:VEVENT
BEGIN:VEVENT
DTSTART;TZID=UTC:20280316T190000
DTEND;TZID=UTC:20280316T210000
DTSTAMP:20260422T024246
CREATED:20250925T185237Z
LAST-MODIFIED:20251209T171314Z
UID:10006822-1836846000-1836853200@grunthalebc.ca
SUMMARY:College & Career
DESCRIPTION:All young adults are welcome to join us for a Bible Study and fellowship!
URL:https://grunthalebc.ca/event/college-career/2028-03-16/
LOCATION:Grunthal EBC\, 84 Oak Ave\, Grunthal\, Manitoba\, Canada
END:VEVENT
BEGIN:VEVENT
DTSTART;TZID=UTC:20280317T193000
DTEND;TZID=UTC:20280317T220000
DTSTAMP:20260422T024246
CREATED:20260226T211214Z
LAST-MODIFIED:20260226T211214Z
UID:10007018-1836934200-1836943200@grunthalebc.ca
SUMMARY:Senior Youth
DESCRIPTION:Grade 10-12 youth night! Games\, a devotional and snack. Pick up at 10 pm.
URL:https://grunthalebc.ca/event/senior-youth-2/2028-03-17/
LOCATION:Grunthal EBC\, 84 Oak Ave\, Grunthal\, Manitoba\, Canada
END:VEVENT
BEGIN:VEVENT
DTSTART;TZID=UTC:20280320T203000
DTEND;TZID=UTC:20280320T223000
DTSTAMP:20260422T024246
CREATED:20250919T144433Z
LAST-MODIFIED:20251218T153448Z
UID:10006624-1837197000-1837204200@grunthalebc.ca
SUMMARY:Men's Bible Study
DESCRIPTION:All men are invited for a Bible study! It’s a great time to connect and dive deeper into God’s Word.
URL:https://grunthalebc.ca/event/mens-bible-study/2028-03-20/
LOCATION:Manitoba
END:VEVENT
BEGIN:VEVENT
DTSTART;TZID=UTC:20280322T100000
DTEND;TZID=UTC:20280322T113000
DTSTAMP:20260422T024246
CREATED:20250605T164059Z
LAST-MODIFIED:20251218T153852Z
UID:10005485-1837332000-1837337400@grunthalebc.ca
SUMMARY:55+ Coffee & Fellowship
DESCRIPTION:Join us at church if you’re 55+ for coffee and fellowship!
URL:https://grunthalebc.ca/event/55-coffee-fellowship/2028-03-22/
LOCATION:Grunthal EBC\, 84 Oak Ave\, Grunthal\, Manitoba\, Canada
END:VEVENT
BEGIN:VEVENT
DTSTART;TZID=UTC:20280323T190000
DTEND;TZID=UTC:20280323T204500
DTSTAMP:20260422T024246
CREATED:20260226T211142Z
LAST-MODIFIED:20260226T211518Z
UID:10007288-1837450800-1837457100@grunthalebc.ca
SUMMARY:Junior Youth
DESCRIPTION:Grade 7-9 youth night! Games\, a devotional and snacks. Pick up at 8:45pm.
URL:https://grunthalebc.ca/event/junior-youth-2/2028-03-23/
LOCATION:Grunthal EBC\, 84 Oak Ave\, Grunthal\, Manitoba\, Canada
END:VEVENT
BEGIN:VEVENT
DTSTART;TZID=UTC:20280324T093000
DTEND;TZID=UTC:20280324T110000
DTSTAMP:20260422T024246
CREATED:20260106T194428Z
LAST-MODIFIED:20260106T194429Z
UID:10007544-1837503000-1837508400@grunthalebc.ca
SUMMARY:Women's Bible Study
DESCRIPTION:Join Beth Fast as she takes us through God’s Word. Babysitting is available! \n 
URL:https://grunthalebc.ca/event/womens-bible-study-2/2028-03-24/
LOCATION:Grunthal EBC\, 84 Oak Ave\, Grunthal\, Manitoba\, Canada
END:VEVENT
BEGIN:VEVENT
DTSTART;TZID=UTC:20280324T193000
DTEND;TZID=UTC:20280324T220000
DTSTAMP:20260422T024246
CREATED:20260226T211214Z
LAST-MODIFIED:20260226T211214Z
UID:10007019-1837539000-1837548000@grunthalebc.ca
SUMMARY:Senior Youth
DESCRIPTION:Grade 10-12 youth night! Games\, a devotional and snack. Pick up at 10 pm.
URL:https://grunthalebc.ca/event/senior-youth-2/2028-03-24/
LOCATION:Grunthal EBC\, 84 Oak Ave\, Grunthal\, Manitoba\, Canada
END:VEVENT
BEGIN:VEVENT
DTSTART;TZID=UTC:20280327T203000
DTEND;TZID=UTC:20280327T223000
DTSTAMP:20260422T024246
CREATED:20250919T144433Z
LAST-MODIFIED:20251218T153448Z
UID:10006625-1837801800-1837809000@grunthalebc.ca
SUMMARY:Men's Bible Study
DESCRIPTION:All men are invited for a Bible study! It’s a great time to connect and dive deeper into God’s Word.
URL:https://grunthalebc.ca/event/mens-bible-study/2028-03-27/
LOCATION:Manitoba
END:VEVENT
BEGIN:VEVENT
DTSTART;TZID=UTC:20280329T100000
DTEND;TZID=UTC:20280329T113000
DTSTAMP:20260422T024246
CREATED:20250605T164059Z
LAST-MODIFIED:20251218T153852Z
UID:10005486-1837936800-1837942200@grunthalebc.ca
SUMMARY:55+ Coffee & Fellowship
DESCRIPTION:Join us at church if you’re 55+ for coffee and fellowship!
URL:https://grunthalebc.ca/event/55-coffee-fellowship/2028-03-29/
LOCATION:Grunthal EBC\, 84 Oak Ave\, Grunthal\, Manitoba\, Canada
END:VEVENT
BEGIN:VEVENT
DTSTART;TZID=UTC:20280330T190000
DTEND;TZID=UTC:20280330T204500
DTSTAMP:20260422T024246
CREATED:20260226T211142Z
LAST-MODIFIED:20260226T211518Z
UID:10007289-1838055600-1838061900@grunthalebc.ca
SUMMARY:Junior Youth
DESCRIPTION:Grade 7-9 youth night! Games\, a devotional and snacks. Pick up at 8:45pm.
URL:https://grunthalebc.ca/event/junior-youth-2/2028-03-30/
LOCATION:Grunthal EBC\, 84 Oak Ave\, Grunthal\, Manitoba\, Canada
END:VEVENT
BEGIN:VEVENT
DTSTART;TZID=UTC:20280330T190000
DTEND;TZID=UTC:20280330T210000
DTSTAMP:20260422T024246
CREATED:20250925T185237Z
LAST-MODIFIED:20251209T171314Z
UID:10006823-1838055600-1838062800@grunthalebc.ca
SUMMARY:College & Career
DESCRIPTION:All young adults are welcome to join us for a Bible Study and fellowship!
URL:https://grunthalebc.ca/event/college-career/2028-03-30/
LOCATION:Grunthal EBC\, 84 Oak Ave\, Grunthal\, Manitoba\, Canada
END:VEVENT
BEGIN:VEVENT
DTSTART;TZID=UTC:20280331T193000
DTEND;TZID=UTC:20280331T220000
DTSTAMP:20260422T024246
CREATED:20260226T211214Z
LAST-MODIFIED:20260226T211214Z
UID:10007020-1838143800-1838152800@grunthalebc.ca
SUMMARY:Senior Youth
DESCRIPTION:Grade 10-12 youth night! Games\, a devotional and snack. Pick up at 10 pm.
URL:https://grunthalebc.ca/event/senior-youth-2/2028-03-31/
LOCATION:Grunthal EBC\, 84 Oak Ave\, Grunthal\, Manitoba\, Canada
END:VEVENT
END:VCALENDAR