BEGIN:VCALENDAR
VERSION:2.0
PRODID:-//Grunthal Evangelical Bible Church - ECPv6.15.20//NONSGML v1.0//EN
CALSCALE:GREGORIAN
METHOD:PUBLISH
X-ORIGINAL-URL:https://grunthalebc.ca
X-WR-CALDESC:Events for Grunthal Evangelical Bible Church
REFRESH-INTERVAL;VALUE=DURATION:PT1H
X-Robots-Tag:noindex
X-PUBLISHED-TTL:PT1H
BEGIN:VTIMEZONE
TZID:UTC
BEGIN:STANDARD
TZOFFSETFROM:+0000
TZOFFSETTO:+0000
TZNAME:UTC
DTSTART:20270101T000000
END:STANDARD
END:VTIMEZONE
BEGIN:VEVENT
DTSTART;TZID=UTC:20280103T203000
DTEND;TZID=UTC:20280103T223000
DTSTAMP:20260421T230606
CREATED:20250919T144433Z
LAST-MODIFIED:20251218T153448Z
UID:10006613-1830544200-1830551400@grunthalebc.ca
SUMMARY:Men's Bible Study
DESCRIPTION:All men are invited for a Bible study! It’s a great time to connect and dive deeper into God’s Word.
URL:https://grunthalebc.ca/event/mens-bible-study/2028-01-03/
LOCATION:Manitoba
END:VEVENT
BEGIN:VEVENT
DTSTART;TZID=UTC:20280105T100000
DTEND;TZID=UTC:20280105T113000
DTSTAMP:20260421T230606
CREATED:20250605T164059Z
LAST-MODIFIED:20251218T153852Z
UID:10005474-1830679200-1830684600@grunthalebc.ca
SUMMARY:55+ Coffee & Fellowship
DESCRIPTION:Join us at church if you’re 55+ for coffee and fellowship!
URL:https://grunthalebc.ca/event/55-coffee-fellowship/2028-01-05/
LOCATION:Grunthal EBC\, 84 Oak Ave\, Grunthal\, Manitoba\, Canada
END:VEVENT
BEGIN:VEVENT
DTSTART;TZID=UTC:20280106T190000
DTEND;TZID=UTC:20280106T204500
DTSTAMP:20260421T230606
CREATED:20260226T211142Z
LAST-MODIFIED:20260226T211518Z
UID:10007277-1830798000-1830804300@grunthalebc.ca
SUMMARY:Junior Youth
DESCRIPTION:Grade 7-9 youth night! Games\, a devotional and snacks. Pick up at 8:45pm.
URL:https://grunthalebc.ca/event/junior-youth-2/2028-01-06/
LOCATION:Grunthal EBC\, 84 Oak Ave\, Grunthal\, Manitoba\, Canada
END:VEVENT
BEGIN:VEVENT
DTSTART;TZID=UTC:20280106T190000
DTEND;TZID=UTC:20280106T210000
DTSTAMP:20260421T230606
CREATED:20250925T185237Z
LAST-MODIFIED:20251209T171314Z
UID:10006817-1830798000-1830805200@grunthalebc.ca
SUMMARY:College & Career
DESCRIPTION:All young adults are welcome to join us for a Bible Study and fellowship!
URL:https://grunthalebc.ca/event/college-career/2028-01-06/
LOCATION:Grunthal EBC\, 84 Oak Ave\, Grunthal\, Manitoba\, Canada
END:VEVENT
BEGIN:VEVENT
DTSTART;TZID=UTC:20280107T193000
DTEND;TZID=UTC:20280107T220000
DTSTAMP:20260421T230606
CREATED:20260226T211214Z
LAST-MODIFIED:20260226T211214Z
UID:10007008-1830886200-1830895200@grunthalebc.ca
SUMMARY:Senior Youth
DESCRIPTION:Grade 10-12 youth night! Games\, a devotional and snack. Pick up at 10 pm.
URL:https://grunthalebc.ca/event/senior-youth-2/2028-01-07/
LOCATION:Grunthal EBC\, 84 Oak Ave\, Grunthal\, Manitoba\, Canada
END:VEVENT
BEGIN:VEVENT
DTSTART;TZID=UTC:20280110T203000
DTEND;TZID=UTC:20280110T223000
DTSTAMP:20260421T230606
CREATED:20250919T144433Z
LAST-MODIFIED:20251218T153448Z
UID:10006614-1831149000-1831156200@grunthalebc.ca
SUMMARY:Men's Bible Study
DESCRIPTION:All men are invited for a Bible study! It’s a great time to connect and dive deeper into God’s Word.
URL:https://grunthalebc.ca/event/mens-bible-study/2028-01-10/
LOCATION:Manitoba
END:VEVENT
BEGIN:VEVENT
DTSTART;TZID=UTC:20280112T100000
DTEND;TZID=UTC:20280112T113000
DTSTAMP:20260421T230606
CREATED:20250605T164059Z
LAST-MODIFIED:20251218T153852Z
UID:10005475-1831284000-1831289400@grunthalebc.ca
SUMMARY:55+ Coffee & Fellowship
DESCRIPTION:Join us at church if you’re 55+ for coffee and fellowship!
URL:https://grunthalebc.ca/event/55-coffee-fellowship/2028-01-12/
LOCATION:Grunthal EBC\, 84 Oak Ave\, Grunthal\, Manitoba\, Canada
END:VEVENT
BEGIN:VEVENT
DTSTART;TZID=UTC:20280113T190000
DTEND;TZID=UTC:20280113T204500
DTSTAMP:20260421T230606
CREATED:20260226T211142Z
LAST-MODIFIED:20260226T211518Z
UID:10007278-1831402800-1831409100@grunthalebc.ca
SUMMARY:Junior Youth
DESCRIPTION:Grade 7-9 youth night! Games\, a devotional and snacks. Pick up at 8:45pm.
URL:https://grunthalebc.ca/event/junior-youth-2/2028-01-13/
LOCATION:Grunthal EBC\, 84 Oak Ave\, Grunthal\, Manitoba\, Canada
END:VEVENT
BEGIN:VEVENT
DTSTART;TZID=UTC:20280114T093000
DTEND;TZID=UTC:20280114T110000
DTSTAMP:20260421T230606
CREATED:20260106T194428Z
LAST-MODIFIED:20260106T194429Z
UID:10007539-1831455000-1831460400@grunthalebc.ca
SUMMARY:Women's Bible Study
DESCRIPTION:Join Beth Fast as she takes us through God’s Word. Babysitting is available! \n 
URL:https://grunthalebc.ca/event/womens-bible-study-2/2028-01-14/
LOCATION:Grunthal EBC\, 84 Oak Ave\, Grunthal\, Manitoba\, Canada
END:VEVENT
BEGIN:VEVENT
DTSTART;TZID=UTC:20280114T193000
DTEND;TZID=UTC:20280114T220000
DTSTAMP:20260421T230606
CREATED:20260226T211214Z
LAST-MODIFIED:20260226T211214Z
UID:10007009-1831491000-1831500000@grunthalebc.ca
SUMMARY:Senior Youth
DESCRIPTION:Grade 10-12 youth night! Games\, a devotional and snack. Pick up at 10 pm.
URL:https://grunthalebc.ca/event/senior-youth-2/2028-01-14/
LOCATION:Grunthal EBC\, 84 Oak Ave\, Grunthal\, Manitoba\, Canada
END:VEVENT
BEGIN:VEVENT
DTSTART;TZID=UTC:20280117T203000
DTEND;TZID=UTC:20280117T223000
DTSTAMP:20260421T230606
CREATED:20250919T144433Z
LAST-MODIFIED:20251218T153448Z
UID:10006615-1831753800-1831761000@grunthalebc.ca
SUMMARY:Men's Bible Study
DESCRIPTION:All men are invited for a Bible study! It’s a great time to connect and dive deeper into God’s Word.
URL:https://grunthalebc.ca/event/mens-bible-study/2028-01-17/
LOCATION:Manitoba
END:VEVENT
BEGIN:VEVENT
DTSTART;TZID=UTC:20280119T100000
DTEND;TZID=UTC:20280119T113000
DTSTAMP:20260421T230606
CREATED:20250605T164059Z
LAST-MODIFIED:20251218T153852Z
UID:10005476-1831888800-1831894200@grunthalebc.ca
SUMMARY:55+ Coffee & Fellowship
DESCRIPTION:Join us at church if you’re 55+ for coffee and fellowship!
URL:https://grunthalebc.ca/event/55-coffee-fellowship/2028-01-19/
LOCATION:Grunthal EBC\, 84 Oak Ave\, Grunthal\, Manitoba\, Canada
END:VEVENT
BEGIN:VEVENT
DTSTART;TZID=UTC:20280120T190000
DTEND;TZID=UTC:20280120T204500
DTSTAMP:20260421T230606
CREATED:20260226T211142Z
LAST-MODIFIED:20260226T211518Z
UID:10007279-1832007600-1832013900@grunthalebc.ca
SUMMARY:Junior Youth
DESCRIPTION:Grade 7-9 youth night! Games\, a devotional and snacks. Pick up at 8:45pm.
URL:https://grunthalebc.ca/event/junior-youth-2/2028-01-20/
LOCATION:Grunthal EBC\, 84 Oak Ave\, Grunthal\, Manitoba\, Canada
END:VEVENT
BEGIN:VEVENT
DTSTART;TZID=UTC:20280120T190000
DTEND;TZID=UTC:20280120T210000
DTSTAMP:20260421T230606
CREATED:20250925T185237Z
LAST-MODIFIED:20251209T171314Z
UID:10006818-1832007600-1832014800@grunthalebc.ca
SUMMARY:College & Career
DESCRIPTION:All young adults are welcome to join us for a Bible Study and fellowship!
URL:https://grunthalebc.ca/event/college-career/2028-01-20/
LOCATION:Grunthal EBC\, 84 Oak Ave\, Grunthal\, Manitoba\, Canada
END:VEVENT
BEGIN:VEVENT
DTSTART;TZID=UTC:20280121T193000
DTEND;TZID=UTC:20280121T220000
DTSTAMP:20260421T230606
CREATED:20260226T211214Z
LAST-MODIFIED:20260226T211214Z
UID:10007010-1832095800-1832104800@grunthalebc.ca
SUMMARY:Senior Youth
DESCRIPTION:Grade 10-12 youth night! Games\, a devotional and snack. Pick up at 10 pm.
URL:https://grunthalebc.ca/event/senior-youth-2/2028-01-21/
LOCATION:Grunthal EBC\, 84 Oak Ave\, Grunthal\, Manitoba\, Canada
END:VEVENT
BEGIN:VEVENT
DTSTART;TZID=UTC:20280124T203000
DTEND;TZID=UTC:20280124T223000
DTSTAMP:20260421T230606
CREATED:20250919T144433Z
LAST-MODIFIED:20251218T153448Z
UID:10006616-1832358600-1832365800@grunthalebc.ca
SUMMARY:Men's Bible Study
DESCRIPTION:All men are invited for a Bible study! It’s a great time to connect and dive deeper into God’s Word.
URL:https://grunthalebc.ca/event/mens-bible-study/2028-01-24/
LOCATION:Manitoba
END:VEVENT
BEGIN:VEVENT
DTSTART;TZID=UTC:20280126T100000
DTEND;TZID=UTC:20280126T113000
DTSTAMP:20260421T230606
CREATED:20250605T164059Z
LAST-MODIFIED:20251218T153852Z
UID:10005477-1832493600-1832499000@grunthalebc.ca
SUMMARY:55+ Coffee & Fellowship
DESCRIPTION:Join us at church if you’re 55+ for coffee and fellowship!
URL:https://grunthalebc.ca/event/55-coffee-fellowship/2028-01-26/
LOCATION:Grunthal EBC\, 84 Oak Ave\, Grunthal\, Manitoba\, Canada
END:VEVENT
BEGIN:VEVENT
DTSTART;TZID=UTC:20280127T190000
DTEND;TZID=UTC:20280127T204500
DTSTAMP:20260421T230606
CREATED:20260226T211142Z
LAST-MODIFIED:20260226T211518Z
UID:10007280-1832612400-1832618700@grunthalebc.ca
SUMMARY:Junior Youth
DESCRIPTION:Grade 7-9 youth night! Games\, a devotional and snacks. Pick up at 8:45pm.
URL:https://grunthalebc.ca/event/junior-youth-2/2028-01-27/
LOCATION:Grunthal EBC\, 84 Oak Ave\, Grunthal\, Manitoba\, Canada
END:VEVENT
BEGIN:VEVENT
DTSTART;TZID=UTC:20280128T093000
DTEND;TZID=UTC:20280128T110000
DTSTAMP:20260421T230606
CREATED:20260106T194428Z
LAST-MODIFIED:20260106T194429Z
UID:10007540-1832664600-1832670000@grunthalebc.ca
SUMMARY:Women's Bible Study
DESCRIPTION:Join Beth Fast as she takes us through God’s Word. Babysitting is available! \n 
URL:https://grunthalebc.ca/event/womens-bible-study-2/2028-01-28/
LOCATION:Grunthal EBC\, 84 Oak Ave\, Grunthal\, Manitoba\, Canada
END:VEVENT
BEGIN:VEVENT
DTSTART;TZID=UTC:20280128T193000
DTEND;TZID=UTC:20280128T220000
DTSTAMP:20260421T230606
CREATED:20260226T211214Z
LAST-MODIFIED:20260226T211214Z
UID:10007011-1832700600-1832709600@grunthalebc.ca
SUMMARY:Senior Youth
DESCRIPTION:Grade 10-12 youth night! Games\, a devotional and snack. Pick up at 10 pm.
URL:https://grunthalebc.ca/event/senior-youth-2/2028-01-28/
LOCATION:Grunthal EBC\, 84 Oak Ave\, Grunthal\, Manitoba\, Canada
END:VEVENT
BEGIN:VEVENT
DTSTART;TZID=UTC:20280131T203000
DTEND;TZID=UTC:20280131T223000
DTSTAMP:20260421T230607
CREATED:20250919T144433Z
LAST-MODIFIED:20251218T153448Z
UID:10006617-1832963400-1832970600@grunthalebc.ca
SUMMARY:Men's Bible Study
DESCRIPTION:All men are invited for a Bible study! It’s a great time to connect and dive deeper into God’s Word.
URL:https://grunthalebc.ca/event/mens-bible-study/2028-01-31/
LOCATION:Manitoba
END:VEVENT
END:VCALENDAR