BEGIN:VCALENDAR
VERSION:2.0
PRODID:-//Grunthal Evangelical Bible Church - ECPv6.15.20//NONSGML v1.0//EN
CALSCALE:GREGORIAN
METHOD:PUBLISH
X-ORIGINAL-URL:https://grunthalebc.ca
X-WR-CALDESC:Events for Grunthal Evangelical Bible Church
REFRESH-INTERVAL;VALUE=DURATION:PT1H
X-Robots-Tag:noindex
X-PUBLISHED-TTL:PT1H
BEGIN:VTIMEZONE
TZID:UTC
BEGIN:STANDARD
TZOFFSETFROM:+0000
TZOFFSETTO:+0000
TZNAME:UTC
DTSTART:20260101T000000
END:STANDARD
END:VTIMEZONE
BEGIN:VEVENT
DTSTART;TZID=UTC:20271001T193000
DTEND;TZID=UTC:20271001T220000
DTSTAMP:20260421T182137
CREATED:20260226T211214Z
LAST-MODIFIED:20260226T211214Z
UID:10006994-1822419000-1822428000@grunthalebc.ca
SUMMARY:Senior Youth
DESCRIPTION:Grade 10-12 youth night! Games\, a devotional and snack. Pick up at 10 pm.
URL:https://grunthalebc.ca/event/senior-youth-2/2027-10-01/
LOCATION:Grunthal EBC\, 84 Oak Ave\, Grunthal\, Manitoba\, Canada
END:VEVENT
BEGIN:VEVENT
DTSTART;TZID=UTC:20271004T203000
DTEND;TZID=UTC:20271004T223000
DTSTAMP:20260421T182137
CREATED:20250919T144433Z
LAST-MODIFIED:20251218T153448Z
UID:10006600-1822681800-1822689000@grunthalebc.ca
SUMMARY:Men's Bible Study
DESCRIPTION:All men are invited for a Bible study! It’s a great time to connect and dive deeper into God’s Word.
URL:https://grunthalebc.ca/event/mens-bible-study/2027-10-04/
LOCATION:Manitoba
END:VEVENT
BEGIN:VEVENT
DTSTART;TZID=UTC:20271006T100000
DTEND;TZID=UTC:20271006T113000
DTSTAMP:20260421T182137
CREATED:20250605T164059Z
LAST-MODIFIED:20251218T153852Z
UID:10005461-1822816800-1822822200@grunthalebc.ca
SUMMARY:55+ Coffee & Fellowship
DESCRIPTION:Join us at church if you’re 55+ for coffee and fellowship!
URL:https://grunthalebc.ca/event/55-coffee-fellowship/2027-10-06/
LOCATION:Grunthal EBC\, 84 Oak Ave\, Grunthal\, Manitoba\, Canada
END:VEVENT
BEGIN:VEVENT
DTSTART;TZID=UTC:20271007T190000
DTEND;TZID=UTC:20271007T204500
DTSTAMP:20260421T182137
CREATED:20260226T211142Z
LAST-MODIFIED:20260226T211518Z
UID:10007264-1822935600-1822941900@grunthalebc.ca
SUMMARY:Junior Youth
DESCRIPTION:Grade 7-9 youth night! Games\, a devotional and snacks. Pick up at 8:45pm.
URL:https://grunthalebc.ca/event/junior-youth-2/2027-10-07/
LOCATION:Grunthal EBC\, 84 Oak Ave\, Grunthal\, Manitoba\, Canada
END:VEVENT
BEGIN:VEVENT
DTSTART;TZID=UTC:20271008T093000
DTEND;TZID=UTC:20271008T110000
DTSTAMP:20260421T182137
CREATED:20260106T194428Z
LAST-MODIFIED:20260106T194429Z
UID:10007532-1822987800-1822993200@grunthalebc.ca
SUMMARY:Women's Bible Study
DESCRIPTION:Join Beth Fast as she takes us through God’s Word. Babysitting is available! \n 
URL:https://grunthalebc.ca/event/womens-bible-study-2/2027-10-08/
LOCATION:Grunthal EBC\, 84 Oak Ave\, Grunthal\, Manitoba\, Canada
END:VEVENT
BEGIN:VEVENT
DTSTART;TZID=UTC:20271008T193000
DTEND;TZID=UTC:20271008T220000
DTSTAMP:20260421T182137
CREATED:20260226T211214Z
LAST-MODIFIED:20260226T211214Z
UID:10006995-1823023800-1823032800@grunthalebc.ca
SUMMARY:Senior Youth
DESCRIPTION:Grade 10-12 youth night! Games\, a devotional and snack. Pick up at 10 pm.
URL:https://grunthalebc.ca/event/senior-youth-2/2027-10-08/
LOCATION:Grunthal EBC\, 84 Oak Ave\, Grunthal\, Manitoba\, Canada
END:VEVENT
BEGIN:VEVENT
DTSTART;TZID=UTC:20271011T203000
DTEND;TZID=UTC:20271011T223000
DTSTAMP:20260421T182137
CREATED:20250919T144433Z
LAST-MODIFIED:20251218T153448Z
UID:10006601-1823286600-1823293800@grunthalebc.ca
SUMMARY:Men's Bible Study
DESCRIPTION:All men are invited for a Bible study! It’s a great time to connect and dive deeper into God’s Word.
URL:https://grunthalebc.ca/event/mens-bible-study/2027-10-11/
LOCATION:Manitoba
END:VEVENT
BEGIN:VEVENT
DTSTART;TZID=UTC:20271013T100000
DTEND;TZID=UTC:20271013T113000
DTSTAMP:20260421T182137
CREATED:20250605T164059Z
LAST-MODIFIED:20251218T153852Z
UID:10005462-1823421600-1823427000@grunthalebc.ca
SUMMARY:55+ Coffee & Fellowship
DESCRIPTION:Join us at church if you’re 55+ for coffee and fellowship!
URL:https://grunthalebc.ca/event/55-coffee-fellowship/2027-10-13/
LOCATION:Grunthal EBC\, 84 Oak Ave\, Grunthal\, Manitoba\, Canada
END:VEVENT
BEGIN:VEVENT
DTSTART;TZID=UTC:20271014T190000
DTEND;TZID=UTC:20271014T204500
DTSTAMP:20260421T182137
CREATED:20260226T211142Z
LAST-MODIFIED:20260226T211518Z
UID:10007265-1823540400-1823546700@grunthalebc.ca
SUMMARY:Junior Youth
DESCRIPTION:Grade 7-9 youth night! Games\, a devotional and snacks. Pick up at 8:45pm.
URL:https://grunthalebc.ca/event/junior-youth-2/2027-10-14/
LOCATION:Grunthal EBC\, 84 Oak Ave\, Grunthal\, Manitoba\, Canada
END:VEVENT
BEGIN:VEVENT
DTSTART;TZID=UTC:20271014T190000
DTEND;TZID=UTC:20271014T210000
DTSTAMP:20260421T182137
CREATED:20250925T185237Z
LAST-MODIFIED:20251209T171314Z
UID:10006811-1823540400-1823547600@grunthalebc.ca
SUMMARY:College & Career
DESCRIPTION:All young adults are welcome to join us for a Bible Study and fellowship!
URL:https://grunthalebc.ca/event/college-career/2027-10-14/
LOCATION:Grunthal EBC\, 84 Oak Ave\, Grunthal\, Manitoba\, Canada
END:VEVENT
BEGIN:VEVENT
DTSTART;TZID=UTC:20271015T193000
DTEND;TZID=UTC:20271015T220000
DTSTAMP:20260421T182137
CREATED:20260226T211214Z
LAST-MODIFIED:20260226T211214Z
UID:10006996-1823628600-1823637600@grunthalebc.ca
SUMMARY:Senior Youth
DESCRIPTION:Grade 10-12 youth night! Games\, a devotional and snack. Pick up at 10 pm.
URL:https://grunthalebc.ca/event/senior-youth-2/2027-10-15/
LOCATION:Grunthal EBC\, 84 Oak Ave\, Grunthal\, Manitoba\, Canada
END:VEVENT
BEGIN:VEVENT
DTSTART;TZID=UTC:20271018T203000
DTEND;TZID=UTC:20271018T223000
DTSTAMP:20260421T182137
CREATED:20250919T144433Z
LAST-MODIFIED:20251218T153448Z
UID:10006602-1823891400-1823898600@grunthalebc.ca
SUMMARY:Men's Bible Study
DESCRIPTION:All men are invited for a Bible study! It’s a great time to connect and dive deeper into God’s Word.
URL:https://grunthalebc.ca/event/mens-bible-study/2027-10-18/
LOCATION:Manitoba
END:VEVENT
BEGIN:VEVENT
DTSTART;TZID=UTC:20271020T100000
DTEND;TZID=UTC:20271020T113000
DTSTAMP:20260421T182137
CREATED:20250605T164059Z
LAST-MODIFIED:20251218T153852Z
UID:10005463-1824026400-1824031800@grunthalebc.ca
SUMMARY:55+ Coffee & Fellowship
DESCRIPTION:Join us at church if you’re 55+ for coffee and fellowship!
URL:https://grunthalebc.ca/event/55-coffee-fellowship/2027-10-20/
LOCATION:Grunthal EBC\, 84 Oak Ave\, Grunthal\, Manitoba\, Canada
END:VEVENT
BEGIN:VEVENT
DTSTART;TZID=UTC:20271021T190000
DTEND;TZID=UTC:20271021T204500
DTSTAMP:20260421T182137
CREATED:20260226T211142Z
LAST-MODIFIED:20260226T211518Z
UID:10007266-1824145200-1824151500@grunthalebc.ca
SUMMARY:Junior Youth
DESCRIPTION:Grade 7-9 youth night! Games\, a devotional and snacks. Pick up at 8:45pm.
URL:https://grunthalebc.ca/event/junior-youth-2/2027-10-21/
LOCATION:Grunthal EBC\, 84 Oak Ave\, Grunthal\, Manitoba\, Canada
END:VEVENT
BEGIN:VEVENT
DTSTART;TZID=UTC:20271022T093000
DTEND;TZID=UTC:20271022T110000
DTSTAMP:20260421T182137
CREATED:20260106T194428Z
LAST-MODIFIED:20260106T194429Z
UID:10007533-1824197400-1824202800@grunthalebc.ca
SUMMARY:Women's Bible Study
DESCRIPTION:Join Beth Fast as she takes us through God’s Word. Babysitting is available! \n 
URL:https://grunthalebc.ca/event/womens-bible-study-2/2027-10-22/
LOCATION:Grunthal EBC\, 84 Oak Ave\, Grunthal\, Manitoba\, Canada
END:VEVENT
BEGIN:VEVENT
DTSTART;TZID=UTC:20271022T193000
DTEND;TZID=UTC:20271022T220000
DTSTAMP:20260421T182137
CREATED:20260226T211214Z
LAST-MODIFIED:20260226T211214Z
UID:10006997-1824233400-1824242400@grunthalebc.ca
SUMMARY:Senior Youth
DESCRIPTION:Grade 10-12 youth night! Games\, a devotional and snack. Pick up at 10 pm.
URL:https://grunthalebc.ca/event/senior-youth-2/2027-10-22/
LOCATION:Grunthal EBC\, 84 Oak Ave\, Grunthal\, Manitoba\, Canada
END:VEVENT
BEGIN:VEVENT
DTSTART;TZID=UTC:20271025T203000
DTEND;TZID=UTC:20271025T223000
DTSTAMP:20260421T182137
CREATED:20250919T144433Z
LAST-MODIFIED:20251218T153448Z
UID:10006603-1824496200-1824503400@grunthalebc.ca
SUMMARY:Men's Bible Study
DESCRIPTION:All men are invited for a Bible study! It’s a great time to connect and dive deeper into God’s Word.
URL:https://grunthalebc.ca/event/mens-bible-study/2027-10-25/
LOCATION:Manitoba
END:VEVENT
BEGIN:VEVENT
DTSTART;TZID=UTC:20271027T100000
DTEND;TZID=UTC:20271027T113000
DTSTAMP:20260421T182137
CREATED:20250605T164059Z
LAST-MODIFIED:20251218T153852Z
UID:10005464-1824631200-1824636600@grunthalebc.ca
SUMMARY:55+ Coffee & Fellowship
DESCRIPTION:Join us at church if you’re 55+ for coffee and fellowship!
URL:https://grunthalebc.ca/event/55-coffee-fellowship/2027-10-27/
LOCATION:Grunthal EBC\, 84 Oak Ave\, Grunthal\, Manitoba\, Canada
END:VEVENT
BEGIN:VEVENT
DTSTART;TZID=UTC:20271028T190000
DTEND;TZID=UTC:20271028T204500
DTSTAMP:20260421T182137
CREATED:20260226T211142Z
LAST-MODIFIED:20260226T211518Z
UID:10007267-1824750000-1824756300@grunthalebc.ca
SUMMARY:Junior Youth
DESCRIPTION:Grade 7-9 youth night! Games\, a devotional and snacks. Pick up at 8:45pm.
URL:https://grunthalebc.ca/event/junior-youth-2/2027-10-28/
LOCATION:Grunthal EBC\, 84 Oak Ave\, Grunthal\, Manitoba\, Canada
END:VEVENT
BEGIN:VEVENT
DTSTART;TZID=UTC:20271028T190000
DTEND;TZID=UTC:20271028T210000
DTSTAMP:20260421T182137
CREATED:20250925T185237Z
LAST-MODIFIED:20251209T171314Z
UID:10006812-1824750000-1824757200@grunthalebc.ca
SUMMARY:College & Career
DESCRIPTION:All young adults are welcome to join us for a Bible Study and fellowship!
URL:https://grunthalebc.ca/event/college-career/2027-10-28/
LOCATION:Grunthal EBC\, 84 Oak Ave\, Grunthal\, Manitoba\, Canada
END:VEVENT
BEGIN:VEVENT
DTSTART;TZID=UTC:20271029T193000
DTEND;TZID=UTC:20271029T220000
DTSTAMP:20260421T182137
CREATED:20260226T211214Z
LAST-MODIFIED:20260226T211214Z
UID:10006998-1824838200-1824847200@grunthalebc.ca
SUMMARY:Senior Youth
DESCRIPTION:Grade 10-12 youth night! Games\, a devotional and snack. Pick up at 10 pm.
URL:https://grunthalebc.ca/event/senior-youth-2/2027-10-29/
LOCATION:Grunthal EBC\, 84 Oak Ave\, Grunthal\, Manitoba\, Canada
END:VEVENT
END:VCALENDAR