BEGIN:VCALENDAR
VERSION:2.0
PRODID:-//Grunthal Evangelical Bible Church - ECPv6.15.20//NONSGML v1.0//EN
CALSCALE:GREGORIAN
METHOD:PUBLISH
X-ORIGINAL-URL:https://grunthalebc.ca
X-WR-CALDESC:Events for Grunthal Evangelical Bible Church
REFRESH-INTERVAL;VALUE=DURATION:PT1H
X-Robots-Tag:noindex
X-PUBLISHED-TTL:PT1H
BEGIN:VTIMEZONE
TZID:UTC
BEGIN:STANDARD
TZOFFSETFROM:+0000
TZOFFSETTO:+0000
TZNAME:UTC
DTSTART:20260101T000000
END:STANDARD
END:VTIMEZONE
BEGIN:VEVENT
DTSTART;TZID=UTC:20270701T190000
DTEND;TZID=UTC:20270701T204500
DTSTAMP:20260421T132424
CREATED:20260226T211142Z
LAST-MODIFIED:20260226T211518Z
UID:10007250-1814468400-1814474700@grunthalebc.ca
SUMMARY:Junior Youth
DESCRIPTION:Grade 7-9 youth night! Games\, a devotional and snacks. Pick up at 8:45pm.
URL:https://grunthalebc.ca/event/junior-youth-2/2027-07-01/
LOCATION:Grunthal EBC\, 84 Oak Ave\, Grunthal\, Manitoba\, Canada
END:VEVENT
BEGIN:VEVENT
DTSTART;TZID=UTC:20270702T093000
DTEND;TZID=UTC:20270702T110000
DTSTAMP:20260421T132424
CREATED:20260106T194428Z
LAST-MODIFIED:20260106T194429Z
UID:10007525-1814520600-1814526000@grunthalebc.ca
SUMMARY:Women's Bible Study
DESCRIPTION:Join Beth Fast as she takes us through God’s Word. Babysitting is available! \n 
URL:https://grunthalebc.ca/event/womens-bible-study-2/2027-07-02/
LOCATION:Grunthal EBC\, 84 Oak Ave\, Grunthal\, Manitoba\, Canada
END:VEVENT
BEGIN:VEVENT
DTSTART;TZID=UTC:20270702T193000
DTEND;TZID=UTC:20270702T220000
DTSTAMP:20260421T132424
CREATED:20260226T211214Z
LAST-MODIFIED:20260226T211214Z
UID:10006981-1814556600-1814565600@grunthalebc.ca
SUMMARY:Senior Youth
DESCRIPTION:Grade 10-12 youth night! Games\, a devotional and snack. Pick up at 10 pm.
URL:https://grunthalebc.ca/event/senior-youth-2/2027-07-02/
LOCATION:Grunthal EBC\, 84 Oak Ave\, Grunthal\, Manitoba\, Canada
END:VEVENT
BEGIN:VEVENT
DTSTART;TZID=UTC:20270705T203000
DTEND;TZID=UTC:20270705T223000
DTSTAMP:20260421T132424
CREATED:20250919T144433Z
LAST-MODIFIED:20251218T153448Z
UID:10006587-1814819400-1814826600@grunthalebc.ca
SUMMARY:Men's Bible Study
DESCRIPTION:All men are invited for a Bible study! It’s a great time to connect and dive deeper into God’s Word.
URL:https://grunthalebc.ca/event/mens-bible-study/2027-07-05/
LOCATION:Manitoba
END:VEVENT
BEGIN:VEVENT
DTSTART;TZID=UTC:20270707T100000
DTEND;TZID=UTC:20270707T113000
DTSTAMP:20260421T132424
CREATED:20250605T164059Z
LAST-MODIFIED:20251218T153852Z
UID:10005448-1814954400-1814959800@grunthalebc.ca
SUMMARY:55+ Coffee & Fellowship
DESCRIPTION:Join us at church if you’re 55+ for coffee and fellowship!
URL:https://grunthalebc.ca/event/55-coffee-fellowship/2027-07-07/
LOCATION:Grunthal EBC\, 84 Oak Ave\, Grunthal\, Manitoba\, Canada
END:VEVENT
BEGIN:VEVENT
DTSTART;TZID=UTC:20270708T190000
DTEND;TZID=UTC:20270708T204500
DTSTAMP:20260421T132424
CREATED:20260226T211142Z
LAST-MODIFIED:20260226T211518Z
UID:10007251-1815073200-1815079500@grunthalebc.ca
SUMMARY:Junior Youth
DESCRIPTION:Grade 7-9 youth night! Games\, a devotional and snacks. Pick up at 8:45pm.
URL:https://grunthalebc.ca/event/junior-youth-2/2027-07-08/
LOCATION:Grunthal EBC\, 84 Oak Ave\, Grunthal\, Manitoba\, Canada
END:VEVENT
BEGIN:VEVENT
DTSTART;TZID=UTC:20270708T190000
DTEND;TZID=UTC:20270708T210000
DTSTAMP:20260421T132424
CREATED:20250925T185237Z
LAST-MODIFIED:20251209T171314Z
UID:10006804-1815073200-1815080400@grunthalebc.ca
SUMMARY:College & Career
DESCRIPTION:All young adults are welcome to join us for a Bible Study and fellowship!
URL:https://grunthalebc.ca/event/college-career/2027-07-08/
LOCATION:Grunthal EBC\, 84 Oak Ave\, Grunthal\, Manitoba\, Canada
END:VEVENT
BEGIN:VEVENT
DTSTART;TZID=UTC:20270709T193000
DTEND;TZID=UTC:20270709T220000
DTSTAMP:20260421T132424
CREATED:20260226T211214Z
LAST-MODIFIED:20260226T211214Z
UID:10006982-1815161400-1815170400@grunthalebc.ca
SUMMARY:Senior Youth
DESCRIPTION:Grade 10-12 youth night! Games\, a devotional and snack. Pick up at 10 pm.
URL:https://grunthalebc.ca/event/senior-youth-2/2027-07-09/
LOCATION:Grunthal EBC\, 84 Oak Ave\, Grunthal\, Manitoba\, Canada
END:VEVENT
BEGIN:VEVENT
DTSTART;TZID=UTC:20270712T203000
DTEND;TZID=UTC:20270712T223000
DTSTAMP:20260421T132424
CREATED:20250919T144433Z
LAST-MODIFIED:20251218T153448Z
UID:10006588-1815424200-1815431400@grunthalebc.ca
SUMMARY:Men's Bible Study
DESCRIPTION:All men are invited for a Bible study! It’s a great time to connect and dive deeper into God’s Word.
URL:https://grunthalebc.ca/event/mens-bible-study/2027-07-12/
LOCATION:Manitoba
END:VEVENT
BEGIN:VEVENT
DTSTART;TZID=UTC:20270714T100000
DTEND;TZID=UTC:20270714T113000
DTSTAMP:20260421T132424
CREATED:20250605T164059Z
LAST-MODIFIED:20251218T153852Z
UID:10005449-1815559200-1815564600@grunthalebc.ca
SUMMARY:55+ Coffee & Fellowship
DESCRIPTION:Join us at church if you’re 55+ for coffee and fellowship!
URL:https://grunthalebc.ca/event/55-coffee-fellowship/2027-07-14/
LOCATION:Grunthal EBC\, 84 Oak Ave\, Grunthal\, Manitoba\, Canada
END:VEVENT
BEGIN:VEVENT
DTSTART;TZID=UTC:20270715T190000
DTEND;TZID=UTC:20270715T204500
DTSTAMP:20260421T132424
CREATED:20260226T211142Z
LAST-MODIFIED:20260226T211518Z
UID:10007252-1815678000-1815684300@grunthalebc.ca
SUMMARY:Junior Youth
DESCRIPTION:Grade 7-9 youth night! Games\, a devotional and snacks. Pick up at 8:45pm.
URL:https://grunthalebc.ca/event/junior-youth-2/2027-07-15/
LOCATION:Grunthal EBC\, 84 Oak Ave\, Grunthal\, Manitoba\, Canada
END:VEVENT
BEGIN:VEVENT
DTSTART;TZID=UTC:20270716T093000
DTEND;TZID=UTC:20270716T110000
DTSTAMP:20260421T132424
CREATED:20260106T194428Z
LAST-MODIFIED:20260106T194429Z
UID:10007526-1815730200-1815735600@grunthalebc.ca
SUMMARY:Women's Bible Study
DESCRIPTION:Join Beth Fast as she takes us through God’s Word. Babysitting is available! \n 
URL:https://grunthalebc.ca/event/womens-bible-study-2/2027-07-16/
LOCATION:Grunthal EBC\, 84 Oak Ave\, Grunthal\, Manitoba\, Canada
END:VEVENT
BEGIN:VEVENT
DTSTART;TZID=UTC:20270716T193000
DTEND;TZID=UTC:20270716T220000
DTSTAMP:20260421T132424
CREATED:20260226T211214Z
LAST-MODIFIED:20260226T211214Z
UID:10006983-1815766200-1815775200@grunthalebc.ca
SUMMARY:Senior Youth
DESCRIPTION:Grade 10-12 youth night! Games\, a devotional and snack. Pick up at 10 pm.
URL:https://grunthalebc.ca/event/senior-youth-2/2027-07-16/
LOCATION:Grunthal EBC\, 84 Oak Ave\, Grunthal\, Manitoba\, Canada
END:VEVENT
BEGIN:VEVENT
DTSTART;TZID=UTC:20270719T203000
DTEND;TZID=UTC:20270719T223000
DTSTAMP:20260421T132424
CREATED:20250919T144433Z
LAST-MODIFIED:20251218T153448Z
UID:10006589-1816029000-1816036200@grunthalebc.ca
SUMMARY:Men's Bible Study
DESCRIPTION:All men are invited for a Bible study! It’s a great time to connect and dive deeper into God’s Word.
URL:https://grunthalebc.ca/event/mens-bible-study/2027-07-19/
LOCATION:Manitoba
END:VEVENT
BEGIN:VEVENT
DTSTART;TZID=UTC:20270721T100000
DTEND;TZID=UTC:20270721T113000
DTSTAMP:20260421T132424
CREATED:20250605T164059Z
LAST-MODIFIED:20251218T153852Z
UID:10005450-1816164000-1816169400@grunthalebc.ca
SUMMARY:55+ Coffee & Fellowship
DESCRIPTION:Join us at church if you’re 55+ for coffee and fellowship!
URL:https://grunthalebc.ca/event/55-coffee-fellowship/2027-07-21/
LOCATION:Grunthal EBC\, 84 Oak Ave\, Grunthal\, Manitoba\, Canada
END:VEVENT
BEGIN:VEVENT
DTSTART;TZID=UTC:20270722T190000
DTEND;TZID=UTC:20270722T204500
DTSTAMP:20260421T132424
CREATED:20260226T211142Z
LAST-MODIFIED:20260226T211518Z
UID:10007253-1816282800-1816289100@grunthalebc.ca
SUMMARY:Junior Youth
DESCRIPTION:Grade 7-9 youth night! Games\, a devotional and snacks. Pick up at 8:45pm.
URL:https://grunthalebc.ca/event/junior-youth-2/2027-07-22/
LOCATION:Grunthal EBC\, 84 Oak Ave\, Grunthal\, Manitoba\, Canada
END:VEVENT
BEGIN:VEVENT
DTSTART;TZID=UTC:20270722T190000
DTEND;TZID=UTC:20270722T210000
DTSTAMP:20260421T132424
CREATED:20250925T185237Z
LAST-MODIFIED:20251209T171314Z
UID:10006805-1816282800-1816290000@grunthalebc.ca
SUMMARY:College & Career
DESCRIPTION:All young adults are welcome to join us for a Bible Study and fellowship!
URL:https://grunthalebc.ca/event/college-career/2027-07-22/
LOCATION:Grunthal EBC\, 84 Oak Ave\, Grunthal\, Manitoba\, Canada
END:VEVENT
BEGIN:VEVENT
DTSTART;TZID=UTC:20270723T193000
DTEND;TZID=UTC:20270723T220000
DTSTAMP:20260421T132424
CREATED:20260226T211214Z
LAST-MODIFIED:20260226T211214Z
UID:10006984-1816371000-1816380000@grunthalebc.ca
SUMMARY:Senior Youth
DESCRIPTION:Grade 10-12 youth night! Games\, a devotional and snack. Pick up at 10 pm.
URL:https://grunthalebc.ca/event/senior-youth-2/2027-07-23/
LOCATION:Grunthal EBC\, 84 Oak Ave\, Grunthal\, Manitoba\, Canada
END:VEVENT
BEGIN:VEVENT
DTSTART;TZID=UTC:20270726T203000
DTEND;TZID=UTC:20270726T223000
DTSTAMP:20260421T132424
CREATED:20250919T144433Z
LAST-MODIFIED:20251218T153448Z
UID:10006590-1816633800-1816641000@grunthalebc.ca
SUMMARY:Men's Bible Study
DESCRIPTION:All men are invited for a Bible study! It’s a great time to connect and dive deeper into God’s Word.
URL:https://grunthalebc.ca/event/mens-bible-study/2027-07-26/
LOCATION:Manitoba
END:VEVENT
BEGIN:VEVENT
DTSTART;TZID=UTC:20270728T100000
DTEND;TZID=UTC:20270728T113000
DTSTAMP:20260421T132424
CREATED:20250605T164059Z
LAST-MODIFIED:20251218T153852Z
UID:10005451-1816768800-1816774200@grunthalebc.ca
SUMMARY:55+ Coffee & Fellowship
DESCRIPTION:Join us at church if you’re 55+ for coffee and fellowship!
URL:https://grunthalebc.ca/event/55-coffee-fellowship/2027-07-28/
LOCATION:Grunthal EBC\, 84 Oak Ave\, Grunthal\, Manitoba\, Canada
END:VEVENT
BEGIN:VEVENT
DTSTART;TZID=UTC:20270729T190000
DTEND;TZID=UTC:20270729T204500
DTSTAMP:20260421T132424
CREATED:20260226T211142Z
LAST-MODIFIED:20260226T211518Z
UID:10007254-1816887600-1816893900@grunthalebc.ca
SUMMARY:Junior Youth
DESCRIPTION:Grade 7-9 youth night! Games\, a devotional and snacks. Pick up at 8:45pm.
URL:https://grunthalebc.ca/event/junior-youth-2/2027-07-29/
LOCATION:Grunthal EBC\, 84 Oak Ave\, Grunthal\, Manitoba\, Canada
END:VEVENT
BEGIN:VEVENT
DTSTART;TZID=UTC:20270730T093000
DTEND;TZID=UTC:20270730T110000
DTSTAMP:20260421T132424
CREATED:20260106T194428Z
LAST-MODIFIED:20260106T194429Z
UID:10007527-1816939800-1816945200@grunthalebc.ca
SUMMARY:Women's Bible Study
DESCRIPTION:Join Beth Fast as she takes us through God’s Word. Babysitting is available! \n 
URL:https://grunthalebc.ca/event/womens-bible-study-2/2027-07-30/
LOCATION:Grunthal EBC\, 84 Oak Ave\, Grunthal\, Manitoba\, Canada
END:VEVENT
BEGIN:VEVENT
DTSTART;TZID=UTC:20270730T193000
DTEND;TZID=UTC:20270730T220000
DTSTAMP:20260421T132424
CREATED:20260226T211214Z
LAST-MODIFIED:20260226T211214Z
UID:10006985-1816975800-1816984800@grunthalebc.ca
SUMMARY:Senior Youth
DESCRIPTION:Grade 10-12 youth night! Games\, a devotional and snack. Pick up at 10 pm.
URL:https://grunthalebc.ca/event/senior-youth-2/2027-07-30/
LOCATION:Grunthal EBC\, 84 Oak Ave\, Grunthal\, Manitoba\, Canada
END:VEVENT
END:VCALENDAR