BEGIN:VCALENDAR
VERSION:2.0
PRODID:-//Grunthal Evangelical Bible Church - ECPv6.15.20//NONSGML v1.0//EN
CALSCALE:GREGORIAN
METHOD:PUBLISH
X-WR-CALNAME:Grunthal Evangelical Bible Church
X-ORIGINAL-URL:https://grunthalebc.ca
X-WR-CALDESC:Events for Grunthal Evangelical Bible Church
REFRESH-INTERVAL;VALUE=DURATION:PT1H
X-Robots-Tag:noindex
X-PUBLISHED-TTL:PT1H
BEGIN:VTIMEZONE
TZID:UTC
BEGIN:STANDARD
TZOFFSETFROM:+0000
TZOFFSETTO:+0000
TZNAME:UTC
DTSTART:20260101T000000
END:STANDARD
END:VTIMEZONE
BEGIN:VEVENT
DTSTART;TZID=UTC:20270602T100000
DTEND;TZID=UTC:20270602T113000
DTSTAMP:20260421T114939
CREATED:20250605T164059Z
LAST-MODIFIED:20251218T153852Z
UID:10005443-1811930400-1811935800@grunthalebc.ca
SUMMARY:55+ Coffee & Fellowship
DESCRIPTION:Join us at church if you’re 55+ for coffee and fellowship!
URL:https://grunthalebc.ca/event/55-coffee-fellowship/2027-06-02/
LOCATION:Grunthal EBC\, 84 Oak Ave\, Grunthal\, Manitoba\, Canada
END:VEVENT
BEGIN:VEVENT
DTSTART;TZID=UTC:20270603T190000
DTEND;TZID=UTC:20270603T204500
DTSTAMP:20260421T114939
CREATED:20260226T211142Z
LAST-MODIFIED:20260226T211518Z
UID:10007246-1812049200-1812055500@grunthalebc.ca
SUMMARY:Junior Youth
DESCRIPTION:Grade 7-9 youth night! Games\, a devotional and snacks. Pick up at 8:45pm.
URL:https://grunthalebc.ca/event/junior-youth-2/2027-06-03/
LOCATION:Grunthal EBC\, 84 Oak Ave\, Grunthal\, Manitoba\, Canada
END:VEVENT
BEGIN:VEVENT
DTSTART;TZID=UTC:20270604T093000
DTEND;TZID=UTC:20270604T110000
DTSTAMP:20260421T114939
CREATED:20260106T194428Z
LAST-MODIFIED:20260106T194429Z
UID:10007523-1812101400-1812106800@grunthalebc.ca
SUMMARY:Women's Bible Study
DESCRIPTION:Join Beth Fast as she takes us through God’s Word. Babysitting is available! \n 
URL:https://grunthalebc.ca/event/womens-bible-study-2/2027-06-04/
LOCATION:Grunthal EBC\, 84 Oak Ave\, Grunthal\, Manitoba\, Canada
END:VEVENT
BEGIN:VEVENT
DTSTART;TZID=UTC:20270604T193000
DTEND;TZID=UTC:20270604T220000
DTSTAMP:20260421T114939
CREATED:20260226T211214Z
LAST-MODIFIED:20260226T211214Z
UID:10006977-1812137400-1812146400@grunthalebc.ca
SUMMARY:Senior Youth
DESCRIPTION:Grade 10-12 youth night! Games\, a devotional and snack. Pick up at 10 pm.
URL:https://grunthalebc.ca/event/senior-youth-2/2027-06-04/
LOCATION:Grunthal EBC\, 84 Oak Ave\, Grunthal\, Manitoba\, Canada
END:VEVENT
BEGIN:VEVENT
DTSTART;TZID=UTC:20270607T203000
DTEND;TZID=UTC:20270607T223000
DTSTAMP:20260421T114939
CREATED:20250919T144433Z
LAST-MODIFIED:20251218T153448Z
UID:10006583-1812400200-1812407400@grunthalebc.ca
SUMMARY:Men's Bible Study
DESCRIPTION:All men are invited for a Bible study! It’s a great time to connect and dive deeper into God’s Word.
URL:https://grunthalebc.ca/event/mens-bible-study/2027-06-07/
LOCATION:Manitoba
END:VEVENT
BEGIN:VEVENT
DTSTART;TZID=UTC:20270609T100000
DTEND;TZID=UTC:20270609T113000
DTSTAMP:20260421T114939
CREATED:20250605T164059Z
LAST-MODIFIED:20251218T153852Z
UID:10005444-1812535200-1812540600@grunthalebc.ca
SUMMARY:55+ Coffee & Fellowship
DESCRIPTION:Join us at church if you’re 55+ for coffee and fellowship!
URL:https://grunthalebc.ca/event/55-coffee-fellowship/2027-06-09/
LOCATION:Grunthal EBC\, 84 Oak Ave\, Grunthal\, Manitoba\, Canada
END:VEVENT
BEGIN:VEVENT
DTSTART;TZID=UTC:20270610T190000
DTEND;TZID=UTC:20270610T204500
DTSTAMP:20260421T114939
CREATED:20260226T211142Z
LAST-MODIFIED:20260226T211518Z
UID:10007247-1812654000-1812660300@grunthalebc.ca
SUMMARY:Junior Youth
DESCRIPTION:Grade 7-9 youth night! Games\, a devotional and snacks. Pick up at 8:45pm.
URL:https://grunthalebc.ca/event/junior-youth-2/2027-06-10/
LOCATION:Grunthal EBC\, 84 Oak Ave\, Grunthal\, Manitoba\, Canada
END:VEVENT
BEGIN:VEVENT
DTSTART;TZID=UTC:20270610T190000
DTEND;TZID=UTC:20270610T210000
DTSTAMP:20260421T114939
CREATED:20250925T185237Z
LAST-MODIFIED:20251209T171314Z
UID:10006802-1812654000-1812661200@grunthalebc.ca
SUMMARY:College & Career
DESCRIPTION:All young adults are welcome to join us for a Bible Study and fellowship!
URL:https://grunthalebc.ca/event/college-career/2027-06-10/
LOCATION:Grunthal EBC\, 84 Oak Ave\, Grunthal\, Manitoba\, Canada
END:VEVENT
BEGIN:VEVENT
DTSTART;TZID=UTC:20270611T193000
DTEND;TZID=UTC:20270611T220000
DTSTAMP:20260421T114939
CREATED:20260226T211214Z
LAST-MODIFIED:20260226T211214Z
UID:10006978-1812742200-1812751200@grunthalebc.ca
SUMMARY:Senior Youth
DESCRIPTION:Grade 10-12 youth night! Games\, a devotional and snack. Pick up at 10 pm.
URL:https://grunthalebc.ca/event/senior-youth-2/2027-06-11/
LOCATION:Grunthal EBC\, 84 Oak Ave\, Grunthal\, Manitoba\, Canada
END:VEVENT
BEGIN:VEVENT
DTSTART;TZID=UTC:20270614T203000
DTEND;TZID=UTC:20270614T223000
DTSTAMP:20260421T114939
CREATED:20250919T144433Z
LAST-MODIFIED:20251218T153448Z
UID:10006584-1813005000-1813012200@grunthalebc.ca
SUMMARY:Men's Bible Study
DESCRIPTION:All men are invited for a Bible study! It’s a great time to connect and dive deeper into God’s Word.
URL:https://grunthalebc.ca/event/mens-bible-study/2027-06-14/
LOCATION:Manitoba
END:VEVENT
BEGIN:VEVENT
DTSTART;TZID=UTC:20270616T100000
DTEND;TZID=UTC:20270616T113000
DTSTAMP:20260421T114939
CREATED:20250605T164059Z
LAST-MODIFIED:20251218T153852Z
UID:10005445-1813140000-1813145400@grunthalebc.ca
SUMMARY:55+ Coffee & Fellowship
DESCRIPTION:Join us at church if you’re 55+ for coffee and fellowship!
URL:https://grunthalebc.ca/event/55-coffee-fellowship/2027-06-16/
LOCATION:Grunthal EBC\, 84 Oak Ave\, Grunthal\, Manitoba\, Canada
END:VEVENT
BEGIN:VEVENT
DTSTART;TZID=UTC:20270617T190000
DTEND;TZID=UTC:20270617T204500
DTSTAMP:20260421T114939
CREATED:20260226T211142Z
LAST-MODIFIED:20260226T211518Z
UID:10007248-1813258800-1813265100@grunthalebc.ca
SUMMARY:Junior Youth
DESCRIPTION:Grade 7-9 youth night! Games\, a devotional and snacks. Pick up at 8:45pm.
URL:https://grunthalebc.ca/event/junior-youth-2/2027-06-17/
LOCATION:Grunthal EBC\, 84 Oak Ave\, Grunthal\, Manitoba\, Canada
END:VEVENT
BEGIN:VEVENT
DTSTART;TZID=UTC:20270618T093000
DTEND;TZID=UTC:20270618T110000
DTSTAMP:20260421T114939
CREATED:20260106T194428Z
LAST-MODIFIED:20260106T194429Z
UID:10007524-1813311000-1813316400@grunthalebc.ca
SUMMARY:Women's Bible Study
DESCRIPTION:Join Beth Fast as she takes us through God’s Word. Babysitting is available! \n 
URL:https://grunthalebc.ca/event/womens-bible-study-2/2027-06-18/
LOCATION:Grunthal EBC\, 84 Oak Ave\, Grunthal\, Manitoba\, Canada
END:VEVENT
BEGIN:VEVENT
DTSTART;TZID=UTC:20270618T193000
DTEND;TZID=UTC:20270618T220000
DTSTAMP:20260421T114939
CREATED:20260226T211214Z
LAST-MODIFIED:20260226T211214Z
UID:10006979-1813347000-1813356000@grunthalebc.ca
SUMMARY:Senior Youth
DESCRIPTION:Grade 10-12 youth night! Games\, a devotional and snack. Pick up at 10 pm.
URL:https://grunthalebc.ca/event/senior-youth-2/2027-06-18/
LOCATION:Grunthal EBC\, 84 Oak Ave\, Grunthal\, Manitoba\, Canada
END:VEVENT
BEGIN:VEVENT
DTSTART;TZID=UTC:20270621T203000
DTEND;TZID=UTC:20270621T223000
DTSTAMP:20260421T114939
CREATED:20250919T144433Z
LAST-MODIFIED:20251218T153448Z
UID:10006585-1813609800-1813617000@grunthalebc.ca
SUMMARY:Men's Bible Study
DESCRIPTION:All men are invited for a Bible study! It’s a great time to connect and dive deeper into God’s Word.
URL:https://grunthalebc.ca/event/mens-bible-study/2027-06-21/
LOCATION:Manitoba
END:VEVENT
BEGIN:VEVENT
DTSTART;TZID=UTC:20270623T100000
DTEND;TZID=UTC:20270623T113000
DTSTAMP:20260421T114939
CREATED:20250605T164059Z
LAST-MODIFIED:20251218T153852Z
UID:10005446-1813744800-1813750200@grunthalebc.ca
SUMMARY:55+ Coffee & Fellowship
DESCRIPTION:Join us at church if you’re 55+ for coffee and fellowship!
URL:https://grunthalebc.ca/event/55-coffee-fellowship/2027-06-23/
LOCATION:Grunthal EBC\, 84 Oak Ave\, Grunthal\, Manitoba\, Canada
END:VEVENT
BEGIN:VEVENT
DTSTART;TZID=UTC:20270624T190000
DTEND;TZID=UTC:20270624T204500
DTSTAMP:20260421T114939
CREATED:20260226T211142Z
LAST-MODIFIED:20260226T211518Z
UID:10007249-1813863600-1813869900@grunthalebc.ca
SUMMARY:Junior Youth
DESCRIPTION:Grade 7-9 youth night! Games\, a devotional and snacks. Pick up at 8:45pm.
URL:https://grunthalebc.ca/event/junior-youth-2/2027-06-24/
LOCATION:Grunthal EBC\, 84 Oak Ave\, Grunthal\, Manitoba\, Canada
END:VEVENT
BEGIN:VEVENT
DTSTART;TZID=UTC:20270624T190000
DTEND;TZID=UTC:20270624T210000
DTSTAMP:20260421T114939
CREATED:20250925T185237Z
LAST-MODIFIED:20251209T171314Z
UID:10006803-1813863600-1813870800@grunthalebc.ca
SUMMARY:College & Career
DESCRIPTION:All young adults are welcome to join us for a Bible Study and fellowship!
URL:https://grunthalebc.ca/event/college-career/2027-06-24/
LOCATION:Grunthal EBC\, 84 Oak Ave\, Grunthal\, Manitoba\, Canada
END:VEVENT
BEGIN:VEVENT
DTSTART;TZID=UTC:20270625T193000
DTEND;TZID=UTC:20270625T220000
DTSTAMP:20260421T114939
CREATED:20260226T211214Z
LAST-MODIFIED:20260226T211214Z
UID:10006980-1813951800-1813960800@grunthalebc.ca
SUMMARY:Senior Youth
DESCRIPTION:Grade 10-12 youth night! Games\, a devotional and snack. Pick up at 10 pm.
URL:https://grunthalebc.ca/event/senior-youth-2/2027-06-25/
LOCATION:Grunthal EBC\, 84 Oak Ave\, Grunthal\, Manitoba\, Canada
END:VEVENT
BEGIN:VEVENT
DTSTART;TZID=UTC:20270628T203000
DTEND;TZID=UTC:20270628T223000
DTSTAMP:20260421T114939
CREATED:20250919T144433Z
LAST-MODIFIED:20251218T153448Z
UID:10006586-1814214600-1814221800@grunthalebc.ca
SUMMARY:Men's Bible Study
DESCRIPTION:All men are invited for a Bible study! It’s a great time to connect and dive deeper into God’s Word.
URL:https://grunthalebc.ca/event/mens-bible-study/2027-06-28/
LOCATION:Manitoba
END:VEVENT
BEGIN:VEVENT
DTSTART;TZID=UTC:20270630T100000
DTEND;TZID=UTC:20270630T113000
DTSTAMP:20260421T114939
CREATED:20250605T164059Z
LAST-MODIFIED:20251218T153852Z
UID:10005447-1814349600-1814355000@grunthalebc.ca
SUMMARY:55+ Coffee & Fellowship
DESCRIPTION:Join us at church if you’re 55+ for coffee and fellowship!
URL:https://grunthalebc.ca/event/55-coffee-fellowship/2027-06-30/
LOCATION:Grunthal EBC\, 84 Oak Ave\, Grunthal\, Manitoba\, Canada
END:VEVENT
END:VCALENDAR